BEGIN:VCALENDAR
VERSION:2.0
PRODID:-//AFLabs urnik izvoz - mf//aflabs.si//SI
DTSTAMP:20260420T071944Z
NAME:UL MF urnik
REFRESH-INTERVAL:PT1H
SOURCE:https://afurnik-mf.dev.aflabs.org/teacher/35?day=2023-09-11&export=
 1
URL:https://afurnik-mf.dev.aflabs.org/teacher/35?day=2023-09-11&export=1
X-PUBLISHED-TTL:PT1H
X-WR-CALNAME:UL MF urnik
X-WR-TIMEZONE:Europe/Ljubljana
BEGIN:VTIMEZONE
TZID:Europe/Ljubljana
BEGIN:DAYLIGHT
DTSTART:20260329T020000
RDATE:20260329T020000
RDATE:20270328T020000
TZNAME:CEST
TZOFFSETFROM:+0100
TZOFFSETTO:+0200
END:DAYLIGHT
BEGIN:STANDARD
DTSTART:20261025T030000
RDATE:20261025T030000
RDATE:20271031T030000
TZNAME:CET
TZOFFSETFROM:+0200
TZOFFSETTO:+0100
END:STANDARD
END:VTIMEZONE
BEGIN:VEVENT
SUMMARY:Ustne bolezni in parodontologija 3 (UBPAR3)\, Predavanje (P)\, [D6
 -01\, D6-02\, D6-03\, D6-04\, D6-05\, D6-06]
DTSTART;TZID=Europe/Ljubljana:20231002T130000
DTEND;TZID=Europe/Ljubljana:20231002T140000
DTSTAMP:20260420T071944Z
UID:mf-AFLABS-URNIK:premaknjeno-srecanje:9267
ATTENDEE:6. LETNIK (EMŠ DM)
CATEGORIES:Entry,Standard
COLOR:darkgreen
DESCRIPTION:Predmet: Ustne bolezni in parodontologija 3 (UBPAR3)\, Predava
 nje (P)\, [D6-01\, D6-02\, D6-03\, D6-04\, D6-05\, D6-06]\nLetniki: 6. LET
 NIK (EMŠ DM)\nIzvajalci: Katedra za ustne bolezni in paro KUBP\nProstor: 
 Pred - Stoma
LOCATION:Hrvatski trg 6\, Pred - Stoma
ORGANIZER:Katedra za ustne bolezni in paro KUBP
RELATED-TO:mf-AFLABS-URNIK:srecanje:1786
X-WR-TIMEZONE:Europe/Ljubljana
END:VEVENT
BEGIN:VEVENT
SUMMARY:Ustne bolezni in parodontologija 3 (UBPAR3)\, Predavanje (P)\, [D6
 -01\, D6-02\, D6-03\, D6-04\, D6-05\, D6-06]
DTSTART;TZID=Europe/Ljubljana:20231009T130000
DTEND;TZID=Europe/Ljubljana:20231009T140000
DTSTAMP:20260420T071944Z
UID:mf-AFLABS-URNIK:premaknjeno-srecanje:9268
ATTENDEE:6. LETNIK (EMŠ DM)
CATEGORIES:Entry,Standard
COLOR:darkgreen
DESCRIPTION:Predmet: Ustne bolezni in parodontologija 3 (UBPAR3)\, Predava
 nje (P)\, [D6-01\, D6-02\, D6-03\, D6-04\, D6-05\, D6-06]\nLetniki: 6. LET
 NIK (EMŠ DM)\nIzvajalci: Katedra za ustne bolezni in paro KUBP\nProstor: 
 Pred - Stoma
LOCATION:Hrvatski trg 6\, Pred - Stoma
ORGANIZER:Katedra za ustne bolezni in paro KUBP
RELATED-TO:mf-AFLABS-URNIK:srecanje:1786
X-WR-TIMEZONE:Europe/Ljubljana
END:VEVENT
BEGIN:VEVENT
SUMMARY:Ustne bolezni in parodontologija 3 (UBPAR3)\, Predavanje (P)\, [D6
 -01\, D6-02\, D6-03\, D6-04\, D6-05\, D6-06]
DTSTART;TZID=Europe/Ljubljana:20231016T130000
DTEND;TZID=Europe/Ljubljana:20231016T140000
DTSTAMP:20260420T071944Z
UID:mf-AFLABS-URNIK:premaknjeno-srecanje:9269
ATTENDEE:6. LETNIK (EMŠ DM)
CATEGORIES:Entry,Standard
COLOR:darkgreen
DESCRIPTION:Predmet: Ustne bolezni in parodontologija 3 (UBPAR3)\, Predava
 nje (P)\, [D6-01\, D6-02\, D6-03\, D6-04\, D6-05\, D6-06]\nLetniki: 6. LET
 NIK (EMŠ DM)\nIzvajalci: Katedra za ustne bolezni in paro KUBP\nProstor: 
 Pred - Stoma
LOCATION:Hrvatski trg 6\, Pred - Stoma
ORGANIZER:Katedra za ustne bolezni in paro KUBP
RELATED-TO:mf-AFLABS-URNIK:srecanje:1786
X-WR-TIMEZONE:Europe/Ljubljana
END:VEVENT
BEGIN:VEVENT
SUMMARY:Ustne bolezni in parodontologija 2 (UBPAR2)\, klinične vaje (kv)\
 , [D5-01\, D5-02\, D5-03]
DTSTART;TZID=Europe/Ljubljana:20231003T073000
DTEND;TZID=Europe/Ljubljana:20231003T123000
DTSTAMP:20260420T071944Z
UID:mf-AFLABS-URNIK:premaknjeno-srecanje:8277
ATTENDEE:5. LETNIK (EMŠ DM)
CATEGORIES:Entry,Standard
COLOR:darkgreen
DESCRIPTION:Predmet: Ustne bolezni in parodontologija 2 (UBPAR2)\, klinič
 ne vaje (kv)\, [D5-01\, D5-02\, D5-03]\nLetniki: 5. LETNIK (EMŠ DM)\nIzva
 jalci: Katedra za ustne bolezni in paro KUBP\nProstor: Vaj - KUBP - 20 - S
 toma - UKC
LOCATION:Hrvatski trg 6\, Vaj - KUBP - 20 - Stoma - UKC
ORGANIZER:Katedra za ustne bolezni in paro KUBP
RELATED-TO:mf-AFLABS-URNIK:srecanje:1646
X-WR-TIMEZONE:Europe/Ljubljana
END:VEVENT
BEGIN:VEVENT
SUMMARY:Ustne bolezni in parodontologija 2 (UBPAR2)\, klinične vaje (kv)\
 , [D5-01\, D5-02\, D5-03]
DTSTART;TZID=Europe/Ljubljana:20231010T073000
DTEND;TZID=Europe/Ljubljana:20231010T123000
DTSTAMP:20260420T071944Z
UID:mf-AFLABS-URNIK:premaknjeno-srecanje:8278
ATTENDEE:5. LETNIK (EMŠ DM)
CATEGORIES:Entry,Standard
COLOR:darkgreen
DESCRIPTION:Predmet: Ustne bolezni in parodontologija 2 (UBPAR2)\, klinič
 ne vaje (kv)\, [D5-01\, D5-02\, D5-03]\nLetniki: 5. LETNIK (EMŠ DM)\nIzva
 jalci: Katedra za ustne bolezni in paro KUBP\nProstor: Vaj - KUBP - 20 - S
 toma - UKC
LOCATION:Hrvatski trg 6\, Vaj - KUBP - 20 - Stoma - UKC
ORGANIZER:Katedra za ustne bolezni in paro KUBP
RELATED-TO:mf-AFLABS-URNIK:srecanje:1646
X-WR-TIMEZONE:Europe/Ljubljana
END:VEVENT
BEGIN:VEVENT
SUMMARY:Ustne bolezni in parodontologija 3 (UBPAR3)\, klinične vaje (kv)\
 , [D6-04\, D6-05\, D6-06]
DTSTART;TZID=Europe/Ljubljana:20231003T123000
DTEND;TZID=Europe/Ljubljana:20231003T180000
DTSTAMP:20260420T071944Z
UID:mf-AFLABS-URNIK:premaknjeno-srecanje:9297
ATTENDEE:6. LETNIK (EMŠ DM)
CATEGORIES:Entry,Standard
COLOR:darkgreen
DESCRIPTION:Predmet: Ustne bolezni in parodontologija 3 (UBPAR3)\, klinič
 ne vaje (kv)\, [D6-04\, D6-05\, D6-06]\nLetniki: 6. LETNIK (EMŠ DM)\nIzva
 jalci: Katedra za ustne bolezni in paro KUBP\nProstor: Vaj - KUBP - 20 - S
 toma - UKC
LOCATION:Hrvatski trg 6\, Vaj - KUBP - 20 - Stoma - UKC
ORGANIZER:Katedra za ustne bolezni in paro KUBP
RELATED-TO:mf-AFLABS-URNIK:srecanje:1788
X-WR-TIMEZONE:Europe/Ljubljana
END:VEVENT
BEGIN:VEVENT
SUMMARY:Ustne bolezni in parodontologija 3 (UBPAR3)\, klinične vaje (kv)\
 , [D6-04\, D6-05\, D6-06]
DTSTART;TZID=Europe/Ljubljana:20231010T123000
DTEND;TZID=Europe/Ljubljana:20231010T180000
DTSTAMP:20260420T071944Z
UID:mf-AFLABS-URNIK:premaknjeno-srecanje:9298
ATTENDEE:6. LETNIK (EMŠ DM)
CATEGORIES:Entry,Standard
COLOR:darkgreen
DESCRIPTION:Predmet: Ustne bolezni in parodontologija 3 (UBPAR3)\, klinič
 ne vaje (kv)\, [D6-04\, D6-05\, D6-06]\nLetniki: 6. LETNIK (EMŠ DM)\nIzva
 jalci: Katedra za ustne bolezni in paro KUBP\nProstor: Vaj - KUBP - 20 - S
 toma - UKC
LOCATION:Hrvatski trg 6\, Vaj - KUBP - 20 - Stoma - UKC
ORGANIZER:Katedra za ustne bolezni in paro KUBP
RELATED-TO:mf-AFLABS-URNIK:srecanje:1788
X-WR-TIMEZONE:Europe/Ljubljana
END:VEVENT
BEGIN:VEVENT
SUMMARY:Stomatološka propedevtika (STPRO)\, Predavanje (P)\, [D4-01\, D4-
 02\, D4-03\, D4-04\, D4-05\, D4-06]
DTSTART;TZID=Europe/Ljubljana:20231004T080000
DTEND;TZID=Europe/Ljubljana:20231004T100000
DTSTAMP:20260420T071944Z
UID:mf-AFLABS-URNIK:premaknjeno-srecanje:7063
ATTENDEE:4. LETNIK (EMŠ DM)
CATEGORIES:Entry,Standard
COLOR:darkgreen
DESCRIPTION:Predmet: Stomatološka propedevtika (STPRO)\, Predavanje (P)\,
  [D4-01\, D4-02\, D4-03\, D4-04\, D4-05\, D4-06]\nLetniki: 4. LETNIK (EMŠ
  DM)\nIzvajalci: Katedra za čeljustno in zobno or KČZO\, Katedra za otro
 ško in preventivn KOPZ\, Katedra za stomatološko protetik KSP\, Katedra 
 za ustne bolezni in paro KUBP\, Katedra za zobne bolezni in norm KZBNMZO\n
 Prostor: Pred - Stoma
LOCATION:Hrvatski trg 6\, Pred - Stoma
ORGANIZER:Katedra za čeljustno in zobno or KČZO, Katedra za otroško in 
 preventivn KOPZ, Katedra za stomatološko protetik KSP, Katedra za ustne b
 olezni in paro KUBP, Katedra za zobne bolezni in norm KZBNMZO
RELATED-TO:mf-AFLABS-URNIK:srecanje:1318
X-WR-TIMEZONE:Europe/Ljubljana
END:VEVENT
BEGIN:VEVENT
SUMMARY:Stomatološka propedevtika (STPRO)\, Predavanje (P)\, [D4-01\, D4-
 02\, D4-03\, D4-04\, D4-05\, D4-06]
DTSTART;TZID=Europe/Ljubljana:20231011T080000
DTEND;TZID=Europe/Ljubljana:20231011T100000
DTSTAMP:20260420T071944Z
UID:mf-AFLABS-URNIK:premaknjeno-srecanje:7064
ATTENDEE:4. LETNIK (EMŠ DM)
CATEGORIES:Entry,Standard
COLOR:darkgreen
DESCRIPTION:Predmet: Stomatološka propedevtika (STPRO)\, Predavanje (P)\,
  [D4-01\, D4-02\, D4-03\, D4-04\, D4-05\, D4-06]\nLetniki: 4. LETNIK (EMŠ
  DM)\nIzvajalci: Katedra za čeljustno in zobno or KČZO\, Katedra za otro
 ško in preventivn KOPZ\, Katedra za stomatološko protetik KSP\, Katedra 
 za ustne bolezni in paro KUBP\, Katedra za zobne bolezni in norm KZBNMZO\n
 Prostor: Pred - Stoma
LOCATION:Hrvatski trg 6\, Pred - Stoma
ORGANIZER:Katedra za čeljustno in zobno or KČZO, Katedra za otroško in 
 preventivn KOPZ, Katedra za stomatološko protetik KSP, Katedra za ustne b
 olezni in paro KUBP, Katedra za zobne bolezni in norm KZBNMZO
RELATED-TO:mf-AFLABS-URNIK:srecanje:1318
X-WR-TIMEZONE:Europe/Ljubljana
END:VEVENT
BEGIN:VEVENT
SUMMARY:Stomatološka propedevtika (STPRO)\, Seminar (S)\, [D4-01\, D4-02\
 , D4-03\, D4-04\, D4-05\, D4-06]
DTSTART;TZID=Europe/Ljubljana:20231004T100000
DTEND;TZID=Europe/Ljubljana:20231004T130000
DTSTAMP:20260420T071944Z
UID:mf-AFLABS-URNIK:premaknjeno-srecanje:7078
ATTENDEE:4. LETNIK (EMŠ DM)
CATEGORIES:Entry,Standard
COLOR:darkgreen
DESCRIPTION:Predmet: Stomatološka propedevtika (STPRO)\, Seminar (S)\, [D
 4-01\, D4-02\, D4-03\, D4-04\, D4-05\, D4-06]\nLetniki: 4. LETNIK (EMŠ DM
 )\nIzvajalci: Katedra za čeljustno in zobno or KČZO\, Katedra za otrošk
 o in preventivn KOPZ\, Katedra za stomatološko protetik KSP\, Katedra za 
 ustne bolezni in paro KUBP\, Katedra za zobne bolezni in norm KZBNMZO\nPro
 stor: Pred - Stoma
LOCATION:Hrvatski trg 6\, Pred - Stoma
ORGANIZER:Katedra za čeljustno in zobno or KČZO, Katedra za otroško in 
 preventivn KOPZ, Katedra za stomatološko protetik KSP, Katedra za ustne b
 olezni in paro KUBP, Katedra za zobne bolezni in norm KZBNMZO
RELATED-TO:mf-AFLABS-URNIK:srecanje:1319
X-WR-TIMEZONE:Europe/Ljubljana
END:VEVENT
BEGIN:VEVENT
SUMMARY:Stomatološka propedevtika (STPRO)\, Seminar (S)\, [D4-01\, D4-02\
 , D4-03\, D4-04\, D4-05\, D4-06]
DTSTART;TZID=Europe/Ljubljana:20231011T100000
DTEND;TZID=Europe/Ljubljana:20231011T130000
DTSTAMP:20260420T071944Z
UID:mf-AFLABS-URNIK:premaknjeno-srecanje:7079
ATTENDEE:4. LETNIK (EMŠ DM)
CATEGORIES:Entry,Standard
COLOR:darkgreen
DESCRIPTION:Predmet: Stomatološka propedevtika (STPRO)\, Seminar (S)\, [D
 4-01\, D4-02\, D4-03\, D4-04\, D4-05\, D4-06]\nLetniki: 4. LETNIK (EMŠ DM
 )\nIzvajalci: Katedra za čeljustno in zobno or KČZO\, Katedra za otrošk
 o in preventivn KOPZ\, Katedra za stomatološko protetik KSP\, Katedra za 
 ustne bolezni in paro KUBP\, Katedra za zobne bolezni in norm KZBNMZO\nPro
 stor: Pred - Stoma
LOCATION:Hrvatski trg 6\, Pred - Stoma
ORGANIZER:Katedra za čeljustno in zobno or KČZO, Katedra za otroško in 
 preventivn KOPZ, Katedra za stomatološko protetik KSP, Katedra za ustne b
 olezni in paro KUBP, Katedra za zobne bolezni in norm KZBNMZO
RELATED-TO:mf-AFLABS-URNIK:srecanje:1319
X-WR-TIMEZONE:Europe/Ljubljana
END:VEVENT
BEGIN:VEVENT
SUMMARY:Ustne bolezni in parodontologija 2 (UBPAR2)\, klinične vaje (kv)\
 , [D5-04\, D5-05\, D5-06]
DTSTART;TZID=Europe/Ljubljana:20231004T073000
DTEND;TZID=Europe/Ljubljana:20231004T123000
DTSTAMP:20260420T071944Z
UID:mf-AFLABS-URNIK:premaknjeno-srecanje:8292
ATTENDEE:5. LETNIK (EMŠ DM)
CATEGORIES:Entry,Standard
COLOR:darkgreen
DESCRIPTION:Predmet: Ustne bolezni in parodontologija 2 (UBPAR2)\, klinič
 ne vaje (kv)\, [D5-04\, D5-05\, D5-06]\nLetniki: 5. LETNIK (EMŠ DM)\nIzva
 jalci: Katedra za ustne bolezni in paro KUBP\nProstor: Vaj - KUBP - 20 - S
 toma - UKC
LOCATION:Hrvatski trg 6\, Vaj - KUBP - 20 - Stoma - UKC
ORGANIZER:Katedra za ustne bolezni in paro KUBP
RELATED-TO:mf-AFLABS-URNIK:srecanje:1647
X-WR-TIMEZONE:Europe/Ljubljana
END:VEVENT
BEGIN:VEVENT
SUMMARY:Ustne bolezni in parodontologija 2 (UBPAR2)\, klinične vaje (kv)\
 , [D5-04\, D5-05\, D5-06]
DTSTART;TZID=Europe/Ljubljana:20231011T073000
DTEND;TZID=Europe/Ljubljana:20231011T123000
DTSTAMP:20260420T071944Z
UID:mf-AFLABS-URNIK:premaknjeno-srecanje:8293
ATTENDEE:5. LETNIK (EMŠ DM)
CATEGORIES:Entry,Standard
COLOR:darkgreen
DESCRIPTION:Predmet: Ustne bolezni in parodontologija 2 (UBPAR2)\, klinič
 ne vaje (kv)\, [D5-04\, D5-05\, D5-06]\nLetniki: 5. LETNIK (EMŠ DM)\nIzva
 jalci: Katedra za ustne bolezni in paro KUBP\nProstor: Vaj - KUBP - 20 - S
 toma - UKC
LOCATION:Hrvatski trg 6\, Vaj - KUBP - 20 - Stoma - UKC
ORGANIZER:Katedra za ustne bolezni in paro KUBP
RELATED-TO:mf-AFLABS-URNIK:srecanje:1647
X-WR-TIMEZONE:Europe/Ljubljana
END:VEVENT
BEGIN:VEVENT
SUMMARY:Ustne bolezni in parodontologija 3 (UBPAR3)\, klinične vaje (kv)\
 , [D6-01\, D6-02\, D6-03]
DTSTART;TZID=Europe/Ljubljana:20231004T123000
DTEND;TZID=Europe/Ljubljana:20231004T180000
DTSTAMP:20260420T071944Z
UID:mf-AFLABS-URNIK:premaknjeno-srecanje:9327
ATTENDEE:6. LETNIK (EMŠ DM)
CATEGORIES:Entry,Standard
COLOR:darkgreen
DESCRIPTION:Predmet: Ustne bolezni in parodontologija 3 (UBPAR3)\, klinič
 ne vaje (kv)\, [D6-01\, D6-02\, D6-03]\nLetniki: 6. LETNIK (EMŠ DM)\nIzva
 jalci: Katedra za ustne bolezni in paro KUBP\nProstor: Vaj - KUBP - 20 - S
 toma - UKC
LOCATION:Hrvatski trg 6\, Vaj - KUBP - 20 - Stoma - UKC
ORGANIZER:Katedra za ustne bolezni in paro KUBP
RELATED-TO:mf-AFLABS-URNIK:srecanje:1789
X-WR-TIMEZONE:Europe/Ljubljana
END:VEVENT
BEGIN:VEVENT
SUMMARY:Ustne bolezni in parodontologija 3 (UBPAR3)\, klinične vaje (kv)\
 , [D6-01\, D6-02\, D6-03]
DTSTART;TZID=Europe/Ljubljana:20231011T123000
DTEND;TZID=Europe/Ljubljana:20231011T180000
DTSTAMP:20260420T071944Z
UID:mf-AFLABS-URNIK:premaknjeno-srecanje:9328
ATTENDEE:6. LETNIK (EMŠ DM)
CATEGORIES:Entry,Standard
COLOR:darkgreen
DESCRIPTION:Predmet: Ustne bolezni in parodontologija 3 (UBPAR3)\, klinič
 ne vaje (kv)\, [D6-01\, D6-02\, D6-03]\nLetniki: 6. LETNIK (EMŠ DM)\nIzva
 jalci: Katedra za ustne bolezni in paro KUBP\nProstor: Vaj - KUBP - 20 - S
 toma - UKC
LOCATION:Hrvatski trg 6\, Vaj - KUBP - 20 - Stoma - UKC
ORGANIZER:Katedra za ustne bolezni in paro KUBP
RELATED-TO:mf-AFLABS-URNIK:srecanje:1789
X-WR-TIMEZONE:Europe/Ljubljana
END:VEVENT
BEGIN:VEVENT
SUMMARY:Stomatološka propedevtika (STPRO)\, Vaje (V)\, [D4-01\, D4-02\, D
 4-03\, D4-04\, D4-05\, D4-06]
DTSTART;TZID=Europe/Ljubljana:20231005T090000
DTEND;TZID=Europe/Ljubljana:20231005T130000
DTSTAMP:20260420T071944Z
UID:mf-AFLABS-URNIK:premaknjeno-srecanje:7093
ATTENDEE:4. LETNIK (EMŠ DM)
CATEGORIES:Entry,Standard
COLOR:darkgreen
DESCRIPTION:Predmet: Stomatološka propedevtika (STPRO)\, Vaje (V)\, [D4-0
 1\, D4-02\, D4-03\, D4-04\, D4-05\, D4-06]\nLetniki: 4. LETNIK (EMŠ DM)\n
 Izvajalci: Katedra za čeljustno in zobno or KČZO\, Katedra za otroško i
 n preventivn KOPZ\, Katedra za stomatološko protetik KSP\, Katedra za ust
 ne bolezni in paro KUBP\, Katedra za zobne bolezni in norm KZBNMZO\nProsto
 r: CUKV - DM - Vaj - Velika
LOCATION:Korytkova 2\, CUKV - DM - Vaj - Velika
ORGANIZER:Katedra za čeljustno in zobno or KČZO, Katedra za otroško in 
 preventivn KOPZ, Katedra za stomatološko protetik KSP, Katedra za ustne b
 olezni in paro KUBP, Katedra za zobne bolezni in norm KZBNMZO
RELATED-TO:mf-AFLABS-URNIK:srecanje:1320
X-WR-TIMEZONE:Europe/Ljubljana
END:VEVENT
BEGIN:VEVENT
SUMMARY:Stomatološka propedevtika (STPRO)\, Vaje (V)\, [D4-01\, D4-02\, D
 4-03\, D4-04\, D4-05\, D4-06]
DTSTART;TZID=Europe/Ljubljana:20231012T090000
DTEND;TZID=Europe/Ljubljana:20231012T130000
DTSTAMP:20260420T071944Z
UID:mf-AFLABS-URNIK:premaknjeno-srecanje:7094
ATTENDEE:4. LETNIK (EMŠ DM)
CATEGORIES:Entry,Standard
COLOR:darkgreen
DESCRIPTION:Predmet: Stomatološka propedevtika (STPRO)\, Vaje (V)\, [D4-0
 1\, D4-02\, D4-03\, D4-04\, D4-05\, D4-06]\nLetniki: 4. LETNIK (EMŠ DM)\n
 Izvajalci: Katedra za čeljustno in zobno or KČZO\, Katedra za otroško i
 n preventivn KOPZ\, Katedra za stomatološko protetik KSP\, Katedra za ust
 ne bolezni in paro KUBP\, Katedra za zobne bolezni in norm KZBNMZO\nProsto
 r: CUKV - DM - Vaj - Velika
LOCATION:Korytkova 2\, CUKV - DM - Vaj - Velika
ORGANIZER:Katedra za čeljustno in zobno or KČZO, Katedra za otroško in 
 preventivn KOPZ, Katedra za stomatološko protetik KSP, Katedra za ustne b
 olezni in paro KUBP, Katedra za zobne bolezni in norm KZBNMZO
RELATED-TO:mf-AFLABS-URNIK:srecanje:1320
X-WR-TIMEZONE:Europe/Ljubljana
END:VEVENT
BEGIN:VEVENT
SUMMARY:Ustne bolezni in parodontologija 2 (UBPAR2)\, Predavanje (P)\, [D5
 -01\, D5-02\, D5-03\, D5-04\, D5-05\, D5-06]
DTSTART;TZID=Europe/Ljubljana:20231005T110000
DTEND;TZID=Europe/Ljubljana:20231005T120000
DTSTAMP:20260420T071944Z
UID:mf-AFLABS-URNIK:premaknjeno-srecanje:8247
ATTENDEE:5. LETNIK (EMŠ DM)
CATEGORIES:Entry,Standard
COLOR:darkgreen
DESCRIPTION:Predmet: Ustne bolezni in parodontologija 2 (UBPAR2)\, Predava
 nje (P)\, [D5-01\, D5-02\, D5-03\, D5-04\, D5-05\, D5-06]\nLetniki: 5. LET
 NIK (EMŠ DM)\nIzvajalci: Katedra za ustne bolezni in paro KUBP\nProstor: 
 Pred - Stoma
LOCATION:Hrvatski trg 6\, Pred - Stoma
ORGANIZER:Katedra za ustne bolezni in paro KUBP
RELATED-TO:mf-AFLABS-URNIK:srecanje:1645
X-WR-TIMEZONE:Europe/Ljubljana
END:VEVENT
BEGIN:VEVENT
SUMMARY:Ustne bolezni in parodontologija 2 (UBPAR2)\, Predavanje (P)\, [D5
 -01\, D5-02\, D5-03\, D5-04\, D5-05\, D5-06]
DTSTART;TZID=Europe/Ljubljana:20231012T110000
DTEND;TZID=Europe/Ljubljana:20231012T120000
DTSTAMP:20260420T071944Z
UID:mf-AFLABS-URNIK:premaknjeno-srecanje:8248
ATTENDEE:5. LETNIK (EMŠ DM)
CATEGORIES:Entry,Standard
COLOR:darkgreen
DESCRIPTION:Predmet: Ustne bolezni in parodontologija 2 (UBPAR2)\, Predava
 nje (P)\, [D5-01\, D5-02\, D5-03\, D5-04\, D5-05\, D5-06]\nLetniki: 5. LET
 NIK (EMŠ DM)\nIzvajalci: Katedra za ustne bolezni in paro KUBP\nProstor: 
 Pred - Stoma
LOCATION:Hrvatski trg 6\, Pred - Stoma
ORGANIZER:Katedra za ustne bolezni in paro KUBP
RELATED-TO:mf-AFLABS-URNIK:srecanje:1645
X-WR-TIMEZONE:Europe/Ljubljana
END:VEVENT
END:VCALENDAR
