BEGIN:VCALENDAR
VERSION:2.0
PRODID:-//AFLabs urnik izvoz - mf//aflabs.si//SI
DTSTAMP:20260420T071419Z
NAME:UL MF urnik
REFRESH-INTERVAL:PT1H
SOURCE:https://afurnik-mf.dev.aflabs.org/teacher/35?day=2024-07-08&export=
 1
URL:https://afurnik-mf.dev.aflabs.org/teacher/35?day=2024-07-08&export=1
X-PUBLISHED-TTL:PT1H
X-WR-CALNAME:UL MF urnik
X-WR-TIMEZONE:Europe/Ljubljana
BEGIN:VTIMEZONE
TZID:Europe/Ljubljana
BEGIN:DAYLIGHT
DTSTART:20260329T020000
RDATE:20260329T020000
RDATE:20270328T020000
TZNAME:CEST
TZOFFSETFROM:+0100
TZOFFSETTO:+0200
END:DAYLIGHT
BEGIN:STANDARD
DTSTART:20261025T030000
RDATE:20261025T030000
RDATE:20271031T030000
TZNAME:CET
TZOFFSETFROM:+0200
TZOFFSETTO:+0100
END:STANDARD
END:VTIMEZONE
BEGIN:VEVENT
SUMMARY:Ustne bolezni in parodontologija 2 (UBPAR2)\, klinične vaje (kv)\
 , [D5-03]
DTSTART;TZID=Europe/Ljubljana:20241001T073000
DTEND;TZID=Europe/Ljubljana:20241001T090000
DTSTAMP:20260420T071419Z
UID:mf-AFLABS-URNIK:premaknjeno-srecanje:13735
ATTENDEE:5. LETNIK (EMŠ DM)
CATEGORIES:Entry,Special
COLOR:forestgreen
DESCRIPTION:Predmet: Ustne bolezni in parodontologija 2 (UBPAR2)\, klinič
 ne vaje (kv)\, [D5-03]\nLetniki: 5. LETNIK (EMŠ DM)\nIzvajalci: Katedra z
 a ustne bolezni in paro KUBP\nProstor: Vaj - KUBP - 20 - Stoma - UKC
LOCATION:Hrvatski trg 6\, Vaj - KUBP - 20 - Stoma - UKC
ORGANIZER:Katedra za ustne bolezni in paro KUBP
RELATED-TO:mf-AFLABS-URNIK:srecanje:2559
X-WR-TIMEZONE:Europe/Ljubljana
END:VEVENT
BEGIN:VEVENT
SUMMARY:Ustne bolezni in parodontologija 2 (UBPAR2)\, klinične vaje (kv)\
 , [D5-02]
DTSTART;TZID=Europe/Ljubljana:20241001T091500
DTEND;TZID=Europe/Ljubljana:20241001T104500
DTSTAMP:20260420T071419Z
UID:mf-AFLABS-URNIK:premaknjeno-srecanje:13750
ATTENDEE:5. LETNIK (EMŠ DM)
CATEGORIES:Entry,Special
COLOR:forestgreen
DESCRIPTION:Predmet: Ustne bolezni in parodontologija 2 (UBPAR2)\, klinič
 ne vaje (kv)\, [D5-02]\nLetniki: 5. LETNIK (EMŠ DM)\nIzvajalci: Katedra z
 a ustne bolezni in paro KUBP\nProstor: Vaj - KUBP - 20 - Stoma - UKC
LOCATION:Hrvatski trg 6\, Vaj - KUBP - 20 - Stoma - UKC
ORGANIZER:Katedra za ustne bolezni in paro KUBP
RELATED-TO:mf-AFLABS-URNIK:srecanje:2560
X-WR-TIMEZONE:Europe/Ljubljana
END:VEVENT
BEGIN:VEVENT
SUMMARY:Ustne bolezni in parodontologija 2 (UBPAR2)\, klinične vaje (kv)\
 , [D5-01]
DTSTART;TZID=Europe/Ljubljana:20241001T110000
DTEND;TZID=Europe/Ljubljana:20241001T123000
DTSTAMP:20260420T071419Z
UID:mf-AFLABS-URNIK:premaknjeno-srecanje:13765
ATTENDEE:5. LETNIK (EMŠ DM)
CATEGORIES:Entry,Special
COLOR:forestgreen
DESCRIPTION:Predmet: Ustne bolezni in parodontologija 2 (UBPAR2)\, klinič
 ne vaje (kv)\, [D5-01]\nLetniki: 5. LETNIK (EMŠ DM)\nIzvajalci: Katedra z
 a ustne bolezni in paro KUBP\nProstor: Vaj - KUBP - 20 - Stoma - UKC
LOCATION:Hrvatski trg 6\, Vaj - KUBP - 20 - Stoma - UKC
ORGANIZER:Katedra za ustne bolezni in paro KUBP
RELATED-TO:mf-AFLABS-URNIK:srecanje:2561
X-WR-TIMEZONE:Europe/Ljubljana
END:VEVENT
BEGIN:VEVENT
SUMMARY:Ustne bolezni in parodontologija 3 (UBPAR3)\, klinične vaje (kv)\
 , [D6-05]
DTSTART;TZID=Europe/Ljubljana:20241001T124500
DTEND;TZID=Europe/Ljubljana:20241001T141500
DTSTAMP:20260420T071419Z
UID:mf-AFLABS-URNIK:premaknjeno-srecanje:14558
ATTENDEE:6. LETNIK (EMŠ DM)
CATEGORIES:Entry,Special
COLOR:forestgreen
DESCRIPTION:Predmet: Ustne bolezni in parodontologija 3 (UBPAR3)\, klinič
 ne vaje (kv)\, [D6-05]\nLetniki: 6. LETNIK (EMŠ DM)\nIzvajalci: Katedra z
 a ustne bolezni in paro KUBP\nProstor: Vaj - KUBP - 20 - Stoma - UKC
LOCATION:Hrvatski trg 6\, Vaj - KUBP - 20 - Stoma - UKC
ORGANIZER:Katedra za ustne bolezni in paro KUBP
RELATED-TO:mf-AFLABS-URNIK:srecanje:2610
X-WR-TIMEZONE:Europe/Ljubljana
END:VEVENT
BEGIN:VEVENT
SUMMARY:Ustne bolezni in parodontologija 3 (UBPAR3)\, klinične vaje (kv)\
 , [D6-06]
DTSTART;TZID=Europe/Ljubljana:20241001T143000
DTEND;TZID=Europe/Ljubljana:20241001T160000
DTSTAMP:20260420T071419Z
UID:mf-AFLABS-URNIK:premaknjeno-srecanje:14573
ATTENDEE:6. LETNIK (EMŠ DM)
CATEGORIES:Entry,Special
COLOR:forestgreen
DESCRIPTION:Predmet: Ustne bolezni in parodontologija 3 (UBPAR3)\, klinič
 ne vaje (kv)\, [D6-06]\nLetniki: 6. LETNIK (EMŠ DM)\nIzvajalci: Katedra z
 a ustne bolezni in paro KUBP\nProstor: Vaj - KUBP - 20 - Stoma - UKC
LOCATION:Hrvatski trg 6\, Vaj - KUBP - 20 - Stoma - UKC
ORGANIZER:Katedra za ustne bolezni in paro KUBP
RELATED-TO:mf-AFLABS-URNIK:srecanje:2611
X-WR-TIMEZONE:Europe/Ljubljana
END:VEVENT
BEGIN:VEVENT
SUMMARY:Ustne bolezni in parodontologija 3 (UBPAR3)\, klinične vaje (kv)\
 , [D6-04]
DTSTART;TZID=Europe/Ljubljana:20241001T161500
DTEND;TZID=Europe/Ljubljana:20241001T174500
DTSTAMP:20260420T071419Z
UID:mf-AFLABS-URNIK:premaknjeno-srecanje:14588
ATTENDEE:6. LETNIK (EMŠ DM)
CATEGORIES:Entry,Special
COLOR:forestgreen
DESCRIPTION:Predmet: Ustne bolezni in parodontologija 3 (UBPAR3)\, klinič
 ne vaje (kv)\, [D6-04]\nLetniki: 6. LETNIK (EMŠ DM)\nIzvajalci: Katedra z
 a ustne bolezni in paro KUBP\nProstor: Vaj - KUBP - 20 - Stoma - UKC
LOCATION:Hrvatski trg 6\, Vaj - KUBP - 20 - Stoma - UKC
ORGANIZER:Katedra za ustne bolezni in paro KUBP
RELATED-TO:mf-AFLABS-URNIK:srecanje:2612
X-WR-TIMEZONE:Europe/Ljubljana
END:VEVENT
END:VCALENDAR
