BEGIN:VCALENDAR
VERSION:2.0
PRODID:-//AFLabs urnik izvoz - mf//aflabs.si//SI
DTSTAMP:20260420T104348Z
NAME:UL MF urnik
REFRESH-INTERVAL:PT1H
SOURCE:https://afurnik-mf.dev.aflabs.org/teacher/35?day=2026-10-05&export=
 1
URL:https://afurnik-mf.dev.aflabs.org/teacher/35?day=2026-10-05&export=1
X-PUBLISHED-TTL:PT1H
X-WR-CALNAME:UL MF urnik
X-WR-TIMEZONE:Europe/Ljubljana
BEGIN:VTIMEZONE
TZID:Europe/Ljubljana
BEGIN:DAYLIGHT
DTSTART:20260329T020000
RDATE:20260329T020000
RDATE:20270328T020000
TZNAME:CEST
TZOFFSETFROM:+0100
TZOFFSETTO:+0200
END:DAYLIGHT
BEGIN:STANDARD
DTSTART:20261025T030000
RDATE:20261025T030000
RDATE:20271031T030000
TZNAME:CET
TZOFFSETFROM:+0200
TZOFFSETTO:+0100
END:STANDARD
END:VTIMEZONE
BEGIN:VEVENT
SUMMARY:izpit:Ustne bolezni
DTSTART;TZID=Europe/Ljubljana:20260907T100000
DTEND;TZID=Europe/Ljubljana:20260907T110000
DTSTAMP:20260420T104348Z
UID:mf-AFLABS-URNIK:rezervacija:8507
ATTENDEE:5. LETNIK (EMŠ DM)
CATEGORIES:Reservation
COLOR:royalblue
DESCRIPTION:Predmeti: Ustne bolezni (UB)\nLetniki: 5. LETNIK (EMŠ DM)\nIz
 vajalci: Katedra za ustne bolezni in paro KUBP\nProstori: Pred - Stoma
LOCATION:Hrvatski trg 6\, Pred - Stoma
ORGANIZER:Katedra za ustne bolezni in paro KUBP
X-WR-TIMEZONE:Europe/Ljubljana
END:VEVENT
BEGIN:VEVENT
SUMMARY:izpit:Ustne bolezni in parodontologija 3
DTSTART;TZID=Europe/Ljubljana:20260911T090000
DTEND;TZID=Europe/Ljubljana:20260911T100000
DTSTAMP:20260420T104348Z
UID:mf-AFLABS-URNIK:rezervacija:8929
ATTENDEE:6. LETNIK (EMŠ DM)
CATEGORIES:Reservation
COLOR:royalblue
DESCRIPTION:Predmeti: Ustne bolezni in parodontologija 3 (UBPAR3)\nLetniki
 : 6. LETNIK (EMŠ DM)\nIzvajalci: Katedra za ustne bolezni in paro KUBP\nP
 rostori: Pred - Stoma
LOCATION:Hrvatski trg 6\, Pred - Stoma
ORGANIZER:Katedra za ustne bolezni in paro KUBP
X-WR-TIMEZONE:Europe/Ljubljana
END:VEVENT
BEGIN:VEVENT
SUMMARY:izpit:Gerontostomatologija
DTSTART;TZID=Europe/Ljubljana:20260902T100000
DTEND;TZID=Europe/Ljubljana:20260902T110000
DTSTAMP:20260420T104348Z
UID:mf-AFLABS-URNIK:rezervacija:8938
ATTENDEE:6. LETNIK (EMŠ DM)
CATEGORIES:Reservation
COLOR:royalblue
DESCRIPTION:Predmeti: Gerontostomatologija (GERONTO)\nLetniki: 6. LETNIK (
 EMŠ DM)\nIzvajalci: Katedra za anesteziologijo z rea KAR\, Katedra za mak
 silofacialno  in o KMOK\, Katedra za stomatološko protetik KSP\, Katedra 
 za ustne bolezni in paro KUBP\, Katedra za zobne bolezni in norm KZBNMZO\n
 Prostori: Pred - Srednja - MF
LOCATION:Korytkova 2\, Pred - Srednja - MF
ORGANIZER:Katedra za anesteziologijo z rea KAR, Katedra za maksilofacialno
   in o KMOK, Katedra za stomatološko protetik KSP, Katedra za ustne bolez
 ni in paro KUBP, Katedra za zobne bolezni in norm KZBNMZO
X-WR-TIMEZONE:Europe/Ljubljana
END:VEVENT
BEGIN:VEVENT
SUMMARY:izpit:Dentalna implantologija
DTSTART;TZID=Europe/Ljubljana:20260902T110000
DTEND;TZID=Europe/Ljubljana:20260902T120000
DTSTAMP:20260420T104348Z
UID:mf-AFLABS-URNIK:rezervacija:8941
ATTENDEE:6. LETNIK (EMŠ DM)
CATEGORIES:Reservation
COLOR:royalblue
DESCRIPTION:Predmeti: Dentalna implantologija (IMPLANTO)\nLetniki: 6. LETN
 IK (EMŠ DM)\nIzvajalci: Katedra za maksilofacialno  in o KMOK\, Katedra z
 a stomatološko protetik KSP\, Katedra za ustne bolezni in paro KUBP\nPros
 tori: Pred - Srednja - MF
LOCATION:Korytkova 2\, Pred - Srednja - MF
ORGANIZER:Katedra za maksilofacialno  in o KMOK, Katedra za stomatološko 
 protetik KSP, Katedra za ustne bolezni in paro KUBP
X-WR-TIMEZONE:Europe/Ljubljana
END:VEVENT
BEGIN:VEVENT
SUMMARY:izpit:Parodontologija 1
DTSTART;TZID=Europe/Ljubljana:20260909T100000
DTEND;TZID=Europe/Ljubljana:20260909T110000
DTSTAMP:20260420T104348Z
UID:mf-AFLABS-URNIK:rezervacija:8959
ATTENDEE:4. LETNIK (EMŠ DM)
CATEGORIES:Reservation
COLOR:royalblue
DESCRIPTION:Predmeti: Parodontologija 1 (PAR1)\nLetniki: 4. LETNIK (EMŠ D
 M)\nIzvajalci: Katedra za ustne bolezni in paro KUBP\nProstori: Pred - Sto
 ma
LOCATION:Hrvatski trg 6\, Pred - Stoma
ORGANIZER:Katedra za ustne bolezni in paro KUBP
X-WR-TIMEZONE:Europe/Ljubljana
END:VEVENT
END:VCALENDAR
