BEGIN:VCALENDAR
VERSION:2.0
PRODID:-//AFLabs urnik izvoz - mf//aflabs.si//SI
DTSTAMP:20260420T115804Z
NAME:UL MF urnik
REFRESH-INTERVAL:PT1H
SOURCE:https://afurnik-mf.dev.aflabs.org/teacher/36?day=2023-09-04&export=
 1
URL:https://afurnik-mf.dev.aflabs.org/teacher/36?day=2023-09-04&export=1
X-PUBLISHED-TTL:PT1H
X-WR-CALNAME:UL MF urnik
X-WR-TIMEZONE:Europe/Ljubljana
BEGIN:VTIMEZONE
TZID:Europe/Ljubljana
BEGIN:DAYLIGHT
DTSTART:20260329T020000
RDATE:20260329T020000
RDATE:20270328T020000
TZNAME:CEST
TZOFFSETFROM:+0100
TZOFFSETTO:+0200
END:DAYLIGHT
BEGIN:STANDARD
DTSTART:20261025T030000
RDATE:20261025T030000
RDATE:20271031T030000
TZNAME:CET
TZOFFSETFROM:+0200
TZOFFSETTO:+0100
END:STANDARD
END:VTIMEZONE
BEGIN:VEVENT
SUMMARY:Zobne bolezni 2 (ZOBNE2)\, klinične vaje (kv)\, [D5-01\, D5-02\, 
 D5-03]
DTSTART;TZID=Europe/Ljubljana:20231002T073000
DTEND;TZID=Europe/Ljubljana:20231002T150000
DTSTAMP:20260420T115804Z
UID:mf-AFLABS-URNIK:premaknjeno-srecanje:8352
ATTENDEE:5. LETNIK (EMŠ DM)
CATEGORIES:Entry,Standard
COLOR:darkgreen
DESCRIPTION:Predmet: Zobne bolezni 2 (ZOBNE2)\, klinične vaje (kv)\, [D5-
 01\, D5-02\, D5-03]\nLetniki: 5. LETNIK (EMŠ DM)\nIzvajalci: Katedra za z
 obne bolezni in norm KZBNMZO\nProstor: Vaj - KZB - 44 - Stoma - UKC
LOCATION:Hrvatski trg 6\, Vaj - KZB - 44 - Stoma - UKC
ORGANIZER:Katedra za zobne bolezni in norm KZBNMZO
RELATED-TO:mf-AFLABS-URNIK:srecanje:1651
X-WR-TIMEZONE:Europe/Ljubljana
END:VEVENT
BEGIN:VEVENT
SUMMARY:Zobne bolezni 2 (ZOBNE2)\, klinične vaje (kv)\, [D5-01\, D5-02\, 
 D5-03]
DTSTART;TZID=Europe/Ljubljana:20231009T073000
DTEND;TZID=Europe/Ljubljana:20231009T150000
DTSTAMP:20260420T115804Z
UID:mf-AFLABS-URNIK:premaknjeno-srecanje:8353
ATTENDEE:5. LETNIK (EMŠ DM)
CATEGORIES:Entry,Standard
COLOR:darkgreen
DESCRIPTION:Predmet: Zobne bolezni 2 (ZOBNE2)\, klinične vaje (kv)\, [D5-
 01\, D5-02\, D5-03]\nLetniki: 5. LETNIK (EMŠ DM)\nIzvajalci: Katedra za z
 obne bolezni in norm KZBNMZO\nProstor: Vaj - KZB - 44 - Stoma - UKC
LOCATION:Hrvatski trg 6\, Vaj - KZB - 44 - Stoma - UKC
ORGANIZER:Katedra za zobne bolezni in norm KZBNMZO
RELATED-TO:mf-AFLABS-URNIK:srecanje:1651
X-WR-TIMEZONE:Europe/Ljubljana
END:VEVENT
BEGIN:VEVENT
SUMMARY:Funkcionalna in klinično aplikativna morfologija in embriologija 
 zobnega organa (FKMEZO)\, Predavanje (P)\, [D2-01\, D2-02\, D2-03\, D2-04\
 , D2-05\, D2-06]
DTSTART;TZID=Europe/Ljubljana:20231003T154500
DTEND;TZID=Europe/Ljubljana:20231003T163000
DTSTAMP:20260420T115804Z
UID:mf-AFLABS-URNIK:premaknjeno-srecanje:3992
ATTENDEE:2. LETNIK (EMŠ DM)
CATEGORIES:Entry,Standard
COLOR:darkgreen
DESCRIPTION:Predmet: Funkcionalna in klinično aplikativna morfologija in 
 embriologija zobnega organa (FKMEZO)\, Predavanje (P)\, [D2-01\, D2-02\, D
 2-03\, D2-04\, D2-05\, D2-06]\nLetniki: 2. LETNIK (EMŠ DM)\nIzvajalci: Ka
 tedra za zobne bolezni in norm KZBNMZO\nProstor: Pred - Mala - MF
LOCATION:Korytkova 2\, Pred - Mala - MF
ORGANIZER:Katedra za zobne bolezni in norm KZBNMZO
RELATED-TO:mf-AFLABS-URNIK:srecanje:649
X-WR-TIMEZONE:Europe/Ljubljana
END:VEVENT
BEGIN:VEVENT
SUMMARY:Zobne bolezni 1 (ZOBNE1)\, Vaje (V)\, [D4-01\, D4-02\, D4-03]
DTSTART;TZID=Europe/Ljubljana:20231003T080000
DTEND;TZID=Europe/Ljubljana:20231003T110000
DTSTAMP:20260420T115804Z
UID:mf-AFLABS-URNIK:premaknjeno-srecanje:6953
ATTENDEE:4. LETNIK (EMŠ DM)
CATEGORIES:Entry,Standard
COLOR:darkgreen
DESCRIPTION:Predmet: Zobne bolezni 1 (ZOBNE1)\, Vaje (V)\, [D4-01\, D4-02\
 , D4-03]\nLetniki: 4. LETNIK (EMŠ DM)\nIzvajalci: Katedra za zobne bolezn
 i in norm KZBNMZO\nProstor: CUKV - DM - Vaj - Velika
LOCATION:Korytkova 2\, CUKV - DM - Vaj - Velika
ORGANIZER:Katedra za zobne bolezni in norm KZBNMZO
RELATED-TO:mf-AFLABS-URNIK:srecanje:1310
X-WR-TIMEZONE:Europe/Ljubljana
END:VEVENT
BEGIN:VEVENT
SUMMARY:Zobne bolezni 1 (ZOBNE1)\, Vaje (V)\, [D4-04\, D4-05\, D4-06]
DTSTART;TZID=Europe/Ljubljana:20231003T110000
DTEND;TZID=Europe/Ljubljana:20231003T140000
DTSTAMP:20260420T115804Z
UID:mf-AFLABS-URNIK:premaknjeno-srecanje:6963
ATTENDEE:4. LETNIK (EMŠ DM)
CATEGORIES:Entry,Standard
COLOR:darkgreen
DESCRIPTION:Predmet: Zobne bolezni 1 (ZOBNE1)\, Vaje (V)\, [D4-04\, D4-05\
 , D4-06]\nLetniki: 4. LETNIK (EMŠ DM)\nIzvajalci: Katedra za zobne bolezn
 i in norm KZBNMZO\nProstor: CUKV - DM - Vaj - Velika
LOCATION:Korytkova 2\, CUKV - DM - Vaj - Velika
ORGANIZER:Katedra za zobne bolezni in norm KZBNMZO
RELATED-TO:mf-AFLABS-URNIK:srecanje:1311
X-WR-TIMEZONE:Europe/Ljubljana
END:VEVENT
BEGIN:VEVENT
SUMMARY:Zobne bolezni 2 (ZOBNE2)\, Vaje (V)\, [D5-01\, D5-02\, D5-03]
DTSTART;TZID=Europe/Ljubljana:20231003T073000
DTEND;TZID=Europe/Ljubljana:20231003T123000
DTSTAMP:20260420T115804Z
UID:mf-AFLABS-URNIK:premaknjeno-srecanje:8382
ATTENDEE:5. LETNIK (EMŠ DM)
CATEGORIES:Entry,Standard
COLOR:darkgreen
DESCRIPTION:Predmet: Zobne bolezni 2 (ZOBNE2)\, Vaje (V)\, [D5-01\, D5-02\
 , D5-03]\nLetniki: 5. LETNIK (EMŠ DM)\nIzvajalci: Katedra za zobne bolezn
 i in norm KZBNMZO\nProstor: Drugje
LOCATION:Drugje
ORGANIZER:Katedra za zobne bolezni in norm KZBNMZO
RELATED-TO:mf-AFLABS-URNIK:srecanje:1652
X-WR-TIMEZONE:Europe/Ljubljana
END:VEVENT
BEGIN:VEVENT
SUMMARY:Zobne bolezni 3 (ZOBNE3)\, klinične vaje (kv)\, [D6-01]
DTSTART;TZID=Europe/Ljubljana:20231003T073000
DTEND;TZID=Europe/Ljubljana:20231003T100000
DTSTAMP:20260420T115804Z
UID:mf-AFLABS-URNIK:premaknjeno-srecanje:8895
ATTENDEE:6. LETNIK (EMŠ DM)
CATEGORIES:Entry,Standard
COLOR:darkgreen
DESCRIPTION:Predmet: Zobne bolezni 3 (ZOBNE3)\, klinične vaje (kv)\, [D6-
 01]\nLetniki: 6. LETNIK (EMŠ DM)\nIzvajalci: Katedra za zobne bolezni in 
 norm KZBNMZO\nProstor: Vaj - KZB - 44 - Stoma - UKC
LOCATION:Hrvatski trg 6\, Vaj - KZB - 44 - Stoma - UKC
ORGANIZER:Katedra za zobne bolezni in norm KZBNMZO
RELATED-TO:mf-AFLABS-URNIK:srecanje:1757
X-WR-TIMEZONE:Europe/Ljubljana
END:VEVENT
BEGIN:VEVENT
SUMMARY:Zobne bolezni 3 (ZOBNE3)\, klinične vaje (kv)\, [D6-02]
DTSTART;TZID=Europe/Ljubljana:20231003T100000
DTEND;TZID=Europe/Ljubljana:20231003T123000
DTSTAMP:20260420T115804Z
UID:mf-AFLABS-URNIK:premaknjeno-srecanje:8910
ATTENDEE:6. LETNIK (EMŠ DM)
CATEGORIES:Entry,Standard
COLOR:darkgreen
DESCRIPTION:Predmet: Zobne bolezni 3 (ZOBNE3)\, klinične vaje (kv)\, [D6-
 02]\nLetniki: 6. LETNIK (EMŠ DM)\nIzvajalci: Katedra za zobne bolezni in 
 norm KZBNMZO\nProstor: Vaj - KZB - 44 - Stoma - UKC
LOCATION:Hrvatski trg 6\, Vaj - KZB - 44 - Stoma - UKC
ORGANIZER:Katedra za zobne bolezni in norm KZBNMZO
RELATED-TO:mf-AFLABS-URNIK:srecanje:1758
X-WR-TIMEZONE:Europe/Ljubljana
END:VEVENT
BEGIN:VEVENT
SUMMARY:Zobne bolezni 3 (ZOBNE3)\, klinične vaje (kv)\, [D6-03]
DTSTART;TZID=Europe/Ljubljana:20231003T123000
DTEND;TZID=Europe/Ljubljana:20231003T150000
DTSTAMP:20260420T115804Z
UID:mf-AFLABS-URNIK:premaknjeno-srecanje:8925
ATTENDEE:6. LETNIK (EMŠ DM)
CATEGORIES:Entry,Standard
COLOR:darkgreen
DESCRIPTION:Predmet: Zobne bolezni 3 (ZOBNE3)\, klinične vaje (kv)\, [D6-
 03]\nLetniki: 6. LETNIK (EMŠ DM)\nIzvajalci: Katedra za zobne bolezni in 
 norm KZBNMZO\nProstor: Vaj - KZB - 44 - Stoma - UKC
LOCATION:Hrvatski trg 6\, Vaj - KZB - 44 - Stoma - UKC
ORGANIZER:Katedra za zobne bolezni in norm KZBNMZO
RELATED-TO:mf-AFLABS-URNIK:srecanje:1759
X-WR-TIMEZONE:Europe/Ljubljana
END:VEVENT
BEGIN:VEVENT
SUMMARY:Stomatološka propedevtika (STPRO)\, Predavanje (P)\, [D4-01\, D4-
 02\, D4-03\, D4-04\, D4-05\, D4-06]
DTSTART;TZID=Europe/Ljubljana:20231004T080000
DTEND;TZID=Europe/Ljubljana:20231004T100000
DTSTAMP:20260420T115804Z
UID:mf-AFLABS-URNIK:premaknjeno-srecanje:7063
ATTENDEE:4. LETNIK (EMŠ DM)
CATEGORIES:Entry,Standard
COLOR:darkgreen
DESCRIPTION:Predmet: Stomatološka propedevtika (STPRO)\, Predavanje (P)\,
  [D4-01\, D4-02\, D4-03\, D4-04\, D4-05\, D4-06]\nLetniki: 4. LETNIK (EMŠ
  DM)\nIzvajalci: Katedra za čeljustno in zobno or KČZO\, Katedra za otro
 ško in preventivn KOPZ\, Katedra za stomatološko protetik KSP\, Katedra 
 za ustne bolezni in paro KUBP\, Katedra za zobne bolezni in norm KZBNMZO\n
 Prostor: Pred - Stoma
LOCATION:Hrvatski trg 6\, Pred - Stoma
ORGANIZER:Katedra za čeljustno in zobno or KČZO, Katedra za otroško in 
 preventivn KOPZ, Katedra za stomatološko protetik KSP, Katedra za ustne b
 olezni in paro KUBP, Katedra za zobne bolezni in norm KZBNMZO
RELATED-TO:mf-AFLABS-URNIK:srecanje:1318
X-WR-TIMEZONE:Europe/Ljubljana
END:VEVENT
BEGIN:VEVENT
SUMMARY:Stomatološka propedevtika (STPRO)\, Seminar (S)\, [D4-01\, D4-02\
 , D4-03\, D4-04\, D4-05\, D4-06]
DTSTART;TZID=Europe/Ljubljana:20231004T100000
DTEND;TZID=Europe/Ljubljana:20231004T130000
DTSTAMP:20260420T115804Z
UID:mf-AFLABS-URNIK:premaknjeno-srecanje:7078
ATTENDEE:4. LETNIK (EMŠ DM)
CATEGORIES:Entry,Standard
COLOR:darkgreen
DESCRIPTION:Predmet: Stomatološka propedevtika (STPRO)\, Seminar (S)\, [D
 4-01\, D4-02\, D4-03\, D4-04\, D4-05\, D4-06]\nLetniki: 4. LETNIK (EMŠ DM
 )\nIzvajalci: Katedra za čeljustno in zobno or KČZO\, Katedra za otrošk
 o in preventivn KOPZ\, Katedra za stomatološko protetik KSP\, Katedra za 
 ustne bolezni in paro KUBP\, Katedra za zobne bolezni in norm KZBNMZO\nPro
 stor: Pred - Stoma
LOCATION:Hrvatski trg 6\, Pred - Stoma
ORGANIZER:Katedra za čeljustno in zobno or KČZO, Katedra za otroško in 
 preventivn KOPZ, Katedra za stomatološko protetik KSP, Katedra za ustne b
 olezni in paro KUBP, Katedra za zobne bolezni in norm KZBNMZO
RELATED-TO:mf-AFLABS-URNIK:srecanje:1319
X-WR-TIMEZONE:Europe/Ljubljana
END:VEVENT
BEGIN:VEVENT
SUMMARY:Zobne bolezni 2 (ZOBNE2)\, Vaje (V)\, [D5-04\, D5-05\, D5-06]
DTSTART;TZID=Europe/Ljubljana:20231004T073000
DTEND;TZID=Europe/Ljubljana:20231004T123000
DTSTAMP:20260420T115804Z
UID:mf-AFLABS-URNIK:premaknjeno-srecanje:8397
ATTENDEE:5. LETNIK (EMŠ DM)
CATEGORIES:Entry,Standard
COLOR:darkgreen
DESCRIPTION:Predmet: Zobne bolezni 2 (ZOBNE2)\, Vaje (V)\, [D5-04\, D5-05\
 , D5-06]\nLetniki: 5. LETNIK (EMŠ DM)\nIzvajalci: Katedra za zobne bolezn
 i in norm KZBNMZO\nProstor: Drugje
LOCATION:Drugje
ORGANIZER:Katedra za zobne bolezni in norm KZBNMZO
RELATED-TO:mf-AFLABS-URNIK:srecanje:1653
X-WR-TIMEZONE:Europe/Ljubljana
END:VEVENT
BEGIN:VEVENT
SUMMARY:Zobne bolezni 3 (ZOBNE3)\, klinične vaje (kv)\, [D6-04]
DTSTART;TZID=Europe/Ljubljana:20231004T073000
DTEND;TZID=Europe/Ljubljana:20231004T100000
DTSTAMP:20260420T115804Z
UID:mf-AFLABS-URNIK:premaknjeno-srecanje:8940
ATTENDEE:6. LETNIK (EMŠ DM)
CATEGORIES:Entry,Standard
COLOR:darkgreen
DESCRIPTION:Predmet: Zobne bolezni 3 (ZOBNE3)\, klinične vaje (kv)\, [D6-
 04]\nLetniki: 6. LETNIK (EMŠ DM)\nIzvajalci: Katedra za zobne bolezni in 
 norm KZBNMZO\nProstor: Vaj - KZB - 44 - Stoma - UKC
LOCATION:Hrvatski trg 6\, Vaj - KZB - 44 - Stoma - UKC
ORGANIZER:Katedra za zobne bolezni in norm KZBNMZO
RELATED-TO:mf-AFLABS-URNIK:srecanje:1760
X-WR-TIMEZONE:Europe/Ljubljana
END:VEVENT
BEGIN:VEVENT
SUMMARY:Zobne bolezni 3 (ZOBNE3)\, klinične vaje (kv)\, [D6-05]
DTSTART;TZID=Europe/Ljubljana:20231004T100000
DTEND;TZID=Europe/Ljubljana:20231004T123000
DTSTAMP:20260420T115804Z
UID:mf-AFLABS-URNIK:premaknjeno-srecanje:8955
ATTENDEE:6. LETNIK (EMŠ DM)
CATEGORIES:Entry,Standard
COLOR:darkgreen
DESCRIPTION:Predmet: Zobne bolezni 3 (ZOBNE3)\, klinične vaje (kv)\, [D6-
 05]\nLetniki: 6. LETNIK (EMŠ DM)\nIzvajalci: Katedra za zobne bolezni in 
 norm KZBNMZO\nProstor: Vaj - KZB - 44 - Stoma - UKC
LOCATION:Hrvatski trg 6\, Vaj - KZB - 44 - Stoma - UKC
ORGANIZER:Katedra za zobne bolezni in norm KZBNMZO
RELATED-TO:mf-AFLABS-URNIK:srecanje:1761
X-WR-TIMEZONE:Europe/Ljubljana
END:VEVENT
BEGIN:VEVENT
SUMMARY:Zobne bolezni 3 (ZOBNE3)\, klinične vaje (kv)\, [D6-06]
DTSTART;TZID=Europe/Ljubljana:20231004T123000
DTEND;TZID=Europe/Ljubljana:20231004T150000
DTSTAMP:20260420T115804Z
UID:mf-AFLABS-URNIK:premaknjeno-srecanje:8970
ATTENDEE:6. LETNIK (EMŠ DM)
CATEGORIES:Entry,Standard
COLOR:darkgreen
DESCRIPTION:Predmet: Zobne bolezni 3 (ZOBNE3)\, klinične vaje (kv)\, [D6-
 06]\nLetniki: 6. LETNIK (EMŠ DM)\nIzvajalci: Katedra za zobne bolezni in 
 norm KZBNMZO\nProstor: Vaj - KZB - 44 - Stoma - UKC
LOCATION:Hrvatski trg 6\, Vaj - KZB - 44 - Stoma - UKC
ORGANIZER:Katedra za zobne bolezni in norm KZBNMZO
RELATED-TO:mf-AFLABS-URNIK:srecanje:1762
X-WR-TIMEZONE:Europe/Ljubljana
END:VEVENT
BEGIN:VEVENT
SUMMARY:Stomatološki predklinični praktikum (PKP)\, Predavanje (P)
DTSTART;TZID=Europe/Ljubljana:20231005T130000
DTEND;TZID=Europe/Ljubljana:20231005T150000
DTSTAMP:20260420T115804Z
UID:mf-AFLABS-URNIK:premaknjeno-srecanje:4855
ATTENDEE:3. LETNIK (EMŠ DM)
CATEGORIES:Entry,Standard
COLOR:darkgreen
DESCRIPTION:Predmet: Stomatološki predklinični praktikum (PKP)\, Predava
 nje (P)\nLetniki: 3. LETNIK (EMŠ DM)\nIzvajalci: Katedra za zobne bolezni
  in norm KZBNMZO\nProstor: Pred - Mala - MF
LOCATION:Korytkova 2\, Pred - Mala - MF
ORGANIZER:Katedra za zobne bolezni in norm KZBNMZO
RELATED-TO:mf-AFLABS-URNIK:srecanje:805
X-WR-TIMEZONE:Europe/Ljubljana
END:VEVENT
BEGIN:VEVENT
SUMMARY:Zobne bolezni 1 (ZOBNE1)\, Predavanje (P)\, [D4-01\, D4-02\, D4-03
 \, D4-04\, D4-05\, D4-06]
DTSTART;TZID=Europe/Ljubljana:20231005T130000
DTEND;TZID=Europe/Ljubljana:20231005T150000
DTSTAMP:20260420T115804Z
UID:mf-AFLABS-URNIK:premaknjeno-srecanje:6939
ATTENDEE:4. LETNIK (EMŠ DM)
CATEGORIES:Entry,Standard
COLOR:darkgreen
DESCRIPTION:Predmet: Zobne bolezni 1 (ZOBNE1)\, Predavanje (P)\, [D4-01\, 
 D4-02\, D4-03\, D4-04\, D4-05\, D4-06]\nLetniki: 4. LETNIK (EMŠ DM)\nIzva
 jalci: Katedra za zobne bolezni in norm KZBNMZO\nProstor: Pred - Stoma
LOCATION:Hrvatski trg 6\, Pred - Stoma
ORGANIZER:Katedra za zobne bolezni in norm KZBNMZO
RELATED-TO:mf-AFLABS-URNIK:srecanje:1308
X-WR-TIMEZONE:Europe/Ljubljana
END:VEVENT
BEGIN:VEVENT
SUMMARY:Stomatološka propedevtika (STPRO)\, Vaje (V)\, [D4-01\, D4-02\, D
 4-03\, D4-04\, D4-05\, D4-06]
DTSTART;TZID=Europe/Ljubljana:20231005T090000
DTEND;TZID=Europe/Ljubljana:20231005T130000
DTSTAMP:20260420T115804Z
UID:mf-AFLABS-URNIK:premaknjeno-srecanje:7093
ATTENDEE:4. LETNIK (EMŠ DM)
CATEGORIES:Entry,Standard
COLOR:darkgreen
DESCRIPTION:Predmet: Stomatološka propedevtika (STPRO)\, Vaje (V)\, [D4-0
 1\, D4-02\, D4-03\, D4-04\, D4-05\, D4-06]\nLetniki: 4. LETNIK (EMŠ DM)\n
 Izvajalci: Katedra za čeljustno in zobno or KČZO\, Katedra za otroško i
 n preventivn KOPZ\, Katedra za stomatološko protetik KSP\, Katedra za ust
 ne bolezni in paro KUBP\, Katedra za zobne bolezni in norm KZBNMZO\nProsto
 r: CUKV - DM - Vaj - Velika
LOCATION:Korytkova 2\, CUKV - DM - Vaj - Velika
ORGANIZER:Katedra za čeljustno in zobno or KČZO, Katedra za otroško in 
 preventivn KOPZ, Katedra za stomatološko protetik KSP, Katedra za ustne b
 olezni in paro KUBP, Katedra za zobne bolezni in norm KZBNMZO
RELATED-TO:mf-AFLABS-URNIK:srecanje:1320
X-WR-TIMEZONE:Europe/Ljubljana
END:VEVENT
BEGIN:VEVENT
SUMMARY:Zobne bolezni 2 (ZOBNE2)\, Predavanje (P)\, [D5-01\, D5-02\, D5-03
 \, D5-04\, D5-05\, D5-06]
DTSTART;TZID=Europe/Ljubljana:20231005T100000
DTEND;TZID=Europe/Ljubljana:20231005T110000
DTSTAMP:20260420T115804Z
UID:mf-AFLABS-URNIK:premaknjeno-srecanje:8337
ATTENDEE:5. LETNIK (EMŠ DM)
CATEGORIES:Entry,Standard
COLOR:darkgreen
DESCRIPTION:Predmet: Zobne bolezni 2 (ZOBNE2)\, Predavanje (P)\, [D5-01\, 
 D5-02\, D5-03\, D5-04\, D5-05\, D5-06]\nLetniki: 5. LETNIK (EMŠ DM)\nIzva
 jalci: Katedra za zobne bolezni in norm KZBNMZO\nProstor: Pred - Stoma
LOCATION:Hrvatski trg 6\, Pred - Stoma
ORGANIZER:Katedra za zobne bolezni in norm KZBNMZO
RELATED-TO:mf-AFLABS-URNIK:srecanje:1650
X-WR-TIMEZONE:Europe/Ljubljana
END:VEVENT
BEGIN:VEVENT
SUMMARY:Zobne bolezni 3 (ZOBNE3)\, klinične vaje (kv)\, [D6-03]
DTSTART;TZID=Europe/Ljubljana:20231005T073000
DTEND;TZID=Europe/Ljubljana:20231005T090000
DTSTAMP:20260420T115804Z
UID:mf-AFLABS-URNIK:premaknjeno-srecanje:8985
ATTENDEE:6. LETNIK (EMŠ DM)
CATEGORIES:Entry,Standard
COLOR:darkgreen
DESCRIPTION:Predmet: Zobne bolezni 3 (ZOBNE3)\, klinične vaje (kv)\, [D6-
 03]\nLetniki: 6. LETNIK (EMŠ DM)\nIzvajalci: Katedra za zobne bolezni in 
 norm KZBNMZO\nProstor: Vaj - KZB - 44 - Stoma - UKC
LOCATION:Hrvatski trg 6\, Vaj - KZB - 44 - Stoma - UKC
ORGANIZER:Katedra za zobne bolezni in norm KZBNMZO
RELATED-TO:mf-AFLABS-URNIK:srecanje:1763
X-WR-TIMEZONE:Europe/Ljubljana
END:VEVENT
BEGIN:VEVENT
SUMMARY:Zobne bolezni 3 (ZOBNE3)\, klinične vaje (kv)\, [D6-01]
DTSTART;TZID=Europe/Ljubljana:20231005T123000
DTEND;TZID=Europe/Ljubljana:20231005T140000
DTSTAMP:20260420T115804Z
UID:mf-AFLABS-URNIK:premaknjeno-srecanje:8992
ATTENDEE:6. LETNIK (EMŠ DM)
CATEGORIES:Entry,Standard
COLOR:darkgreen
DESCRIPTION:Predmet: Zobne bolezni 3 (ZOBNE3)\, klinične vaje (kv)\, [D6-
 01]\nLetniki: 6. LETNIK (EMŠ DM)\nIzvajalci: Katedra za zobne bolezni in 
 norm KZBNMZO\nProstor: Vaj - KZB - 44 - Stoma - UKC
LOCATION:Hrvatski trg 6\, Vaj - KZB - 44 - Stoma - UKC
ORGANIZER:Katedra za zobne bolezni in norm KZBNMZO
RELATED-TO:mf-AFLABS-URNIK:srecanje:1764
X-WR-TIMEZONE:Europe/Ljubljana
END:VEVENT
BEGIN:VEVENT
SUMMARY:Zobne bolezni 3 (ZOBNE3)\, klinične vaje (kv)\, [D6-02]
DTSTART;TZID=Europe/Ljubljana:20231005T141500
DTEND;TZID=Europe/Ljubljana:20231005T154500
DTSTAMP:20260420T115804Z
UID:mf-AFLABS-URNIK:premaknjeno-srecanje:8999
ATTENDEE:6. LETNIK (EMŠ DM)
CATEGORIES:Entry,Standard
COLOR:darkgreen
DESCRIPTION:Predmet: Zobne bolezni 3 (ZOBNE3)\, klinične vaje (kv)\, [D6-
 02]\nLetniki: 6. LETNIK (EMŠ DM)\nIzvajalci: Katedra za zobne bolezni in 
 norm KZBNMZO\nProstor: Vaj - KZB - 44 - Stoma - UKC
LOCATION:Hrvatski trg 6\, Vaj - KZB - 44 - Stoma - UKC
ORGANIZER:Katedra za zobne bolezni in norm KZBNMZO
RELATED-TO:mf-AFLABS-URNIK:srecanje:1765
X-WR-TIMEZONE:Europe/Ljubljana
END:VEVENT
BEGIN:VEVENT
SUMMARY:Splošna in dentalna radiologija (SPDRAD)\, Predavanja\, seminar (
 Pr)\, [D4-01\, D4-02\, D4-03\, D4-04\, D4-05\, D4-06]
DTSTART;TZID=Europe/Ljubljana:20231006T130000
DTEND;TZID=Europe/Ljubljana:20231006T160000
DTSTAMP:20260420T115804Z
UID:mf-AFLABS-URNIK:premaknjeno-srecanje:6707
ATTENDEE:4. LETNIK (EMŠ DM)
CATEGORIES:Entry,Standard
COLOR:darkgreen
DESCRIPTION:Predmet: Splošna in dentalna radiologija (SPDRAD)\, Predavanj
 a\, seminar (Pr)\, [D4-01\, D4-02\, D4-03\, D4-04\, D4-05\, D4-06]\nLetnik
 i: 4. LETNIK (EMŠ DM)\nIzvajalci: Katedra za radiologijo KRD\, Katedra za
  zobne bolezni in norm KZBNMZO\nProstor: Pred - Stoma
LOCATION:Hrvatski trg 6\, Pred - Stoma
ORGANIZER:Katedra za radiologijo KRD, Katedra za zobne bolezni in norm KZB
 NMZO
RELATED-TO:mf-AFLABS-URNIK:srecanje:1292
X-WR-TIMEZONE:Europe/Ljubljana
END:VEVENT
BEGIN:VEVENT
SUMMARY:Zobne bolezni 2 (ZOBNE2)\, klinične vaje (kv)\, [D5-04\, D5-05\, 
 D5-06]
DTSTART;TZID=Europe/Ljubljana:20231006T073000
DTEND;TZID=Europe/Ljubljana:20231006T150000
DTSTAMP:20260420T115804Z
UID:mf-AFLABS-URNIK:premaknjeno-srecanje:8412
ATTENDEE:5. LETNIK (EMŠ DM)
CATEGORIES:Entry,Standard
COLOR:darkgreen
DESCRIPTION:Predmet: Zobne bolezni 2 (ZOBNE2)\, klinične vaje (kv)\, [D5-
 04\, D5-05\, D5-06]\nLetniki: 5. LETNIK (EMŠ DM)\nIzvajalci: Katedra za z
 obne bolezni in norm KZBNMZO\nProstor: Vaj - KZB - 44 - Stoma - UKC
LOCATION:Hrvatski trg 6\, Vaj - KZB - 44 - Stoma - UKC
ORGANIZER:Katedra za zobne bolezni in norm KZBNMZO
RELATED-TO:mf-AFLABS-URNIK:srecanje:1654
X-WR-TIMEZONE:Europe/Ljubljana
END:VEVENT
END:VCALENDAR
