BEGIN:VCALENDAR
VERSION:2.0
PRODID:-//AFLabs urnik izvoz - mf//aflabs.si//SI
DTSTAMP:20260420T065824Z
NAME:UL MF urnik
REFRESH-INTERVAL:PT1H
SOURCE:https://afurnik-mf.dev.aflabs.org/teacher/36?day=2024-08-19&export=
 1
URL:https://afurnik-mf.dev.aflabs.org/teacher/36?day=2024-08-19&export=1
X-PUBLISHED-TTL:PT1H
X-WR-CALNAME:UL MF urnik
X-WR-TIMEZONE:Europe/Ljubljana
BEGIN:VTIMEZONE
TZID:Europe/Ljubljana
BEGIN:DAYLIGHT
DTSTART:20260329T020000
RDATE:20260329T020000
RDATE:20270328T020000
TZNAME:CEST
TZOFFSETFROM:+0100
TZOFFSETTO:+0200
END:DAYLIGHT
BEGIN:STANDARD
DTSTART:20261025T030000
RDATE:20261025T030000
RDATE:20271031T030000
TZNAME:CET
TZOFFSETFROM:+0200
TZOFFSETTO:+0100
END:STANDARD
END:VTIMEZONE
BEGIN:VEVENT
SUMMARY:Zobne bolezni 1 (ZOBNE1)\, Predavanje (P)
DTSTART;TZID=Europe/Ljubljana:20241001T080000
DTEND;TZID=Europe/Ljubljana:20241001T100000
DTSTAMP:20260420T065824Z
UID:mf-AFLABS-URNIK:premaknjeno-srecanje:12248
ATTENDEE:4. LETNIK (EMŠ DM)
CATEGORIES:Entry,Special
COLOR:forestgreen
DESCRIPTION:Predmet: Zobne bolezni 1 (ZOBNE1)\, Predavanje (P)\nLetniki: 4
 . LETNIK (EMŠ DM)\nIzvajalci: Katedra za zobne bolezni in norm KZBNMZO\nP
 rostor: Pred - Stoma
LOCATION:Hrvatski trg 6\, Pred - Stoma
ORGANIZER:Katedra za zobne bolezni in norm KZBNMZO
RELATED-TO:mf-AFLABS-URNIK:srecanje:2442
X-WR-TIMEZONE:Europe/Ljubljana
END:VEVENT
BEGIN:VEVENT
SUMMARY:Zobne bolezni 2 (ZOBNE2)\, Vaje (V)\, [D5-01\, D5-02\, D5-03]
DTSTART;TZID=Europe/Ljubljana:20241001T073000
DTEND;TZID=Europe/Ljubljana:20241001T123000
DTSTAMP:20260420T065824Z
UID:mf-AFLABS-URNIK:premaknjeno-srecanje:14009
ATTENDEE:5. LETNIK (EMŠ DM)
CATEGORIES:Entry,Special
COLOR:forestgreen
DESCRIPTION:Predmet: Zobne bolezni 2 (ZOBNE2)\, Vaje (V)\, [D5-01\, D5-02\
 , D5-03]\nLetniki: 5. LETNIK (EMŠ DM)\nIzvajalci: Katedra za zobne bolezn
 i in norm KZBNMZO\nProstor: Drugje
LOCATION:Drugje
ORGANIZER:Katedra za zobne bolezni in norm KZBNMZO
RELATED-TO:mf-AFLABS-URNIK:srecanje:2569
X-WR-TIMEZONE:Europe/Ljubljana
END:VEVENT
BEGIN:VEVENT
SUMMARY:Zobne bolezni 3 (ZOBNE3)\, klinične vaje (kv)\, [D6-01]
DTSTART;TZID=Europe/Ljubljana:20241001T073000
DTEND;TZID=Europe/Ljubljana:20241001T100000
DTSTAMP:20260420T065824Z
UID:mf-AFLABS-URNIK:premaknjeno-srecanje:14177
ATTENDEE:6. LETNIK (EMŠ DM)
CATEGORIES:Entry,Special
COLOR:forestgreen
DESCRIPTION:Predmet: Zobne bolezni 3 (ZOBNE3)\, klinične vaje (kv)\, [D6-
 01]\nLetniki: 6. LETNIK (EMŠ DM)\nIzvajalci: Katedra za zobne bolezni in 
 norm KZBNMZO\nProstor: Vaj - KZB - 44 - Stoma - UKC
LOCATION:Hrvatski trg 6\, Vaj - KZB - 44 - Stoma - UKC
ORGANIZER:Katedra za zobne bolezni in norm KZBNMZO
RELATED-TO:mf-AFLABS-URNIK:srecanje:2579
X-WR-TIMEZONE:Europe/Ljubljana
END:VEVENT
BEGIN:VEVENT
SUMMARY:Zobne bolezni 3 (ZOBNE3)\, klinične vaje (kv)\, [D6-02]
DTSTART;TZID=Europe/Ljubljana:20241001T100000
DTEND;TZID=Europe/Ljubljana:20241001T123000
DTSTAMP:20260420T065824Z
UID:mf-AFLABS-URNIK:premaknjeno-srecanje:14192
ATTENDEE:6. LETNIK (EMŠ DM)
CATEGORIES:Entry,Special
COLOR:forestgreen
DESCRIPTION:Predmet: Zobne bolezni 3 (ZOBNE3)\, klinične vaje (kv)\, [D6-
 02]\nLetniki: 6. LETNIK (EMŠ DM)\nIzvajalci: Katedra za zobne bolezni in 
 norm KZBNMZO\nProstor: Vaj - KZB - 44 - Stoma - UKC
LOCATION:Hrvatski trg 6\, Vaj - KZB - 44 - Stoma - UKC
ORGANIZER:Katedra za zobne bolezni in norm KZBNMZO
RELATED-TO:mf-AFLABS-URNIK:srecanje:2580
X-WR-TIMEZONE:Europe/Ljubljana
END:VEVENT
BEGIN:VEVENT
SUMMARY:Zobne bolezni 3 (ZOBNE3)\, klinične vaje (kv)\, [D6-03]
DTSTART;TZID=Europe/Ljubljana:20241001T123000
DTEND;TZID=Europe/Ljubljana:20241001T150000
DTSTAMP:20260420T065824Z
UID:mf-AFLABS-URNIK:premaknjeno-srecanje:14207
ATTENDEE:6. LETNIK (EMŠ DM)
CATEGORIES:Entry,Special
COLOR:forestgreen
DESCRIPTION:Predmet: Zobne bolezni 3 (ZOBNE3)\, klinične vaje (kv)\, [D6-
 03]\nLetniki: 6. LETNIK (EMŠ DM)\nIzvajalci: Katedra za zobne bolezni in 
 norm KZBNMZO\nProstor: Vaj - KZB - 44 - Stoma - UKC
LOCATION:Hrvatski trg 6\, Vaj - KZB - 44 - Stoma - UKC
ORGANIZER:Katedra za zobne bolezni in norm KZBNMZO
RELATED-TO:mf-AFLABS-URNIK:srecanje:2581
X-WR-TIMEZONE:Europe/Ljubljana
END:VEVENT
BEGIN:VEVENT
SUMMARY:Funkcionalna in klinično-aplikativna morfologija in embriologija 
 zobnega organa - Anatomske osnove modelacije zob (FKMEZO-AOMZ)\, Predavanj
 e (P)\, [D2-01\, D2-02\, D2-03\, D2-04\, D2-05\, D2-06]
DTSTART;TZID=Europe/Ljubljana:20241001T154500
DTEND;TZID=Europe/Ljubljana:20241001T163000
DTSTAMP:20260420T065824Z
UID:mf-AFLABS-URNIK:premaknjeno-srecanje:19458
ATTENDEE:2. LETNIK (EMŠ DM)
CATEGORIES:Entry,Special
COLOR:forestgreen
DESCRIPTION:Predmet: Funkcionalna in klinično-aplikativna morfologija in 
 embriologija zobnega organa - Anatomske osnove modelacije zob (FKMEZO-AOMZ
 )\, Predavanje (P)\, [D2-01\, D2-02\, D2-03\, D2-04\, D2-05\, D2-06]\nLetn
 iki: 2. LETNIK (EMŠ DM)\nIzvajalci: Katedra za zobne bolezni in norm KZBN
 MZO\nProstor: Pred - Mala - MF
LOCATION:Korytkova 2\, Pred - Mala - MF
ORGANIZER:Katedra za zobne bolezni in norm KZBNMZO
RELATED-TO:mf-AFLABS-URNIK:srecanje:3276
X-WR-TIMEZONE:Europe/Ljubljana
END:VEVENT
END:VCALENDAR
