BEGIN:VCALENDAR
VERSION:2.0
PRODID:-//AFLabs urnik izvoz - mf//aflabs.si//SI
DTSTAMP:20260420T054905Z
NAME:UL MF urnik
REFRESH-INTERVAL:PT1H
SOURCE:https://afurnik-mf.dev.aflabs.org/teacher/3?day=2024-07-22&export=1
URL:https://afurnik-mf.dev.aflabs.org/teacher/3?day=2024-07-22&export=1
X-PUBLISHED-TTL:PT1H
X-WR-CALNAME:UL MF urnik
X-WR-TIMEZONE:Europe/Ljubljana
BEGIN:VTIMEZONE
TZID:Europe/Ljubljana
BEGIN:DAYLIGHT
DTSTART:20260329T020000
RDATE:20260329T020000
RDATE:20270328T020000
TZNAME:CEST
TZOFFSETFROM:+0100
TZOFFSETTO:+0200
END:DAYLIGHT
BEGIN:STANDARD
DTSTART:20261025T030000
RDATE:20261025T030000
RDATE:20271031T030000
TZNAME:CET
TZOFFSETFROM:+0200
TZOFFSETTO:+0100
END:STANDARD
END:VTIMEZONE
BEGIN:VEVENT
SUMMARY:Medicinska molekularna genetika (MMG)\, Predavanje (P)\, [M2-01\, 
 M2-02\, M2-03\, M2-04\, M2-05\, M2-06\, M2-07\, M2-08\, M2-09\, M2-10\, M2
 -11\, M2-12\, M2-13\, M2-14\, M2-15\, M2-16\, M2-17\, M2-18\, M2-19\, M2-2
 0]
DTSTART;TZID=Europe/Ljubljana:20241001T141500
DTEND;TZID=Europe/Ljubljana:20241001T154500
DTSTAMP:20260420T054905Z
UID:mf-AFLABS-URNIK:premaknjeno-srecanje:18718
ATTENDEE:2. LETNIK (EMŠ M)
CATEGORIES:Entry,Special
COLOR:forestgreen
DESCRIPTION:Predmet: Medicinska molekularna genetika (MMG)\, Predavanje (P
 )\, [M2-01\, M2-02\, M2-03\, M2-04\, M2-05\, M2-06\, M2-07\, M2-08\, M2-09
 \, M2-10\, M2-11\, M2-12\, M2-13\, M2-14\, M2-15\, M2-16\, M2-17\, M2-18\,
  M2-19\, M2-20]\nLetniki: 2. LETNIK (EMŠ M)\nIzvajalci: Inštitut za biok
 emijo in molekul IBKMG\nProstor: Pred - Velika - MF
LOCATION:Korytkova 2\, Pred - Velika - MF
ORGANIZER:Inštitut za biokemijo in molekul IBKMG
RELATED-TO:mf-AFLABS-URNIK:srecanje:3136
X-WR-TIMEZONE:Europe/Ljubljana
END:VEVENT
BEGIN:VEVENT
SUMMARY:Biokemija in genetika za dentalno medicino (BGDM)\, Predavanje (P)
 \, [D2-01\, D2-02\, D2-03\, D2-04\, D2-05\, D2-06]
DTSTART;TZID=Europe/Ljubljana:20241001T120000
DTEND;TZID=Europe/Ljubljana:20241001T153000
DTSTAMP:20260420T054905Z
UID:mf-AFLABS-URNIK:premaknjeno-srecanje:19523
ATTENDEE:2. LETNIK (EMŠ DM)
CATEGORIES:Entry,Special
COLOR:forestgreen
DESCRIPTION:Predmet: Biokemija in genetika za dentalno medicino (BGDM)\, P
 redavanje (P)\, [D2-01\, D2-02\, D2-03\, D2-04\, D2-05\, D2-06]\nLetniki: 
 2. LETNIK (EMŠ DM)\nIzvajalci: Inštitut za biokemijo in molekul IBKMG\nP
 rostor: Pred - Mala - MF
LOCATION:Korytkova 2\, Pred - Mala - MF
ORGANIZER:Inštitut za biokemijo in molekul IBKMG
RELATED-TO:mf-AFLABS-URNIK:srecanje:3286
X-WR-TIMEZONE:Europe/Ljubljana
END:VEVENT
END:VCALENDAR
