BEGIN:VCALENDAR
VERSION:2.0
PRODID:-//AFLabs urnik izvoz - mf//aflabs.si//SI
DTSTAMP:20260420T071031Z
NAME:UL MF urnik
REFRESH-INTERVAL:PT1H
SOURCE:https://afurnik-mf.dev.aflabs.org/teacher/3?day=2024-09-02&export=1
URL:https://afurnik-mf.dev.aflabs.org/teacher/3?day=2024-09-02&export=1
X-PUBLISHED-TTL:PT1H
X-WR-CALNAME:UL MF urnik
X-WR-TIMEZONE:Europe/Ljubljana
BEGIN:VTIMEZONE
TZID:Europe/Ljubljana
BEGIN:DAYLIGHT
DTSTART:20260329T020000
RDATE:20260329T020000
RDATE:20270328T020000
TZNAME:CEST
TZOFFSETFROM:+0100
TZOFFSETTO:+0200
END:DAYLIGHT
BEGIN:STANDARD
DTSTART:20261025T030000
RDATE:20261025T030000
RDATE:20271031T030000
TZNAME:CET
TZOFFSETFROM:+0200
TZOFFSETTO:+0100
END:STANDARD
END:VTIMEZONE
BEGIN:VEVENT
SUMMARY:Medicinska molekularna genetika (MMG)\, Predavanje (P)\, [M2-01\, 
 M2-02\, M2-03\, M2-04\, M2-05\, M2-06\, M2-07\, M2-08\, M2-09\, M2-10\, M2
 -11\, M2-12\, M2-13\, M2-14\, M2-15\, M2-16\, M2-17\, M2-18\, M2-19\, M2-2
 0]
DTSTART;TZID=Europe/Ljubljana:20241001T141500
DTEND;TZID=Europe/Ljubljana:20241001T154500
DTSTAMP:20260420T071031Z
UID:mf-AFLABS-URNIK:premaknjeno-srecanje:18718
ATTENDEE:2. LETNIK (EMŠ M)
CATEGORIES:Entry,Special
COLOR:forestgreen
DESCRIPTION:Predmet: Medicinska molekularna genetika (MMG)\, Predavanje (P
 )\, [M2-01\, M2-02\, M2-03\, M2-04\, M2-05\, M2-06\, M2-07\, M2-08\, M2-09
 \, M2-10\, M2-11\, M2-12\, M2-13\, M2-14\, M2-15\, M2-16\, M2-17\, M2-18\,
  M2-19\, M2-20]\nLetniki: 2. LETNIK (EMŠ M)\nIzvajalci: Inštitut za biok
 emijo in molekul IBKMG\nProstor: Pred - Velika - MF
LOCATION:Korytkova 2\, Pred - Velika - MF
ORGANIZER:Inštitut za biokemijo in molekul IBKMG
RELATED-TO:mf-AFLABS-URNIK:srecanje:3136
X-WR-TIMEZONE:Europe/Ljubljana
END:VEVENT
BEGIN:VEVENT
SUMMARY:Biokemija in genetika za dentalno medicino (BGDM)\, Predavanje (P)
 \, [D2-01\, D2-02\, D2-03\, D2-04\, D2-05\, D2-06]
DTSTART;TZID=Europe/Ljubljana:20241001T120000
DTEND;TZID=Europe/Ljubljana:20241001T153000
DTSTAMP:20260420T071031Z
UID:mf-AFLABS-URNIK:premaknjeno-srecanje:19523
ATTENDEE:2. LETNIK (EMŠ DM)
CATEGORIES:Entry,Special
COLOR:forestgreen
DESCRIPTION:Predmet: Biokemija in genetika za dentalno medicino (BGDM)\, P
 redavanje (P)\, [D2-01\, D2-02\, D2-03\, D2-04\, D2-05\, D2-06]\nLetniki: 
 2. LETNIK (EMŠ DM)\nIzvajalci: Inštitut za biokemijo in molekul IBKMG\nP
 rostor: Pred - Mala - MF
LOCATION:Korytkova 2\, Pred - Mala - MF
ORGANIZER:Inštitut za biokemijo in molekul IBKMG
RELATED-TO:mf-AFLABS-URNIK:srecanje:3286
X-WR-TIMEZONE:Europe/Ljubljana
END:VEVENT
BEGIN:VEVENT
SUMMARY:Klinična biokemija in laboratorijska diagnostika (KBLD)\, Predava
 nje (P)
DTSTART;TZID=Europe/Ljubljana:20241003T160000
DTEND;TZID=Europe/Ljubljana:20241003T180000
DTSTAMP:20260420T071031Z
UID:mf-AFLABS-URNIK:premaknjeno-srecanje:15849
ATTENDEE:3. LETNIK (EMŠ M)
CATEGORIES:Entry,Special
COLOR:forestgreen
DESCRIPTION:Predmet: Klinična biokemija in laboratorijska diagnostika (KB
 LD)\, Predavanje (P)\nLetniki: 3. LETNIK (EMŠ M)\nIzvajalci: Inštitut za
  biokemijo in molekul IBKMG\nProstor: Pred - Velika - MF
LOCATION:Korytkova 2\, Pred - Velika - MF
ORGANIZER:Inštitut za biokemijo in molekul IBKMG
RELATED-TO:mf-AFLABS-URNIK:srecanje:2764
X-WR-TIMEZONE:Europe/Ljubljana
END:VEVENT
BEGIN:VEVENT
SUMMARY:Biokemija in genetika za dentalno medicino (BGDM)\, Seminar (S)\, 
 [D2-01\, D2-02]
DTSTART;TZID=Europe/Ljubljana:20241003T080000
DTEND;TZID=Europe/Ljubljana:20241003T100000
DTSTAMP:20260420T071031Z
UID:mf-AFLABS-URNIK:premaknjeno-srecanje:19534
ATTENDEE:2. LETNIK (EMŠ DM)
CATEGORIES:Entry,Special
COLOR:forestgreen
DESCRIPTION:Predmet: Biokemija in genetika za dentalno medicino (BGDM)\, S
 eminar (S)\, [D2-01\, D2-02]\nLetniki: 2. LETNIK (EMŠ DM)\nIzvajalci: In
 štitut za biokemijo in molekul IBKMG\nProstor: Sem - 2 - IBKMG
LOCATION:Vrazov trg 2\, Sem - 2 - IBKMG
ORGANIZER:Inštitut za biokemijo in molekul IBKMG
RELATED-TO:mf-AFLABS-URNIK:srecanje:3287
X-WR-TIMEZONE:Europe/Ljubljana
END:VEVENT
BEGIN:VEVENT
SUMMARY:Biokemija in genetika za dentalno medicino (BGDM)\, Seminar (S)\, 
 [D2-05\, D2-06]
DTSTART;TZID=Europe/Ljubljana:20241003T100000
DTEND;TZID=Europe/Ljubljana:20241003T120000
DTSTAMP:20260420T071031Z
UID:mf-AFLABS-URNIK:premaknjeno-srecanje:19545
ATTENDEE:2. LETNIK (EMŠ DM)
CATEGORIES:Entry,Special
COLOR:forestgreen
DESCRIPTION:Predmet: Biokemija in genetika za dentalno medicino (BGDM)\, S
 eminar (S)\, [D2-05\, D2-06]\nLetniki: 2. LETNIK (EMŠ DM)\nIzvajalci: In
 štitut za biokemijo in molekul IBKMG\nProstor: Sem - 2 - IBKMG
LOCATION:Vrazov trg 2\, Sem - 2 - IBKMG
ORGANIZER:Inštitut za biokemijo in molekul IBKMG
RELATED-TO:mf-AFLABS-URNIK:srecanje:3288
X-WR-TIMEZONE:Europe/Ljubljana
END:VEVENT
BEGIN:VEVENT
SUMMARY:Biokemija in genetika za dentalno medicino (BGDM)\, Seminar (S)\, 
 [D2-03\, D2-04]
DTSTART;TZID=Europe/Ljubljana:20241003T120000
DTEND;TZID=Europe/Ljubljana:20241003T140000
DTSTAMP:20260420T071031Z
UID:mf-AFLABS-URNIK:premaknjeno-srecanje:19556
ATTENDEE:2. LETNIK (EMŠ DM)
CATEGORIES:Entry,Special
COLOR:forestgreen
DESCRIPTION:Predmet: Biokemija in genetika za dentalno medicino (BGDM)\, S
 eminar (S)\, [D2-03\, D2-04]\nLetniki: 2. LETNIK (EMŠ DM)\nIzvajalci: In
 štitut za biokemijo in molekul IBKMG\nProstor: Sem - 2 - IBKMG
LOCATION:Vrazov trg 2\, Sem - 2 - IBKMG
ORGANIZER:Inštitut za biokemijo in molekul IBKMG
RELATED-TO:mf-AFLABS-URNIK:srecanje:3289
X-WR-TIMEZONE:Europe/Ljubljana
END:VEVENT
BEGIN:VEVENT
SUMMARY:Klinična biokemija in laboratorijska diagnostika (KBLD)\, Seminar
 /vaje (S/V)\, [M3-01\, M3-02\, M3-09\, M3-10]
DTSTART;TZID=Europe/Ljubljana:20241004T080000
DTEND;TZID=Europe/Ljubljana:20241004T110000
DTSTAMP:20260420T071031Z
UID:mf-AFLABS-URNIK:premaknjeno-srecanje:15809
ATTENDEE:3. LETNIK (EMŠ M)
CATEGORIES:Entry,Special
COLOR:forestgreen
DESCRIPTION:Predmet: Klinična biokemija in laboratorijska diagnostika (KB
 LD)\, Seminar/vaje (S/V)\, [M3-01\, M3-02\, M3-09\, M3-10]\nLetniki: 3. LE
 TNIK (EMŠ M)\nIzvajalci: Inštitut za biokemijo in molekul IBKMG\nProstor
 : Prostori IBKMG
LOCATION:Prostori IBKMG
ORGANIZER:Inštitut za biokemijo in molekul IBKMG
RELATED-TO:mf-AFLABS-URNIK:srecanje:2754
X-WR-TIMEZONE:Europe/Ljubljana
END:VEVENT
BEGIN:VEVENT
SUMMARY:Klinična biokemija in laboratorijska diagnostika (KBLD)\, Seminar
 /vaje (S/V)\, [M3-03\, M3-04\, M3-11\, M3-12]
DTSTART;TZID=Europe/Ljubljana:20241004T110000
DTEND;TZID=Europe/Ljubljana:20241004T140000
DTSTAMP:20260420T071031Z
UID:mf-AFLABS-URNIK:premaknjeno-srecanje:15813
ATTENDEE:3. LETNIK (EMŠ M)
CATEGORIES:Entry,Special
COLOR:forestgreen
DESCRIPTION:Predmet: Klinična biokemija in laboratorijska diagnostika (KB
 LD)\, Seminar/vaje (S/V)\, [M3-03\, M3-04\, M3-11\, M3-12]\nLetniki: 3. LE
 TNIK (EMŠ M)\nIzvajalci: Inštitut za biokemijo in molekul IBKMG\nProstor
 : Prostori IBKMG
LOCATION:Prostori IBKMG
ORGANIZER:Inštitut za biokemijo in molekul IBKMG
RELATED-TO:mf-AFLABS-URNIK:srecanje:2755
X-WR-TIMEZONE:Europe/Ljubljana
END:VEVENT
BEGIN:VEVENT
SUMMARY:Klinična biokemija in laboratorijska diagnostika (KBLD)\, Seminar
 /vaje (S/V)\, [M3-05\, M3-06\, M3-13\, M3-14]
DTSTART;TZID=Europe/Ljubljana:20241004T140000
DTEND;TZID=Europe/Ljubljana:20241004T170000
DTSTAMP:20260420T071031Z
UID:mf-AFLABS-URNIK:premaknjeno-srecanje:15817
ATTENDEE:3. LETNIK (EMŠ M)
CATEGORIES:Entry,Special
COLOR:forestgreen
DESCRIPTION:Predmet: Klinična biokemija in laboratorijska diagnostika (KB
 LD)\, Seminar/vaje (S/V)\, [M3-05\, M3-06\, M3-13\, M3-14]\nLetniki: 3. LE
 TNIK (EMŠ M)\nIzvajalci: Inštitut za biokemijo in molekul IBKMG\nProstor
 : Prostori IBKMG
LOCATION:Prostori IBKMG
ORGANIZER:Inštitut za biokemijo in molekul IBKMG
RELATED-TO:mf-AFLABS-URNIK:srecanje:2756
X-WR-TIMEZONE:Europe/Ljubljana
END:VEVENT
BEGIN:VEVENT
SUMMARY:Klinična biokemija in laboratorijska diagnostika (KBLD)\, Seminar
 /vaje (S/V)\, [M3-07\, M3-08\, M3-15\, M3-16]
DTSTART;TZID=Europe/Ljubljana:20241004T170000
DTEND;TZID=Europe/Ljubljana:20241004T200000
DTSTAMP:20260420T071031Z
UID:mf-AFLABS-URNIK:premaknjeno-srecanje:15821
ATTENDEE:3. LETNIK (EMŠ M)
CATEGORIES:Entry,Special
COLOR:forestgreen
DESCRIPTION:Predmet: Klinična biokemija in laboratorijska diagnostika (KB
 LD)\, Seminar/vaje (S/V)\, [M3-07\, M3-08\, M3-15\, M3-16]\nLetniki: 3. LE
 TNIK (EMŠ M)\nIzvajalci: Inštitut za biokemijo in molekul IBKMG\nProstor
 : Prostori IBKMG
LOCATION:Prostori IBKMG
ORGANIZER:Inštitut za biokemijo in molekul IBKMG
RELATED-TO:mf-AFLABS-URNIK:srecanje:2757
X-WR-TIMEZONE:Europe/Ljubljana
END:VEVENT
BEGIN:VEVENT
SUMMARY:Temelji biokemije (TBK)\, Predavanje (P)\, [M1-01\, M1-02\, M1-03\
 , M1-04\, M1-05\, M1-06\, M1-07\, M1-08\, M1-09\, M1-10\, M1-11\, M1-12\, 
 M1-13\, M1-14\, M1-15\, M1-16\, M1-17\, M1-18\, M1-19\, M1-20]
DTSTART;TZID=Europe/Ljubljana:20241004T100000
DTEND;TZID=Europe/Ljubljana:20241004T130000
DTSTAMP:20260420T071031Z
UID:mf-AFLABS-URNIK:premaknjeno-srecanje:17170
ATTENDEE:1. LETNIK (EMŠ M)
CATEGORIES:Entry,Special
COLOR:forestgreen
DESCRIPTION:Predmet: Temelji biokemije (TBK)\, Predavanje (P)\, [M1-01\, M
 1-02\, M1-03\, M1-04\, M1-05\, M1-06\, M1-07\, M1-08\, M1-09\, M1-10\, M1-
 11\, M1-12\, M1-13\, M1-14\, M1-15\, M1-16\, M1-17\, M1-18\, M1-19\, M1-20
 ]\nLetniki: 1. LETNIK (EMŠ M)\nIzvajalci: Inštitut za biokemijo in molek
 ul IBKMG\nProstor: Pred - Velika - MF
LOCATION:Korytkova 2\, Pred - Velika - MF
ORGANIZER:Inštitut za biokemijo in molekul IBKMG
RELATED-TO:mf-AFLABS-URNIK:srecanje:2955
X-WR-TIMEZONE:Europe/Ljubljana
END:VEVENT
BEGIN:VEVENT
SUMMARY:Temelji biokemije (TBKDM)\, Predavanje (P)
DTSTART;TZID=Europe/Ljubljana:20241004T080000
DTEND;TZID=Europe/Ljubljana:20241004T110000
DTSTAMP:20260420T071031Z
UID:mf-AFLABS-URNIK:premaknjeno-srecanje:17901
ATTENDEE:1. LETNIK (EMŠ DM)
CATEGORIES:Entry,Special
COLOR:forestgreen
DESCRIPTION:Predmet: Temelji biokemije (TBKDM)\, Predavanje (P)\nLetniki: 
 1. LETNIK (EMŠ DM)\nIzvajalci: Inštitut za biokemijo in molekul IBKMG\nP
 rostor: Pred - Mala - MF
LOCATION:Korytkova 2\, Pred - Mala - MF
ORGANIZER:Inštitut za biokemijo in molekul IBKMG
RELATED-TO:mf-AFLABS-URNIK:srecanje:3033
X-WR-TIMEZONE:Europe/Ljubljana
END:VEVENT
BEGIN:VEVENT
SUMMARY:Medicinska molekularna genetika (MMG)\, Vaje (V)\, [M2-05\, M2-06\
 , M2-07\, M2-08]
DTSTART;TZID=Europe/Ljubljana:20241004T080000
DTEND;TZID=Europe/Ljubljana:20241004T120000
DTSTAMP:20260420T071031Z
UID:mf-AFLABS-URNIK:premaknjeno-srecanje:18792
ATTENDEE:2. LETNIK (EMŠ M)
CATEGORIES:Entry,Special
COLOR:forestgreen
DESCRIPTION:Predmet: Medicinska molekularna genetika (MMG)\, Vaje (V)\, [M
 2-05\, M2-06\, M2-07\, M2-08]\nLetniki: 2. LETNIK (EMŠ M)\nIzvajalci: In
 štitut za biokemijo in molekul IBKMG\nProstor: Vaj - 1 - IBC
LOCATION:Vrazov trg 2\, Vaj - 1 - IBC
ORGANIZER:Inštitut za biokemijo in molekul IBKMG
RELATED-TO:mf-AFLABS-URNIK:srecanje:3160
X-WR-TIMEZONE:Europe/Ljubljana
END:VEVENT
BEGIN:VEVENT
SUMMARY:Medicinska molekularna genetika (MMG)\, Vaje (V)\, [M2-09\, M2-10\
 , M2-11\, M2-12]
DTSTART;TZID=Europe/Ljubljana:20241004T120000
DTEND;TZID=Europe/Ljubljana:20241004T160000
DTSTAMP:20260420T071031Z
UID:mf-AFLABS-URNIK:premaknjeno-srecanje:18794
ATTENDEE:2. LETNIK (EMŠ M)
CATEGORIES:Entry,Special
COLOR:forestgreen
DESCRIPTION:Predmet: Medicinska molekularna genetika (MMG)\, Vaje (V)\, [M
 2-09\, M2-10\, M2-11\, M2-12]\nLetniki: 2. LETNIK (EMŠ M)\nIzvajalci: In
 štitut za biokemijo in molekul IBKMG\nProstor: Vaj - 1 - IBC
LOCATION:Vrazov trg 2\, Vaj - 1 - IBC
ORGANIZER:Inštitut za biokemijo in molekul IBKMG
RELATED-TO:mf-AFLABS-URNIK:srecanje:3161
X-WR-TIMEZONE:Europe/Ljubljana
END:VEVENT
BEGIN:VEVENT
SUMMARY:Temelji biokemije (TBK)\, Predavanje (P)\, [M1-01\, M1-02\, M1-03\
 , M1-04\, M1-05\, M1-06\, M1-07\, M1-08\, M1-09\, M1-10\, M1-11\, M1-12\, 
 M1-13\, M1-14\, M1-15\, M1-16\, M1-17\, M1-18\, M1-19\, M1-20]
DTSTART;TZID=Europe/Ljubljana:20241007T140000
DTEND;TZID=Europe/Ljubljana:20241007T160000
DTSTAMP:20260420T071031Z
UID:mf-AFLABS-URNIK:premaknjeno-srecanje:17159
ATTENDEE:1. LETNIK (EMŠ M)
CATEGORIES:Entry,Special
COLOR:forestgreen
DESCRIPTION:Predmet: Temelji biokemije (TBK)\, Predavanje (P)\, [M1-01\, M
 1-02\, M1-03\, M1-04\, M1-05\, M1-06\, M1-07\, M1-08\, M1-09\, M1-10\, M1-
 11\, M1-12\, M1-13\, M1-14\, M1-15\, M1-16\, M1-17\, M1-18\, M1-19\, M1-20
 ]\nLetniki: 1. LETNIK (EMŠ M)\nIzvajalci: Inštitut za biokemijo in molek
 ul IBKMG\nProstor: Pred - Velika - MF
LOCATION:Korytkova 2\, Pred - Velika - MF
ORGANIZER:Inštitut za biokemijo in molekul IBKMG
RELATED-TO:mf-AFLABS-URNIK:srecanje:2954
X-WR-TIMEZONE:Europe/Ljubljana
END:VEVENT
BEGIN:VEVENT
SUMMARY:Temelji biokemije (TBKDM)\, Predavanje (P)
DTSTART;TZID=Europe/Ljubljana:20241007T080000
DTEND;TZID=Europe/Ljubljana:20241007T100000
DTSTAMP:20260420T071031Z
UID:mf-AFLABS-URNIK:premaknjeno-srecanje:17890
ATTENDEE:1. LETNIK (EMŠ DM)
CATEGORIES:Entry,Special
COLOR:forestgreen
DESCRIPTION:Predmet: Temelji biokemije (TBKDM)\, Predavanje (P)\nLetniki: 
 1. LETNIK (EMŠ DM)\nIzvajalci: Inštitut za biokemijo in molekul IBKMG\nP
 rostor: Pred - Mala - MF
LOCATION:Korytkova 2\, Pred - Mala - MF
ORGANIZER:Inštitut za biokemijo in molekul IBKMG
RELATED-TO:mf-AFLABS-URNIK:srecanje:3032
X-WR-TIMEZONE:Europe/Ljubljana
END:VEVENT
BEGIN:VEVENT
SUMMARY:Medicinska molekularna genetika (MMG)\, Vaje (V)\, [M2-17\, M2-18\
 , M2-19\, M2-20]
DTSTART;TZID=Europe/Ljubljana:20241007T080000
DTEND;TZID=Europe/Ljubljana:20241007T120000
DTSTAMP:20260420T071031Z
UID:mf-AFLABS-URNIK:premaknjeno-srecanje:18786
ATTENDEE:2. LETNIK (EMŠ M)
CATEGORIES:Entry,Special
COLOR:forestgreen
DESCRIPTION:Predmet: Medicinska molekularna genetika (MMG)\, Vaje (V)\, [M
 2-17\, M2-18\, M2-19\, M2-20]\nLetniki: 2. LETNIK (EMŠ M)\nIzvajalci: In
 štitut za biokemijo in molekul IBKMG\nProstor: Vaj - 1 - IBC
LOCATION:Vrazov trg 2\, Vaj - 1 - IBC
ORGANIZER:Inštitut za biokemijo in molekul IBKMG
RELATED-TO:mf-AFLABS-URNIK:srecanje:3157
X-WR-TIMEZONE:Europe/Ljubljana
END:VEVENT
BEGIN:VEVENT
SUMMARY:Medicinska molekularna genetika (MMG)\, Vaje (V)\, [M2-01\, M2-02\
 , M2-03\, M2-04]
DTSTART;TZID=Europe/Ljubljana:20241007T120000
DTEND;TZID=Europe/Ljubljana:20241007T160000
DTSTAMP:20260420T071031Z
UID:mf-AFLABS-URNIK:premaknjeno-srecanje:18788
ATTENDEE:2. LETNIK (EMŠ M)
CATEGORIES:Entry,Special
COLOR:forestgreen
DESCRIPTION:Predmet: Medicinska molekularna genetika (MMG)\, Vaje (V)\, [M
 2-01\, M2-02\, M2-03\, M2-04]\nLetniki: 2. LETNIK (EMŠ M)\nIzvajalci: In
 štitut za biokemijo in molekul IBKMG\nProstor: Vaj - 1 - IBC
LOCATION:Vrazov trg 2\, Vaj - 1 - IBC
ORGANIZER:Inštitut za biokemijo in molekul IBKMG
RELATED-TO:mf-AFLABS-URNIK:srecanje:3158
X-WR-TIMEZONE:Europe/Ljubljana
END:VEVENT
BEGIN:VEVENT
SUMMARY:Medicinska molekularna genetika (MMG)\, Vaje (V)\, [M2-13\, M2-14\
 , M2-15\, M2-16]
DTSTART;TZID=Europe/Ljubljana:20241007T160000
DTEND;TZID=Europe/Ljubljana:20241007T200000
DTSTAMP:20260420T071031Z
UID:mf-AFLABS-URNIK:premaknjeno-srecanje:18790
ATTENDEE:2. LETNIK (EMŠ M)
CATEGORIES:Entry,Special
COLOR:forestgreen
DESCRIPTION:Predmet: Medicinska molekularna genetika (MMG)\, Vaje (V)\, [M
 2-13\, M2-14\, M2-15\, M2-16]\nLetniki: 2. LETNIK (EMŠ M)\nIzvajalci: In
 štitut za biokemijo in molekul IBKMG\nProstor: Vaj - 1 - IBC
LOCATION:Vrazov trg 2\, Vaj - 1 - IBC
ORGANIZER:Inštitut za biokemijo in molekul IBKMG
RELATED-TO:mf-AFLABS-URNIK:srecanje:3159
X-WR-TIMEZONE:Europe/Ljubljana
END:VEVENT
BEGIN:VEVENT
SUMMARY:Biokemija in genetika za dentalno medicino (BGDM)\, Seminar (S)\, 
 [D2-01\, D2-02]
DTSTART;TZID=Europe/Ljubljana:20241007T080000
DTEND;TZID=Europe/Ljubljana:20241007T093000
DTSTAMP:20260420T071031Z
UID:mf-AFLABS-URNIK:premaknjeno-srecanje:19567
ATTENDEE:2. LETNIK (EMŠ DM)
CATEGORIES:Entry,Special
COLOR:forestgreen
DESCRIPTION:Predmet: Biokemija in genetika za dentalno medicino (BGDM)\, S
 eminar (S)\, [D2-01\, D2-02]\nLetniki: 2. LETNIK (EMŠ DM)\nIzvajalci: In
 štitut za biokemijo in molekul IBKMG\nProstor: Vaj - 2 - IBKMG
LOCATION:Vrazov trg 2\, Vaj - 2 - IBKMG
ORGANIZER:Inštitut za biokemijo in molekul IBKMG
RELATED-TO:mf-AFLABS-URNIK:srecanje:3290
X-WR-TIMEZONE:Europe/Ljubljana
END:VEVENT
BEGIN:VEVENT
SUMMARY:Biokemija in genetika za dentalno medicino (BGDM)\, Seminar (S)\, 
 [D2-03\, D2-04]
DTSTART;TZID=Europe/Ljubljana:20241007T120000
DTEND;TZID=Europe/Ljubljana:20241007T133000
DTSTAMP:20260420T071031Z
UID:mf-AFLABS-URNIK:premaknjeno-srecanje:19577
ATTENDEE:2. LETNIK (EMŠ DM)
CATEGORIES:Entry,Special
COLOR:forestgreen
DESCRIPTION:Predmet: Biokemija in genetika za dentalno medicino (BGDM)\, S
 eminar (S)\, [D2-03\, D2-04]\nLetniki: 2. LETNIK (EMŠ DM)\nIzvajalci: In
 štitut za biokemijo in molekul IBKMG\nProstor: Vaj - 2 - IBKMG
LOCATION:Vrazov trg 2\, Vaj - 2 - IBKMG
ORGANIZER:Inštitut za biokemijo in molekul IBKMG
RELATED-TO:mf-AFLABS-URNIK:srecanje:3291
X-WR-TIMEZONE:Europe/Ljubljana
END:VEVENT
BEGIN:VEVENT
SUMMARY:Biokemija in genetika za dentalno medicino (BGDM)\, Seminar (S)\, 
 [D2-05\, D2-06]
DTSTART;TZID=Europe/Ljubljana:20241007T160000
DTEND;TZID=Europe/Ljubljana:20241007T173000
DTSTAMP:20260420T071031Z
UID:mf-AFLABS-URNIK:premaknjeno-srecanje:19587
ATTENDEE:2. LETNIK (EMŠ DM)
CATEGORIES:Entry,Special
COLOR:forestgreen
DESCRIPTION:Predmet: Biokemija in genetika za dentalno medicino (BGDM)\, S
 eminar (S)\, [D2-05\, D2-06]\nLetniki: 2. LETNIK (EMŠ DM)\nIzvajalci: In
 štitut za biokemijo in molekul IBKMG\nProstor: Vaj - 2 - IBKMG
LOCATION:Vrazov trg 2\, Vaj - 2 - IBKMG
ORGANIZER:Inštitut za biokemijo in molekul IBKMG
RELATED-TO:mf-AFLABS-URNIK:srecanje:3292
X-WR-TIMEZONE:Europe/Ljubljana
END:VEVENT
BEGIN:VEVENT
SUMMARY:Biokemija in genetika za dentalno medicino (BGDM)\, Vaje (V)\, [D2
 -01]
DTSTART;TZID=Europe/Ljubljana:20241007T093000
DTEND;TZID=Europe/Ljubljana:20241007T120000
DTSTAMP:20260420T071031Z
UID:mf-AFLABS-URNIK:premaknjeno-srecanje:19597
ATTENDEE:2. LETNIK (EMŠ DM)
CATEGORIES:Entry,Special
COLOR:forestgreen
DESCRIPTION:Predmet: Biokemija in genetika za dentalno medicino (BGDM)\, V
 aje (V)\, [D2-01]\nLetniki: 2. LETNIK (EMŠ DM)\nIzvajalci: Inštitut za b
 iokemijo in molekul IBKMG\nProstor: Vaj - 1 - IBKMG
LOCATION:Vrazov trg 2\, Vaj - 1 - IBKMG
ORGANIZER:Inštitut za biokemijo in molekul IBKMG
RELATED-TO:mf-AFLABS-URNIK:srecanje:3293
X-WR-TIMEZONE:Europe/Ljubljana
END:VEVENT
BEGIN:VEVENT
SUMMARY:Biokemija in genetika za dentalno medicino (BGDM)\, Vaje (V)\, [D2
 -02]
DTSTART;TZID=Europe/Ljubljana:20241007T093000
DTEND;TZID=Europe/Ljubljana:20241007T120000
DTSTAMP:20260420T071031Z
UID:mf-AFLABS-URNIK:premaknjeno-srecanje:19607
ATTENDEE:2. LETNIK (EMŠ DM)
CATEGORIES:Entry,Special
COLOR:forestgreen
DESCRIPTION:Predmet: Biokemija in genetika za dentalno medicino (BGDM)\, V
 aje (V)\, [D2-02]\nLetniki: 2. LETNIK (EMŠ DM)\nIzvajalci: Inštitut za b
 iokemijo in molekul IBKMG\nProstor: Vaj - 2 - IBKMG
LOCATION:Vrazov trg 2\, Vaj - 2 - IBKMG
ORGANIZER:Inštitut za biokemijo in molekul IBKMG
RELATED-TO:mf-AFLABS-URNIK:srecanje:3294
X-WR-TIMEZONE:Europe/Ljubljana
END:VEVENT
BEGIN:VEVENT
SUMMARY:Biokemija in genetika za dentalno medicino (BGDM)\, Vaje (V)\, [D2
 -03]
DTSTART;TZID=Europe/Ljubljana:20241007T133000
DTEND;TZID=Europe/Ljubljana:20241007T160000
DTSTAMP:20260420T071031Z
UID:mf-AFLABS-URNIK:premaknjeno-srecanje:19617
ATTENDEE:2. LETNIK (EMŠ DM)
CATEGORIES:Entry,Special
COLOR:forestgreen
DESCRIPTION:Predmet: Biokemija in genetika za dentalno medicino (BGDM)\, V
 aje (V)\, [D2-03]\nLetniki: 2. LETNIK (EMŠ DM)\nIzvajalci: Inštitut za b
 iokemijo in molekul IBKMG\nProstor: Vaj - 1 - IBKMG
LOCATION:Vrazov trg 2\, Vaj - 1 - IBKMG
ORGANIZER:Inštitut za biokemijo in molekul IBKMG
RELATED-TO:mf-AFLABS-URNIK:srecanje:3295
X-WR-TIMEZONE:Europe/Ljubljana
END:VEVENT
BEGIN:VEVENT
SUMMARY:Biokemija in genetika za dentalno medicino (BGDM)\, Vaje (V)\, [D2
 -04]
DTSTART;TZID=Europe/Ljubljana:20241007T133000
DTEND;TZID=Europe/Ljubljana:20241007T160000
DTSTAMP:20260420T071031Z
UID:mf-AFLABS-URNIK:premaknjeno-srecanje:19627
ATTENDEE:2. LETNIK (EMŠ DM)
CATEGORIES:Entry,Special
COLOR:forestgreen
DESCRIPTION:Predmet: Biokemija in genetika za dentalno medicino (BGDM)\, V
 aje (V)\, [D2-04]\nLetniki: 2. LETNIK (EMŠ DM)\nIzvajalci: Inštitut za b
 iokemijo in molekul IBKMG\nProstor: Vaj - 2 - IBKMG
LOCATION:Vrazov trg 2\, Vaj - 2 - IBKMG
ORGANIZER:Inštitut za biokemijo in molekul IBKMG
RELATED-TO:mf-AFLABS-URNIK:srecanje:3296
X-WR-TIMEZONE:Europe/Ljubljana
END:VEVENT
BEGIN:VEVENT
SUMMARY:Biokemija in genetika za dentalno medicino (BGDM)\, Vaje (V)\, [D2
 -05]
DTSTART;TZID=Europe/Ljubljana:20241007T173000
DTEND;TZID=Europe/Ljubljana:20241007T200000
DTSTAMP:20260420T071031Z
UID:mf-AFLABS-URNIK:premaknjeno-srecanje:19637
ATTENDEE:2. LETNIK (EMŠ DM)
CATEGORIES:Entry,Special
COLOR:forestgreen
DESCRIPTION:Predmet: Biokemija in genetika za dentalno medicino (BGDM)\, V
 aje (V)\, [D2-05]\nLetniki: 2. LETNIK (EMŠ DM)\nIzvajalci: Inštitut za b
 iokemijo in molekul IBKMG\nProstor: Vaj - 1 - IBKMG
LOCATION:Vrazov trg 2\, Vaj - 1 - IBKMG
ORGANIZER:Inštitut za biokemijo in molekul IBKMG
RELATED-TO:mf-AFLABS-URNIK:srecanje:3297
X-WR-TIMEZONE:Europe/Ljubljana
END:VEVENT
BEGIN:VEVENT
SUMMARY:Biokemija in genetika za dentalno medicino (BGDM)\, Vaje (V)\, [D2
 -06]
DTSTART;TZID=Europe/Ljubljana:20241007T173000
DTEND;TZID=Europe/Ljubljana:20241007T200000
DTSTAMP:20260420T071031Z
UID:mf-AFLABS-URNIK:premaknjeno-srecanje:19647
ATTENDEE:2. LETNIK (EMŠ DM)
CATEGORIES:Entry,Special
COLOR:forestgreen
DESCRIPTION:Predmet: Biokemija in genetika za dentalno medicino (BGDM)\, V
 aje (V)\, [D2-06]\nLetniki: 2. LETNIK (EMŠ DM)\nIzvajalci: Inštitut za b
 iokemijo in molekul IBKMG\nProstor: Vaj - 2 - IBKMG
LOCATION:Vrazov trg 2\, Vaj - 2 - IBKMG
ORGANIZER:Inštitut za biokemijo in molekul IBKMG
RELATED-TO:mf-AFLABS-URNIK:srecanje:3298
X-WR-TIMEZONE:Europe/Ljubljana
END:VEVENT
END:VCALENDAR
