BEGIN:VCALENDAR
VERSION:2.0
PRODID:-//AFLabs urnik izvoz - mf//aflabs.si//SI
DTSTAMP:20260420T080839Z
NAME:UL MF urnik
REFRESH-INTERVAL:PT1H
SOURCE:https://afurnik-mf.dev.aflabs.org/teacher/4?day=2023-09-04&export=1
URL:https://afurnik-mf.dev.aflabs.org/teacher/4?day=2023-09-04&export=1
X-PUBLISHED-TTL:PT1H
X-WR-CALNAME:UL MF urnik
X-WR-TIMEZONE:Europe/Ljubljana
BEGIN:VTIMEZONE
TZID:Europe/Ljubljana
BEGIN:DAYLIGHT
DTSTART:20260329T020000
RDATE:20260329T020000
RDATE:20270328T020000
TZNAME:CEST
TZOFFSETFROM:+0100
TZOFFSETTO:+0200
END:DAYLIGHT
BEGIN:STANDARD
DTSTART:20261025T030000
RDATE:20261025T030000
RDATE:20271031T030000
TZNAME:CET
TZOFFSETFROM:+0200
TZOFFSETTO:+0100
END:STANDARD
END:VTIMEZONE
BEGIN:VEVENT
SUMMARY:Biologija celice za dentalno medicino (BCDM)\, Predavanje (P)
DTSTART;TZID=Europe/Ljubljana:20231002T130000
DTEND;TZID=Europe/Ljubljana:20231002T140000
DTSTAMP:20260420T080839Z
UID:mf-AFLABS-URNIK:premaknjeno-srecanje:2180
ATTENDEE:1. LETNIK (EMŠ DM)
CATEGORIES:Entry,Standard
COLOR:darkgreen
DESCRIPTION:Predmet: Biologija celice za dentalno medicino (BCDM)\, Predav
 anje (P)\nLetniki: 1. LETNIK (EMŠ DM)\nIzvajalci: Inštitut za biologijo 
 celice IBC\nProstor: Pred - Mala - MF
LOCATION:Korytkova 2\, Pred - Mala - MF
ORGANIZER:Inštitut za biologijo celice IBC
RELATED-TO:mf-AFLABS-URNIK:srecanje:343
X-WR-TIMEZONE:Europe/Ljubljana
END:VEVENT
BEGIN:VEVENT
SUMMARY:Medicinska celična biologija (MCB)\, d.o.š. (doš)\, [M1-17\, M1
 -18]
DTSTART;TZID=Europe/Ljubljana:20231003T180000
DTEND;TZID=Europe/Ljubljana:20231003T190000
DTSTAMP:20260420T080839Z
UID:mf-AFLABS-URNIK:premaknjeno-srecanje:642
ATTENDEE:1. LETNIK (EMŠ M)
CATEGORIES:Entry,Standard
COLOR:darkgreen
DESCRIPTION:Predmet: Medicinska celična biologija (MCB)\, d.o.š. (doš)\
 , [M1-17\, M1-18]\nLetniki: 1. LETNIK (EMŠ M)\nIzvajalci: Inštitut za bi
 ologijo celice IBC\nProstor: Vaj - 1 - IBC
LOCATION:Vrazov trg 2\, Vaj - 1 - IBC
ORGANIZER:Inštitut za biologijo celice IBC
RELATED-TO:mf-AFLABS-URNIK:srecanje:60
X-WR-TIMEZONE:Europe/Ljubljana
END:VEVENT
BEGIN:VEVENT
SUMMARY:Medicinska celična biologija (MCB)\, d.o.š. (doš)\, [M1-19\, M1
 -20]
DTSTART;TZID=Europe/Ljubljana:20231003T180000
DTEND;TZID=Europe/Ljubljana:20231003T190000
DTSTAMP:20260420T080839Z
UID:mf-AFLABS-URNIK:premaknjeno-srecanje:653
ATTENDEE:1. LETNIK (EMŠ M)
CATEGORIES:Entry,Standard
COLOR:darkgreen
DESCRIPTION:Predmet: Medicinska celična biologija (MCB)\, d.o.š. (doš)\
 , [M1-19\, M1-20]\nLetniki: 1. LETNIK (EMŠ M)\nIzvajalci: Inštitut za bi
 ologijo celice IBC\nProstor: Vaj - 2 - IBC
LOCATION:Vrazov trg 2\, Vaj - 2 - IBC
ORGANIZER:Inštitut za biologijo celice IBC
RELATED-TO:mf-AFLABS-URNIK:srecanje:61
X-WR-TIMEZONE:Europe/Ljubljana
END:VEVENT
BEGIN:VEVENT
SUMMARY:Medicinska celična biologija (MCB)\, d.o.š. (doš)\, [M1-05\, M1
 -06]
DTSTART;TZID=Europe/Ljubljana:20231003T190000
DTEND;TZID=Europe/Ljubljana:20231003T200000
DTSTAMP:20260420T080839Z
UID:mf-AFLABS-URNIK:premaknjeno-srecanje:664
ATTENDEE:1. LETNIK (EMŠ M)
CATEGORIES:Entry,Standard
COLOR:darkgreen
DESCRIPTION:Predmet: Medicinska celična biologija (MCB)\, d.o.š. (doš)\
 , [M1-05\, M1-06]\nLetniki: 1. LETNIK (EMŠ M)\nIzvajalci: Inštitut za bi
 ologijo celice IBC\nProstor: Vaj - 1 - IBC
LOCATION:Vrazov trg 2\, Vaj - 1 - IBC
ORGANIZER:Inštitut za biologijo celice IBC
RELATED-TO:mf-AFLABS-URNIK:srecanje:62
X-WR-TIMEZONE:Europe/Ljubljana
END:VEVENT
BEGIN:VEVENT
SUMMARY:Medicinska celična biologija (MCB)\, d.o.š. (doš)\, [M1-07\, M1
 -08]
DTSTART;TZID=Europe/Ljubljana:20231003T190000
DTEND;TZID=Europe/Ljubljana:20231003T200000
DTSTAMP:20260420T080839Z
UID:mf-AFLABS-URNIK:premaknjeno-srecanje:675
ATTENDEE:1. LETNIK (EMŠ M)
CATEGORIES:Entry,Standard
COLOR:darkgreen
DESCRIPTION:Predmet: Medicinska celična biologija (MCB)\, d.o.š. (doš)\
 , [M1-07\, M1-08]\nLetniki: 1. LETNIK (EMŠ M)\nIzvajalci: Inštitut za bi
 ologijo celice IBC\nProstor: Vaj - 2 - IBC
LOCATION:Vrazov trg 2\, Vaj - 2 - IBC
ORGANIZER:Inštitut za biologijo celice IBC
RELATED-TO:mf-AFLABS-URNIK:srecanje:63
X-WR-TIMEZONE:Europe/Ljubljana
END:VEVENT
BEGIN:VEVENT
SUMMARY:Medicinska celična biologija (MCB)\, d.o.š. (doš)\, [M1-09\, M1
 -10]
DTSTART;TZID=Europe/Ljubljana:20231004T180000
DTEND;TZID=Europe/Ljubljana:20231004T190000
DTSTAMP:20260420T080839Z
UID:mf-AFLABS-URNIK:premaknjeno-srecanje:776
ATTENDEE:1. LETNIK (EMŠ M)
CATEGORIES:Entry,Standard
COLOR:darkgreen
DESCRIPTION:Predmet: Medicinska celična biologija (MCB)\, d.o.š. (doš)\
 , [M1-09\, M1-10]\nLetniki: 1. LETNIK (EMŠ M)\nIzvajalci: Inštitut za bi
 ologijo celice IBC\nProstor: Vaj - 1 - IBC
LOCATION:Vrazov trg 2\, Vaj - 1 - IBC
ORGANIZER:Inštitut za biologijo celice IBC
RELATED-TO:mf-AFLABS-URNIK:srecanje:74
X-WR-TIMEZONE:Europe/Ljubljana
END:VEVENT
BEGIN:VEVENT
SUMMARY:Medicinska celična biologija (MCB)\, d.o.š. (doš)\, [M1-11\, M1
 -12]
DTSTART;TZID=Europe/Ljubljana:20231004T180000
DTEND;TZID=Europe/Ljubljana:20231004T190000
DTSTAMP:20260420T080839Z
UID:mf-AFLABS-URNIK:premaknjeno-srecanje:787
ATTENDEE:1. LETNIK (EMŠ M)
CATEGORIES:Entry,Standard
COLOR:darkgreen
DESCRIPTION:Predmet: Medicinska celična biologija (MCB)\, d.o.š. (doš)\
 , [M1-11\, M1-12]\nLetniki: 1. LETNIK (EMŠ M)\nIzvajalci: Inštitut za bi
 ologijo celice IBC\nProstor: Vaj - 2 - IBC
LOCATION:Vrazov trg 2\, Vaj - 2 - IBC
ORGANIZER:Inštitut za biologijo celice IBC
RELATED-TO:mf-AFLABS-URNIK:srecanje:75
X-WR-TIMEZONE:Europe/Ljubljana
END:VEVENT
BEGIN:VEVENT
SUMMARY:Biologija celice za dentalno medicino (BCDM)\, Vaje (V)\, [D1-05\,
  D1-06]
DTSTART;TZID=Europe/Ljubljana:20231004T080000
DTEND;TZID=Europe/Ljubljana:20231004T100000
DTSTAMP:20260420T080839Z
UID:mf-AFLABS-URNIK:premaknjeno-srecanje:2204
ATTENDEE:1. LETNIK (EMŠ DM)
CATEGORIES:Entry,Standard
COLOR:darkgreen
DESCRIPTION:Predmet: Biologija celice za dentalno medicino (BCDM)\, Vaje (
 V)\, [D1-05\, D1-06]\nLetniki: 1. LETNIK (EMŠ DM)\nIzvajalci: Inštitut z
 a biologijo celice IBC\nProstor: Vaj - 1 - IBC
LOCATION:Vrazov trg 2\, Vaj - 1 - IBC
ORGANIZER:Inštitut za biologijo celice IBC
RELATED-TO:mf-AFLABS-URNIK:srecanje:346
X-WR-TIMEZONE:Europe/Ljubljana
END:VEVENT
BEGIN:VEVENT
SUMMARY:Biologija celice za dentalno medicino (BCDM)\, Vaje (V)\, [D1-01\,
  D1-02]
DTSTART;TZID=Europe/Ljubljana:20231004T100000
DTEND;TZID=Europe/Ljubljana:20231004T120000
DTSTAMP:20260420T080839Z
UID:mf-AFLABS-URNIK:premaknjeno-srecanje:2215
ATTENDEE:1. LETNIK (EMŠ DM)
CATEGORIES:Entry,Standard
COLOR:darkgreen
DESCRIPTION:Predmet: Biologija celice za dentalno medicino (BCDM)\, Vaje (
 V)\, [D1-01\, D1-02]\nLetniki: 1. LETNIK (EMŠ DM)\nIzvajalci: Inštitut z
 a biologijo celice IBC\nProstor: Vaj - 1 - IBC
LOCATION:Vrazov trg 2\, Vaj - 1 - IBC
ORGANIZER:Inštitut za biologijo celice IBC
RELATED-TO:mf-AFLABS-URNIK:srecanje:347
X-WR-TIMEZONE:Europe/Ljubljana
END:VEVENT
BEGIN:VEVENT
SUMMARY:Biologija celice za dentalno medicino (BCDM)\, Vaje (V)\, [D1-03\,
  D1-04]
DTSTART;TZID=Europe/Ljubljana:20231004T100000
DTEND;TZID=Europe/Ljubljana:20231004T120000
DTSTAMP:20260420T080839Z
UID:mf-AFLABS-URNIK:premaknjeno-srecanje:2226
ATTENDEE:1. LETNIK (EMŠ DM)
CATEGORIES:Entry,Standard
COLOR:darkgreen
DESCRIPTION:Predmet: Biologija celice za dentalno medicino (BCDM)\, Vaje (
 V)\, [D1-03\, D1-04]\nLetniki: 1. LETNIK (EMŠ DM)\nIzvajalci: Inštitut z
 a biologijo celice IBC\nProstor: Vaj - 2 - IBC
LOCATION:Vrazov trg 2\, Vaj - 2 - IBC
ORGANIZER:Inštitut za biologijo celice IBC
RELATED-TO:mf-AFLABS-URNIK:srecanje:348
X-WR-TIMEZONE:Europe/Ljubljana
END:VEVENT
BEGIN:VEVENT
SUMMARY:Medicinska celična biologija (MCB)\, d.o.š. (doš)\, [M1-13\, M1
 -14]
DTSTART;TZID=Europe/Ljubljana:20231005T160000
DTEND;TZID=Europe/Ljubljana:20231005T170000
DTSTAMP:20260420T080839Z
UID:mf-AFLABS-URNIK:premaknjeno-srecanje:852
ATTENDEE:1. LETNIK (EMŠ M)
CATEGORIES:Entry,Standard
COLOR:darkgreen
DESCRIPTION:Predmet: Medicinska celična biologija (MCB)\, d.o.š. (doš)\
 , [M1-13\, M1-14]\nLetniki: 1. LETNIK (EMŠ M)\nIzvajalci: Inštitut za bi
 ologijo celice IBC\nProstor: Vaj - 1 - IBC
LOCATION:Vrazov trg 2\, Vaj - 1 - IBC
ORGANIZER:Inštitut za biologijo celice IBC
RELATED-TO:mf-AFLABS-URNIK:srecanje:82
X-WR-TIMEZONE:Europe/Ljubljana
END:VEVENT
BEGIN:VEVENT
SUMMARY:Medicinska celična biologija (MCB)\, d.o.š. (doš)\, [M1-15\, M1
 -16]
DTSTART;TZID=Europe/Ljubljana:20231005T160000
DTEND;TZID=Europe/Ljubljana:20231005T170000
DTSTAMP:20260420T080839Z
UID:mf-AFLABS-URNIK:premaknjeno-srecanje:863
ATTENDEE:1. LETNIK (EMŠ M)
CATEGORIES:Entry,Standard
COLOR:darkgreen
DESCRIPTION:Predmet: Medicinska celična biologija (MCB)\, d.o.š. (doš)\
 , [M1-15\, M1-16]\nLetniki: 1. LETNIK (EMŠ M)\nIzvajalci: Inštitut za bi
 ologijo celice IBC\nProstor: Vaj - 2 - IBC
LOCATION:Vrazov trg 2\, Vaj - 2 - IBC
ORGANIZER:Inštitut za biologijo celice IBC
RELATED-TO:mf-AFLABS-URNIK:srecanje:83
X-WR-TIMEZONE:Europe/Ljubljana
END:VEVENT
BEGIN:VEVENT
SUMMARY:Medicinska celična biologija (MCB)\, d.o.š. (doš)\, [M1-01\, M1
 -02]
DTSTART;TZID=Europe/Ljubljana:20231005T170000
DTEND;TZID=Europe/Ljubljana:20231005T180000
DTSTAMP:20260420T080839Z
UID:mf-AFLABS-URNIK:premaknjeno-srecanje:874
ATTENDEE:1. LETNIK (EMŠ M)
CATEGORIES:Entry,Standard
COLOR:darkgreen
DESCRIPTION:Predmet: Medicinska celična biologija (MCB)\, d.o.š. (doš)\
 , [M1-01\, M1-02]\nLetniki: 1. LETNIK (EMŠ M)\nIzvajalci: Inštitut za bi
 ologijo celice IBC\nProstor: Vaj - 1 - IBC
LOCATION:Vrazov trg 2\, Vaj - 1 - IBC
ORGANIZER:Inštitut za biologijo celice IBC
RELATED-TO:mf-AFLABS-URNIK:srecanje:84
X-WR-TIMEZONE:Europe/Ljubljana
END:VEVENT
BEGIN:VEVENT
SUMMARY:Medicinska celična biologija (MCB)\, d.o.š. (doš)\, [M1-03\, M1
 -04]
DTSTART;TZID=Europe/Ljubljana:20231005T170000
DTEND;TZID=Europe/Ljubljana:20231005T180000
DTSTAMP:20260420T080839Z
UID:mf-AFLABS-URNIK:premaknjeno-srecanje:885
ATTENDEE:1. LETNIK (EMŠ M)
CATEGORIES:Entry,Standard
COLOR:darkgreen
DESCRIPTION:Predmet: Medicinska celična biologija (MCB)\, d.o.š. (doš)\
 , [M1-03\, M1-04]\nLetniki: 1. LETNIK (EMŠ M)\nIzvajalci: Inštitut za bi
 ologijo celice IBC\nProstor: Vaj - 2 - IBC
LOCATION:Vrazov trg 2\, Vaj - 2 - IBC
ORGANIZER:Inštitut za biologijo celice IBC
RELATED-TO:mf-AFLABS-URNIK:srecanje:85
X-WR-TIMEZONE:Europe/Ljubljana
END:VEVENT
BEGIN:VEVENT
SUMMARY:Biologija celice za dentalno medicino (BCDM)\, Vaje (V)\, [D1-01\,
  D1-02]
DTSTART;TZID=Europe/Ljubljana:20231005T120000
DTEND;TZID=Europe/Ljubljana:20231005T140000
DTSTAMP:20260420T080839Z
UID:mf-AFLABS-URNIK:premaknjeno-srecanje:2237
ATTENDEE:1. LETNIK (EMŠ DM)
CATEGORIES:Entry,Standard
COLOR:darkgreen
DESCRIPTION:Predmet: Biologija celice za dentalno medicino (BCDM)\, Vaje (
 V)\, [D1-01\, D1-02]\nLetniki: 1. LETNIK (EMŠ DM)\nIzvajalci: Inštitut z
 a biologijo celice IBC\nProstor: Vaj - 1 - IBC
LOCATION:Vrazov trg 2\, Vaj - 1 - IBC
ORGANIZER:Inštitut za biologijo celice IBC
RELATED-TO:mf-AFLABS-URNIK:srecanje:349
X-WR-TIMEZONE:Europe/Ljubljana
END:VEVENT
BEGIN:VEVENT
SUMMARY:Biologija celice za dentalno medicino (BCDM)\, Vaje (V)\, [D1-05\,
  D1-06]
DTSTART;TZID=Europe/Ljubljana:20231005T140000
DTEND;TZID=Europe/Ljubljana:20231005T160000
DTSTAMP:20260420T080839Z
UID:mf-AFLABS-URNIK:premaknjeno-srecanje:2248
ATTENDEE:1. LETNIK (EMŠ DM)
CATEGORIES:Entry,Standard
COLOR:darkgreen
DESCRIPTION:Predmet: Biologija celice za dentalno medicino (BCDM)\, Vaje (
 V)\, [D1-05\, D1-06]\nLetniki: 1. LETNIK (EMŠ DM)\nIzvajalci: Inštitut z
 a biologijo celice IBC\nProstor: Vaj - 1 - IBC
LOCATION:Vrazov trg 2\, Vaj - 1 - IBC
ORGANIZER:Inštitut za biologijo celice IBC
RELATED-TO:mf-AFLABS-URNIK:srecanje:350
X-WR-TIMEZONE:Europe/Ljubljana
END:VEVENT
BEGIN:VEVENT
SUMMARY:Biologija celice za dentalno medicino (BCDM)\, Vaje (V)\, [D1-03\,
  D1-04]
DTSTART;TZID=Europe/Ljubljana:20231005T120000
DTEND;TZID=Europe/Ljubljana:20231005T140000
DTSTAMP:20260420T080839Z
UID:mf-AFLABS-URNIK:premaknjeno-srecanje:2259
ATTENDEE:1. LETNIK (EMŠ DM)
CATEGORIES:Entry,Standard
COLOR:darkgreen
DESCRIPTION:Predmet: Biologija celice za dentalno medicino (BCDM)\, Vaje (
 V)\, [D1-03\, D1-04]\nLetniki: 1. LETNIK (EMŠ DM)\nIzvajalci: Inštitut z
 a biologijo celice IBC\nProstor: Vaj - 2 - IBC
LOCATION:Vrazov trg 2\, Vaj - 2 - IBC
ORGANIZER:Inštitut za biologijo celice IBC
RELATED-TO:mf-AFLABS-URNIK:srecanje:351
X-WR-TIMEZONE:Europe/Ljubljana
END:VEVENT
BEGIN:VEVENT
SUMMARY:Medicinska celična biologija (MCB)\, Predavanje (P)
DTSTART;TZID=Europe/Ljubljana:20231006T080000
DTEND;TZID=Europe/Ljubljana:20231006T100000
DTSTAMP:20260420T080839Z
UID:mf-AFLABS-URNIK:premaknjeno-srecanje:630
ATTENDEE:1. LETNIK (EMŠ M)
CATEGORIES:Entry,Standard
COLOR:darkgreen
DESCRIPTION:Predmet: Medicinska celična biologija (MCB)\, Predavanje (P)\
 nLetniki: 1. LETNIK (EMŠ M)\nIzvajalci: Inštitut za biologijo celice IBC
 \nProstor: Pred - Velika - MF
LOCATION:Korytkova 2\, Pred - Velika - MF
ORGANIZER:Inštitut za biologijo celice IBC
RELATED-TO:mf-AFLABS-URNIK:srecanje:59
X-WR-TIMEZONE:Europe/Ljubljana
END:VEVENT
BEGIN:VEVENT
SUMMARY:Biologija celice za dentalno medicino (BCDM)\, Predavanje (P)
DTSTART;TZID=Europe/Ljubljana:20231006T110000
DTEND;TZID=Europe/Ljubljana:20231006T130000
DTSTAMP:20260420T080839Z
UID:mf-AFLABS-URNIK:premaknjeno-srecanje:2192
ATTENDEE:1. LETNIK (EMŠ DM)
CATEGORIES:Entry,Standard
COLOR:darkgreen
DESCRIPTION:Predmet: Biologija celice za dentalno medicino (BCDM)\, Predav
 anje (P)\nLetniki: 1. LETNIK (EMŠ DM)\nIzvajalci: Inštitut za biologijo 
 celice IBC\nProstor: Pred - Mala - MF
LOCATION:Korytkova 2\, Pred - Mala - MF
ORGANIZER:Inštitut za biologijo celice IBC
RELATED-TO:mf-AFLABS-URNIK:srecanje:345
X-WR-TIMEZONE:Europe/Ljubljana
END:VEVENT
BEGIN:VEVENT
SUMMARY:Medicinska celična biologija (MCB)\, Predavanje (P)
DTSTART;TZID=Europe/Ljubljana:20231009T080000
DTEND;TZID=Europe/Ljubljana:20231009T100000
DTSTAMP:20260420T080839Z
UID:mf-AFLABS-URNIK:premaknjeno-srecanje:619
ATTENDEE:1. LETNIK (EMŠ M)
CATEGORIES:Entry,Standard
COLOR:darkgreen
DESCRIPTION:Predmet: Medicinska celična biologija (MCB)\, Predavanje (P)\
 nLetniki: 1. LETNIK (EMŠ M)\nIzvajalci: Inštitut za biologijo celice IBC
 \nProstor: Pred - Velika - MF
LOCATION:Korytkova 2\, Pred - Velika - MF
ORGANIZER:Inštitut za biologijo celice IBC
RELATED-TO:mf-AFLABS-URNIK:srecanje:58
X-WR-TIMEZONE:Europe/Ljubljana
END:VEVENT
BEGIN:VEVENT
SUMMARY:Biologija celice za dentalno medicino (BCDM)\, Predavanje (P)
DTSTART;TZID=Europe/Ljubljana:20231009T140000
DTEND;TZID=Europe/Ljubljana:20231009T160000
DTSTAMP:20260420T080839Z
UID:mf-AFLABS-URNIK:premaknjeno-srecanje:2181
ATTENDEE:1. LETNIK (EMŠ DM)
CATEGORIES:Entry,Standard
COLOR:darkgreen
DESCRIPTION:Predmet: Biologija celice za dentalno medicino (BCDM)\, Predav
 anje (P)\nLetniki: 1. LETNIK (EMŠ DM)\nIzvajalci: Inštitut za biologijo 
 celice IBC\nProstor: Pred - Mala - MF
LOCATION:Korytkova 2\, Pred - Mala - MF
ORGANIZER:Inštitut za biologijo celice IBC
RELATED-TO:mf-AFLABS-URNIK:srecanje:344
X-WR-TIMEZONE:Europe/Ljubljana
END:VEVENT
END:VCALENDAR
