BEGIN:VCALENDAR
VERSION:2.0
PRODID:-//AFLabs urnik izvoz - mf//aflabs.si//SI
DTSTAMP:20260420T103110Z
NAME:UL MF urnik
REFRESH-INTERVAL:PT1H
SOURCE:https://afurnik-mf.dev.aflabs.org/teacher/5?day=2023-08-28&export=1
URL:https://afurnik-mf.dev.aflabs.org/teacher/5?day=2023-08-28&export=1
X-PUBLISHED-TTL:PT1H
X-WR-CALNAME:UL MF urnik
X-WR-TIMEZONE:Europe/Ljubljana
BEGIN:VTIMEZONE
TZID:Europe/Ljubljana
BEGIN:DAYLIGHT
DTSTART:20260329T020000
RDATE:20260329T020000
RDATE:20270328T020000
TZNAME:CEST
TZOFFSETFROM:+0100
TZOFFSETTO:+0200
END:DAYLIGHT
BEGIN:STANDARD
DTSTART:20261025T030000
RDATE:20261025T030000
RDATE:20271031T030000
TZNAME:CET
TZOFFSETFROM:+0200
TZOFFSETTO:+0100
END:STANDARD
END:VTIMEZONE
BEGIN:VEVENT
SUMMARY:Raziskovanje v medicini 2 (RM2)\, Vaje (V)\, [M-08\, M2-07]
DTSTART;TZID=Europe/Ljubljana:20231002T080000
DTEND;TZID=Europe/Ljubljana:20231002T100000
DTSTAMP:20260420T103110Z
UID:mf-AFLABS-URNIK:premaknjeno-srecanje:3839
ATTENDEE:2. LETNIK (EMŠ M)
CATEGORIES:Entry,Standard
COLOR:darkgreen
DESCRIPTION:Predmet: Raziskovanje v medicini 2 (RM2)\, Vaje (V)\, [M-08\, 
 M2-07]\nLetniki: 2. LETNIK (EMŠ M)\nIzvajalci: Inštitut za biostatistiko
  in med IBMI\nProstor: Sem - 3 - Katedra za javno zdravje
LOCATION:Zaloška 4\, Sem - 3 - Katedra za javno zdravje
ORGANIZER:Inštitut za biostatistiko in med IBMI
RELATED-TO:mf-AFLABS-URNIK:srecanje:632
X-WR-TIMEZONE:Europe/Ljubljana
END:VEVENT
BEGIN:VEVENT
SUMMARY:Raziskovanje v medicini 2 (RM2)\, Vaje (V)\, [M2-05\, M2-06]
DTSTART;TZID=Europe/Ljubljana:20231002T100000
DTEND;TZID=Europe/Ljubljana:20231002T120000
DTSTAMP:20260420T103110Z
UID:mf-AFLABS-URNIK:premaknjeno-srecanje:3850
ATTENDEE:2. LETNIK (EMŠ M)
CATEGORIES:Entry,Standard
COLOR:darkgreen
DESCRIPTION:Predmet: Raziskovanje v medicini 2 (RM2)\, Vaje (V)\, [M2-05\,
  M2-06]\nLetniki: 2. LETNIK (EMŠ M)\nIzvajalci: Inštitut za biostatistik
 o in med IBMI\nProstor: Sem - 3 - Katedra za javno zdravje
LOCATION:Zaloška 4\, Sem - 3 - Katedra za javno zdravje
ORGANIZER:Inštitut za biostatistiko in med IBMI
RELATED-TO:mf-AFLABS-URNIK:srecanje:633
X-WR-TIMEZONE:Europe/Ljubljana
END:VEVENT
BEGIN:VEVENT
SUMMARY:Raziskovanje v medicini 2 (RM2)\, Vaje (V)\, [M2-11\, M2-12]
DTSTART;TZID=Europe/Ljubljana:20231002T120000
DTEND;TZID=Europe/Ljubljana:20231002T140000
DTSTAMP:20260420T103110Z
UID:mf-AFLABS-URNIK:premaknjeno-srecanje:3861
ATTENDEE:2. LETNIK (EMŠ M)
CATEGORIES:Entry,Standard
COLOR:darkgreen
DESCRIPTION:Predmet: Raziskovanje v medicini 2 (RM2)\, Vaje (V)\, [M2-11\,
  M2-12]\nLetniki: 2. LETNIK (EMŠ M)\nIzvajalci: Inštitut za biostatistik
 o in med IBMI\nProstor: Sem - 3 - Katedra za javno zdravje
LOCATION:Zaloška 4\, Sem - 3 - Katedra za javno zdravje
ORGANIZER:Inštitut za biostatistiko in med IBMI
RELATED-TO:mf-AFLABS-URNIK:srecanje:634
X-WR-TIMEZONE:Europe/Ljubljana
END:VEVENT
BEGIN:VEVENT
SUMMARY:Raziskovanje v medicini 2 (RM2)\, Vaje (V)\, [M2-09\, M2-10]
DTSTART;TZID=Europe/Ljubljana:20231002T140000
DTEND;TZID=Europe/Ljubljana:20231002T160000
DTSTAMP:20260420T103110Z
UID:mf-AFLABS-URNIK:premaknjeno-srecanje:3872
ATTENDEE:2. LETNIK (EMŠ M)
CATEGORIES:Entry,Standard
COLOR:darkgreen
DESCRIPTION:Predmet: Raziskovanje v medicini 2 (RM2)\, Vaje (V)\, [M2-09\,
  M2-10]\nLetniki: 2. LETNIK (EMŠ M)\nIzvajalci: Inštitut za biostatistik
 o in med IBMI\nProstor: Sem - 3 - Katedra za javno zdravje
LOCATION:Zaloška 4\, Sem - 3 - Katedra za javno zdravje
ORGANIZER:Inštitut za biostatistiko in med IBMI
RELATED-TO:mf-AFLABS-URNIK:srecanje:635
X-WR-TIMEZONE:Europe/Ljubljana
END:VEVENT
END:VCALENDAR
