BEGIN:VCALENDAR
VERSION:2.0
PRODID:-//AFLabs urnik izvoz - mf//aflabs.si//SI
DTSTAMP:20260420T064128Z
NAME:UL MF urnik
REFRESH-INTERVAL:PT1H
SOURCE:https://afurnik-mf.dev.aflabs.org/teacher/6?day=2023-09-11&export=1
URL:https://afurnik-mf.dev.aflabs.org/teacher/6?day=2023-09-11&export=1
X-PUBLISHED-TTL:PT1H
X-WR-CALNAME:UL MF urnik
X-WR-TIMEZONE:Europe/Ljubljana
BEGIN:VTIMEZONE
TZID:Europe/Ljubljana
BEGIN:DAYLIGHT
DTSTART:20260329T020000
RDATE:20260329T020000
RDATE:20270328T020000
TZNAME:CEST
TZOFFSETFROM:+0100
TZOFFSETTO:+0200
END:DAYLIGHT
BEGIN:STANDARD
DTSTART:20261025T030000
RDATE:20261025T030000
RDATE:20271031T030000
TZNAME:CET
TZOFFSETFROM:+0200
TZOFFSETTO:+0100
END:STANDARD
END:VTIMEZONE
BEGIN:VEVENT
SUMMARY:Farmakologija za dentalno medicino (FARMADM)\, Vaje (V)\, [D3-01\,
  D3-02]
DTSTART;TZID=Europe/Ljubljana:20231002T110000
DTEND;TZID=Europe/Ljubljana:20231002T140000
DTSTAMP:20260420T064128Z
UID:mf-AFLABS-URNIK:premaknjeno-srecanje:4632
ATTENDEE:3. LETNIK (EMŠ DM)
CATEGORIES:Entry,Standard
COLOR:darkgreen
DESCRIPTION:Predmet: Farmakologija za dentalno medicino (FARMADM)\, Vaje (
 V)\, [D3-01\, D3-02]\nLetniki: 3. LETNIK (EMŠ DM)\nIzvajalci: Inštitut z
 a farmakologijo in eks IFET\nProstor: Vajalnice IFET
LOCATION:Vajalnice IFET
ORGANIZER:Inštitut za farmakologijo in eks IFET
RELATED-TO:mf-AFLABS-URNIK:srecanje:769
X-WR-TIMEZONE:Europe/Ljubljana
END:VEVENT
BEGIN:VEVENT
SUMMARY:Farmakologija za dentalno medicino (FARMADM)\, Seminar (S)\, [D3-0
 1\, D3-02\, D3-03]
DTSTART;TZID=Europe/Ljubljana:20231004T170000
DTEND;TZID=Europe/Ljubljana:20231004T190000
DTSTAMP:20260420T064128Z
UID:mf-AFLABS-URNIK:premaknjeno-srecanje:4586
ATTENDEE:3. LETNIK (EMŠ DM)
CATEGORIES:Entry,Standard
COLOR:darkgreen
DESCRIPTION:Predmet: Farmakologija za dentalno medicino (FARMADM)\, Semina
 r (S)\, [D3-01\, D3-02\, D3-03]\nLetniki: 3. LETNIK (EMŠ DM)\nIzvajalci: 
 Inštitut za farmakologijo in eks IFET\nProstor: Pred - Mala - MF
LOCATION:Korytkova 2\, Pred - Mala - MF
ORGANIZER:Inštitut za farmakologijo in eks IFET
RELATED-TO:mf-AFLABS-URNIK:srecanje:765
X-WR-TIMEZONE:Europe/Ljubljana
END:VEVENT
BEGIN:VEVENT
SUMMARY:Farmakologija za dentalno medicino (FARMADM)\, Seminar (S)\, [D3-0
 1\, D3-02\, D3-03]
DTSTART;TZID=Europe/Ljubljana:20231011T170000
DTEND;TZID=Europe/Ljubljana:20231011T190000
DTSTAMP:20260420T064128Z
UID:mf-AFLABS-URNIK:premaknjeno-srecanje:4587
ATTENDEE:3. LETNIK (EMŠ DM)
CATEGORIES:Entry,Standard
COLOR:darkgreen
DESCRIPTION:Predmet: Farmakologija za dentalno medicino (FARMADM)\, Semina
 r (S)\, [D3-01\, D3-02\, D3-03]\nLetniki: 3. LETNIK (EMŠ DM)\nIzvajalci: 
 Inštitut za farmakologijo in eks IFET\nProstor: Pred - Mala - MF
LOCATION:Korytkova 2\, Pred - Mala - MF
ORGANIZER:Inštitut za farmakologijo in eks IFET
RELATED-TO:mf-AFLABS-URNIK:srecanje:765
X-WR-TIMEZONE:Europe/Ljubljana
END:VEVENT
BEGIN:VEVENT
SUMMARY:Farmakologija za dentalno medicino (FARMADM)\, Seminar (S)\, [D3-0
 4\, D3-05\, D3-06]
DTSTART;TZID=Europe/Ljubljana:20231004T170000
DTEND;TZID=Europe/Ljubljana:20231004T190000
DTSTAMP:20260420T064128Z
UID:mf-AFLABS-URNIK:premaknjeno-srecanje:4597
ATTENDEE:3. LETNIK (EMŠ DM)
CATEGORIES:Entry,Standard
COLOR:darkgreen
DESCRIPTION:Predmet: Farmakologija za dentalno medicino (FARMADM)\, Semina
 r (S)\, [D3-04\, D3-05\, D3-06]\nLetniki: 3. LETNIK (EMŠ DM)\nIzvajalci: 
 Inštitut za farmakologijo in eks IFET\nProstor: Sem - Farma
LOCATION:Korytkova 2\, Sem - Farma
ORGANIZER:Inštitut za farmakologijo in eks IFET
RELATED-TO:mf-AFLABS-URNIK:srecanje:766
X-WR-TIMEZONE:Europe/Ljubljana
END:VEVENT
BEGIN:VEVENT
SUMMARY:Farmakologija za dentalno medicino (FARMADM)\, Seminar (S)\, [D3-0
 4\, D3-05\, D3-06]
DTSTART;TZID=Europe/Ljubljana:20231011T170000
DTEND;TZID=Europe/Ljubljana:20231011T190000
DTSTAMP:20260420T064128Z
UID:mf-AFLABS-URNIK:premaknjeno-srecanje:4598
ATTENDEE:3. LETNIK (EMŠ DM)
CATEGORIES:Entry,Standard
COLOR:darkgreen
DESCRIPTION:Predmet: Farmakologija za dentalno medicino (FARMADM)\, Semina
 r (S)\, [D3-04\, D3-05\, D3-06]\nLetniki: 3. LETNIK (EMŠ DM)\nIzvajalci: 
 Inštitut za farmakologijo in eks IFET\nProstor: Sem - Farma
LOCATION:Korytkova 2\, Sem - Farma
ORGANIZER:Inštitut za farmakologijo in eks IFET
RELATED-TO:mf-AFLABS-URNIK:srecanje:766
X-WR-TIMEZONE:Europe/Ljubljana
END:VEVENT
BEGIN:VEVENT
SUMMARY:Farmakologija (FARMA)\, Vaje (V)\, [M3-19\, M3-20]
DTSTART;TZID=Europe/Ljubljana:20231006T080000
DTEND;TZID=Europe/Ljubljana:20231006T110000
DTSTAMP:20260420T064128Z
UID:mf-AFLABS-URNIK:premaknjeno-srecanje:5051
ATTENDEE:3. LETNIK (EMŠ M)
CATEGORIES:Entry,Standard
COLOR:darkgreen
DESCRIPTION:Predmet: Farmakologija (FARMA)\, Vaje (V)\, [M3-19\, M3-20]\nL
 etniki: 3. LETNIK (EMŠ M)\nIzvajalci: Inštitut za farmakologijo in eks I
 FET\nProstor: Vajalnice IFET
LOCATION:Vajalnice IFET
ORGANIZER:Inštitut za farmakologijo in eks IFET
RELATED-TO:mf-AFLABS-URNIK:srecanje:827
X-WR-TIMEZONE:Europe/Ljubljana
END:VEVENT
BEGIN:VEVENT
SUMMARY:Farmakologija (FARMA)\, Vaje (V)\, [M3-01\, M3-02]
DTSTART;TZID=Europe/Ljubljana:20231006T110000
DTEND;TZID=Europe/Ljubljana:20231006T140000
DTSTAMP:20260420T064128Z
UID:mf-AFLABS-URNIK:premaknjeno-srecanje:5063
ATTENDEE:3. LETNIK (EMŠ M)
CATEGORIES:Entry,Standard
COLOR:darkgreen
DESCRIPTION:Predmet: Farmakologija (FARMA)\, Vaje (V)\, [M3-01\, M3-02]\nL
 etniki: 3. LETNIK (EMŠ M)\nIzvajalci: Inštitut za farmakologijo in eks I
 FET\nProstor: Vajalnice IFET
LOCATION:Vajalnice IFET
ORGANIZER:Inštitut za farmakologijo in eks IFET
RELATED-TO:mf-AFLABS-URNIK:srecanje:830
X-WR-TIMEZONE:Europe/Ljubljana
END:VEVENT
BEGIN:VEVENT
SUMMARY:Farmakologija (FARMA)\, Vaje (V)\, [M3-03\, M3-04]
DTSTART;TZID=Europe/Ljubljana:20231006T140000
DTEND;TZID=Europe/Ljubljana:20231006T170000
DTSTAMP:20260420T064128Z
UID:mf-AFLABS-URNIK:premaknjeno-srecanje:5075
ATTENDEE:3. LETNIK (EMŠ M)
CATEGORIES:Entry,Standard
COLOR:darkgreen
DESCRIPTION:Predmet: Farmakologija (FARMA)\, Vaje (V)\, [M3-03\, M3-04]\nL
 etniki: 3. LETNIK (EMŠ M)\nIzvajalci: Inštitut za farmakologijo in eks I
 FET\nProstor: Vajalnice IFET
LOCATION:Vajalnice IFET
ORGANIZER:Inštitut za farmakologijo in eks IFET
RELATED-TO:mf-AFLABS-URNIK:srecanje:833
X-WR-TIMEZONE:Europe/Ljubljana
END:VEVENT
BEGIN:VEVENT
SUMMARY:Farmakologija (FARMA)\, Vaje (V)\, [M3-05\, M3-06]
DTSTART;TZID=Europe/Ljubljana:20231006T170000
DTEND;TZID=Europe/Ljubljana:20231006T200000
DTSTAMP:20260420T064128Z
UID:mf-AFLABS-URNIK:premaknjeno-srecanje:5087
ATTENDEE:3. LETNIK (EMŠ M)
CATEGORIES:Entry,Standard
COLOR:darkgreen
DESCRIPTION:Predmet: Farmakologija (FARMA)\, Vaje (V)\, [M3-05\, M3-06]\nL
 etniki: 3. LETNIK (EMŠ M)\nIzvajalci: Inštitut za farmakologijo in eks I
 FET\nProstor: Vajalnice IFET
LOCATION:Vajalnice IFET
ORGANIZER:Inštitut za farmakologijo in eks IFET
RELATED-TO:mf-AFLABS-URNIK:srecanje:836
X-WR-TIMEZONE:Europe/Ljubljana
END:VEVENT
BEGIN:VEVENT
SUMMARY:Farmakologija za dentalno medicino (FARMADM)\, Vaje (V)\, [D3-03\,
  D3-04]
DTSTART;TZID=Europe/Ljubljana:20231009T110000
DTEND;TZID=Europe/Ljubljana:20231009T140000
DTSTAMP:20260420T064128Z
UID:mf-AFLABS-URNIK:premaknjeno-srecanje:4635
ATTENDEE:3. LETNIK (EMŠ DM)
CATEGORIES:Entry,Standard
COLOR:darkgreen
DESCRIPTION:Predmet: Farmakologija za dentalno medicino (FARMADM)\, Vaje (
 V)\, [D3-03\, D3-04]\nLetniki: 3. LETNIK (EMŠ DM)\nIzvajalci: Inštitut z
 a farmakologijo in eks IFET\nProstor: Vajalnice IFET
LOCATION:Vajalnice IFET
ORGANIZER:Inštitut za farmakologijo in eks IFET
RELATED-TO:mf-AFLABS-URNIK:srecanje:770
X-WR-TIMEZONE:Europe/Ljubljana
END:VEVENT
BEGIN:VEVENT
SUMMARY:Farmakologija (FARMA)\, Vaje (V)\, [M3-07\, M3-08]
DTSTART;TZID=Europe/Ljubljana:20231013T080000
DTEND;TZID=Europe/Ljubljana:20231013T110000
DTSTAMP:20260420T064128Z
UID:mf-AFLABS-URNIK:premaknjeno-srecanje:5055
ATTENDEE:3. LETNIK (EMŠ M)
CATEGORIES:Entry,Standard
COLOR:darkgreen
DESCRIPTION:Predmet: Farmakologija (FARMA)\, Vaje (V)\, [M3-07\, M3-08]\nL
 etniki: 3. LETNIK (EMŠ M)\nIzvajalci: Inštitut za farmakologijo in eks I
 FET\nProstor: Vajalnice IFET
LOCATION:Vajalnice IFET
ORGANIZER:Inštitut za farmakologijo in eks IFET
RELATED-TO:mf-AFLABS-URNIK:srecanje:828
X-WR-TIMEZONE:Europe/Ljubljana
END:VEVENT
BEGIN:VEVENT
SUMMARY:Farmakologija (FARMA)\, Vaje (V)\, [M3-09\, M3-10]
DTSTART;TZID=Europe/Ljubljana:20231013T110000
DTEND;TZID=Europe/Ljubljana:20231013T140000
DTSTAMP:20260420T064128Z
UID:mf-AFLABS-URNIK:premaknjeno-srecanje:5067
ATTENDEE:3. LETNIK (EMŠ M)
CATEGORIES:Entry,Standard
COLOR:darkgreen
DESCRIPTION:Predmet: Farmakologija (FARMA)\, Vaje (V)\, [M3-09\, M3-10]\nL
 etniki: 3. LETNIK (EMŠ M)\nIzvajalci: Inštitut za farmakologijo in eks I
 FET\nProstor: Vajalnice IFET
LOCATION:Vajalnice IFET
ORGANIZER:Inštitut za farmakologijo in eks IFET
RELATED-TO:mf-AFLABS-URNIK:srecanje:831
X-WR-TIMEZONE:Europe/Ljubljana
END:VEVENT
BEGIN:VEVENT
SUMMARY:Farmakologija (FARMA)\, Vaje (V)\, [M3-11\, M3-12]
DTSTART;TZID=Europe/Ljubljana:20231013T140000
DTEND;TZID=Europe/Ljubljana:20231013T170000
DTSTAMP:20260420T064128Z
UID:mf-AFLABS-URNIK:premaknjeno-srecanje:5079
ATTENDEE:3. LETNIK (EMŠ M)
CATEGORIES:Entry,Standard
COLOR:darkgreen
DESCRIPTION:Predmet: Farmakologija (FARMA)\, Vaje (V)\, [M3-11\, M3-12]\nL
 etniki: 3. LETNIK (EMŠ M)\nIzvajalci: Inštitut za farmakologijo in eks I
 FET\nProstor: Vajalnice IFET
LOCATION:Vajalnice IFET
ORGANIZER:Inštitut za farmakologijo in eks IFET
RELATED-TO:mf-AFLABS-URNIK:srecanje:834
X-WR-TIMEZONE:Europe/Ljubljana
END:VEVENT
BEGIN:VEVENT
SUMMARY:Farmakologija za dentalno medicino (FARMADM)\, Vaje (V)\, [D3-05\,
  D3-06]
DTSTART;TZID=Europe/Ljubljana:20231016T110000
DTEND;TZID=Europe/Ljubljana:20231016T140000
DTSTAMP:20260420T064128Z
UID:mf-AFLABS-URNIK:premaknjeno-srecanje:4638
ATTENDEE:3. LETNIK (EMŠ DM)
CATEGORIES:Entry,Standard
COLOR:darkgreen
DESCRIPTION:Predmet: Farmakologija za dentalno medicino (FARMADM)\, Vaje (
 V)\, [D3-05\, D3-06]\nLetniki: 3. LETNIK (EMŠ DM)\nIzvajalci: Inštitut z
 a farmakologijo in eks IFET\nProstor: Vajalnice IFET
LOCATION:Vajalnice IFET
ORGANIZER:Inštitut za farmakologijo in eks IFET
RELATED-TO:mf-AFLABS-URNIK:srecanje:771
X-WR-TIMEZONE:Europe/Ljubljana
END:VEVENT
END:VCALENDAR
