BEGIN:VCALENDAR
VERSION:2.0
PRODID:-//AFLabs urnik izvoz - mf//aflabs.si//SI
DTSTAMP:20260420T075657Z
NAME:UL MF urnik
REFRESH-INTERVAL:PT1H
SOURCE:https://afurnik-mf.dev.aflabs.org/teacher/6?day=2024-09-02&export=1
URL:https://afurnik-mf.dev.aflabs.org/teacher/6?day=2024-09-02&export=1
X-PUBLISHED-TTL:PT1H
X-WR-CALNAME:UL MF urnik
X-WR-TIMEZONE:Europe/Ljubljana
BEGIN:VTIMEZONE
TZID:Europe/Ljubljana
BEGIN:DAYLIGHT
DTSTART:20260329T020000
RDATE:20260329T020000
RDATE:20270328T020000
TZNAME:CEST
TZOFFSETFROM:+0100
TZOFFSETTO:+0200
END:DAYLIGHT
BEGIN:STANDARD
DTSTART:20261025T030000
RDATE:20261025T030000
RDATE:20271031T030000
TZNAME:CET
TZOFFSETFROM:+0200
TZOFFSETTO:+0100
END:STANDARD
END:VTIMEZONE
BEGIN:VEVENT
SUMMARY:Farmakologija za dentalno medicino (FARMADM)\, Seminar (S)\, [D3-0
 1\, D3-02\, D3-03]
DTSTART;TZID=Europe/Ljubljana:20241002T170000
DTEND;TZID=Europe/Ljubljana:20241002T190000
DTSTAMP:20260420T075657Z
UID:mf-AFLABS-URNIK:premaknjeno-srecanje:15261
ATTENDEE:3. LETNIK (EMŠ DM)
CATEGORIES:Entry,Special
COLOR:forestgreen
DESCRIPTION:Predmet: Farmakologija za dentalno medicino (FARMADM)\, Semina
 r (S)\, [D3-01\, D3-02\, D3-03]\nLetniki: 3. LETNIK (EMŠ DM)\nIzvajalci: 
 Inštitut za farmakologijo in eks IFET\nProstor: Pred - Mala - MF
LOCATION:Korytkova 2\, Pred - Mala - MF
ORGANIZER:Inštitut za farmakologijo in eks IFET
RELATED-TO:mf-AFLABS-URNIK:srecanje:2672
X-WR-TIMEZONE:Europe/Ljubljana
END:VEVENT
BEGIN:VEVENT
SUMMARY:Farmakologija za dentalno medicino (FARMADM)\, Seminar (S)\, [D3-0
 4\, D3-05\, D3-06]
DTSTART;TZID=Europe/Ljubljana:20241002T170000
DTEND;TZID=Europe/Ljubljana:20241002T190000
DTSTAMP:20260420T075657Z
UID:mf-AFLABS-URNIK:premaknjeno-srecanje:15273
ATTENDEE:3. LETNIK (EMŠ DM)
CATEGORIES:Entry,Special
COLOR:forestgreen
DESCRIPTION:Predmet: Farmakologija za dentalno medicino (FARMADM)\, Semina
 r (S)\, [D3-04\, D3-05\, D3-06]\nLetniki: 3. LETNIK (EMŠ DM)\nIzvajalci: 
 Inštitut za farmakologijo in eks IFET\nProstor: Sem - Farma
LOCATION:Korytkova 2\, Sem - Farma
ORGANIZER:Inštitut za farmakologijo in eks IFET
RELATED-TO:mf-AFLABS-URNIK:srecanje:2673
X-WR-TIMEZONE:Europe/Ljubljana
END:VEVENT
BEGIN:VEVENT
SUMMARY:Farmakologija (FARMA)\, Predavanje (P)
DTSTART;TZID=Europe/Ljubljana:20241003T180000
DTEND;TZID=Europe/Ljubljana:20241003T200000
DTSTAMP:20260420T075657Z
UID:mf-AFLABS-URNIK:premaknjeno-srecanje:15787
ATTENDEE:3. LETNIK (EMŠ M)
CATEGORIES:Entry,Special
COLOR:forestgreen
DESCRIPTION:Predmet: Farmakologija (FARMA)\, Predavanje (P)\nLetniki: 3. L
 ETNIK (EMŠ M)\nIzvajalci: Inštitut za farmakologijo in eks IFET\nProstor
 : Pred - Velika - MF
LOCATION:Korytkova 2\, Pred - Velika - MF
ORGANIZER:Inštitut za farmakologijo in eks IFET
RELATED-TO:mf-AFLABS-URNIK:srecanje:2752
X-WR-TIMEZONE:Europe/Ljubljana
END:VEVENT
BEGIN:VEVENT
SUMMARY:Farmakologija (FARMA)\, Vaje (V)\, [M3-19\, M3-20]
DTSTART;TZID=Europe/Ljubljana:20241004T080000
DTEND;TZID=Europe/Ljubljana:20241004T110000
DTSTAMP:20260420T075657Z
UID:mf-AFLABS-URNIK:premaknjeno-srecanje:15707
ATTENDEE:3. LETNIK (EMŠ M)
CATEGORIES:Entry,Special
COLOR:forestgreen
DESCRIPTION:Predmet: Farmakologija (FARMA)\, Vaje (V)\, [M3-19\, M3-20]\nL
 etniki: 3. LETNIK (EMŠ M)\nIzvajalci: Inštitut za farmakologijo in eks I
 FET\nProstor: Vajalnice IFET
LOCATION:Vajalnice IFET
ORGANIZER:Inštitut za farmakologijo in eks IFET
RELATED-TO:mf-AFLABS-URNIK:srecanje:2732
X-WR-TIMEZONE:Europe/Ljubljana
END:VEVENT
BEGIN:VEVENT
SUMMARY:Farmakologija (FARMA)\, Vaje (V)\, [M3-01\, M3-02]
DTSTART;TZID=Europe/Ljubljana:20241004T110000
DTEND;TZID=Europe/Ljubljana:20241004T140000
DTSTAMP:20260420T075657Z
UID:mf-AFLABS-URNIK:premaknjeno-srecanje:15711
ATTENDEE:3. LETNIK (EMŠ M)
CATEGORIES:Entry,Special
COLOR:forestgreen
DESCRIPTION:Predmet: Farmakologija (FARMA)\, Vaje (V)\, [M3-01\, M3-02]\nL
 etniki: 3. LETNIK (EMŠ M)\nIzvajalci: Inštitut za farmakologijo in eks I
 FET\nProstor: Vajalnice IFET
LOCATION:Vajalnice IFET
ORGANIZER:Inštitut za farmakologijo in eks IFET
RELATED-TO:mf-AFLABS-URNIK:srecanje:2733
X-WR-TIMEZONE:Europe/Ljubljana
END:VEVENT
BEGIN:VEVENT
SUMMARY:Farmakologija (FARMA)\, Vaje (V)\, [M3-03\, M3-04]
DTSTART;TZID=Europe/Ljubljana:20241004T140000
DTEND;TZID=Europe/Ljubljana:20241004T170000
DTSTAMP:20260420T075657Z
UID:mf-AFLABS-URNIK:premaknjeno-srecanje:15715
ATTENDEE:3. LETNIK (EMŠ M)
CATEGORIES:Entry,Special
COLOR:forestgreen
DESCRIPTION:Predmet: Farmakologija (FARMA)\, Vaje (V)\, [M3-03\, M3-04]\nL
 etniki: 3. LETNIK (EMŠ M)\nIzvajalci: Inštitut za farmakologijo in eks I
 FET\nProstor: Vajalnice IFET
LOCATION:Vajalnice IFET
ORGANIZER:Inštitut za farmakologijo in eks IFET
RELATED-TO:mf-AFLABS-URNIK:srecanje:2734
X-WR-TIMEZONE:Europe/Ljubljana
END:VEVENT
BEGIN:VEVENT
SUMMARY:Farmakologija (FARMA)\, Vaje (V)\, [M3-05\, M3-06]
DTSTART;TZID=Europe/Ljubljana:20241004T170000
DTEND;TZID=Europe/Ljubljana:20241004T200000
DTSTAMP:20260420T075657Z
UID:mf-AFLABS-URNIK:premaknjeno-srecanje:15719
ATTENDEE:3. LETNIK (EMŠ M)
CATEGORIES:Entry,Special
COLOR:forestgreen
DESCRIPTION:Predmet: Farmakologija (FARMA)\, Vaje (V)\, [M3-05\, M3-06]\nL
 etniki: 3. LETNIK (EMŠ M)\nIzvajalci: Inštitut za farmakologijo in eks I
 FET\nProstor: Vajalnice IFET
LOCATION:Vajalnice IFET
ORGANIZER:Inštitut za farmakologijo in eks IFET
RELATED-TO:mf-AFLABS-URNIK:srecanje:2735
X-WR-TIMEZONE:Europe/Ljubljana
END:VEVENT
BEGIN:VEVENT
SUMMARY:Farmakologija za dentalno medicino (FARMADM)\, Vaje (V)\, [D3-03\,
  D3-04]
DTSTART;TZID=Europe/Ljubljana:20241007T110000
DTEND;TZID=Europe/Ljubljana:20241007T140000
DTSTAMP:20260420T075657Z
UID:mf-AFLABS-URNIK:premaknjeno-srecanje:15375
ATTENDEE:3. LETNIK (EMŠ DM)
CATEGORIES:Entry,Special
COLOR:forestgreen
DESCRIPTION:Predmet: Farmakologija za dentalno medicino (FARMADM)\, Vaje (
 V)\, [D3-03\, D3-04]\nLetniki: 3. LETNIK (EMŠ DM)\nIzvajalci: Inštitut z
 a farmakologijo in eks IFET\nProstor: Vajalnice IFET
LOCATION:Vajalnice IFET
ORGANIZER:Inštitut za farmakologijo in eks IFET
RELATED-TO:mf-AFLABS-URNIK:srecanje:2684
X-WR-TIMEZONE:Europe/Ljubljana
END:VEVENT
END:VCALENDAR
