BEGIN:VCALENDAR
VERSION:2.0
PRODID:-//AFLabs urnik izvoz - mf//aflabs.si//SI
DTSTAMP:20260420T053033Z
NAME:UL MF urnik
REFRESH-INTERVAL:PT1H
SOURCE:https://afurnik-mf.dev.aflabs.org/teacher/6?day=2024-10-01&export=1
URL:https://afurnik-mf.dev.aflabs.org/teacher/6?day=2024-10-01&export=1
X-PUBLISHED-TTL:PT1H
X-WR-CALNAME:UL MF urnik
X-WR-TIMEZONE:Europe/Ljubljana
BEGIN:VTIMEZONE
TZID:Europe/Ljubljana
BEGIN:DAYLIGHT
DTSTART:20260329T020000
RDATE:20260329T020000
RDATE:20270328T020000
TZNAME:CEST
TZOFFSETFROM:+0100
TZOFFSETTO:+0200
END:DAYLIGHT
BEGIN:STANDARD
DTSTART:20261025T030000
RDATE:20261025T030000
RDATE:20271031T030000
TZNAME:CET
TZOFFSETFROM:+0200
TZOFFSETTO:+0100
END:STANDARD
END:VTIMEZONE
BEGIN:VEVENT
SUMMARY:Farmakologija za dentalno medicino (FARMADM)\, Seminar (S)\, [D3-0
 1\, D3-02\, D3-03]
DTSTART;TZID=Europe/Ljubljana:20241002T170000
DTEND;TZID=Europe/Ljubljana:20241002T190000
DTSTAMP:20260420T053033Z
UID:mf-AFLABS-URNIK:premaknjeno-srecanje:15261
ATTENDEE:3. LETNIK (EMŠ DM)
CATEGORIES:Entry,Special
COLOR:forestgreen
DESCRIPTION:Predmet: Farmakologija za dentalno medicino (FARMADM)\, Semina
 r (S)\, [D3-01\, D3-02\, D3-03]\nLetniki: 3. LETNIK (EMŠ DM)\nIzvajalci: 
 Inštitut za farmakologijo in eks IFET\nProstor: Pred - Mala - MF
LOCATION:Korytkova 2\, Pred - Mala - MF
ORGANIZER:Inštitut za farmakologijo in eks IFET
RELATED-TO:mf-AFLABS-URNIK:srecanje:2672
X-WR-TIMEZONE:Europe/Ljubljana
END:VEVENT
BEGIN:VEVENT
SUMMARY:Farmakologija za dentalno medicino (FARMADM)\, Seminar (S)\, [D3-0
 1\, D3-02\, D3-03]
DTSTART;TZID=Europe/Ljubljana:20241009T170000
DTEND;TZID=Europe/Ljubljana:20241009T190000
DTSTAMP:20260420T053033Z
UID:mf-AFLABS-URNIK:premaknjeno-srecanje:15262
ATTENDEE:3. LETNIK (EMŠ DM)
CATEGORIES:Entry,Special
COLOR:forestgreen
DESCRIPTION:Predmet: Farmakologija za dentalno medicino (FARMADM)\, Semina
 r (S)\, [D3-01\, D3-02\, D3-03]\nLetniki: 3. LETNIK (EMŠ DM)\nIzvajalci: 
 Inštitut za farmakologijo in eks IFET\nProstor: Pred - Mala - MF
LOCATION:Korytkova 2\, Pred - Mala - MF
ORGANIZER:Inštitut za farmakologijo in eks IFET
RELATED-TO:mf-AFLABS-URNIK:srecanje:2672
X-WR-TIMEZONE:Europe/Ljubljana
END:VEVENT
BEGIN:VEVENT
SUMMARY:Farmakologija za dentalno medicino (FARMADM)\, Seminar (S)\, [D3-0
 1\, D3-02\, D3-03]
DTSTART;TZID=Europe/Ljubljana:20241016T170000
DTEND;TZID=Europe/Ljubljana:20241016T190000
DTSTAMP:20260420T053033Z
UID:mf-AFLABS-URNIK:premaknjeno-srecanje:15263
ATTENDEE:3. LETNIK (EMŠ DM)
CATEGORIES:Entry,Special
COLOR:forestgreen
DESCRIPTION:Predmet: Farmakologija za dentalno medicino (FARMADM)\, Semina
 r (S)\, [D3-01\, D3-02\, D3-03]\nLetniki: 3. LETNIK (EMŠ DM)\nIzvajalci: 
 Inštitut za farmakologijo in eks IFET\nProstor: Pred - Mala - MF
LOCATION:Korytkova 2\, Pred - Mala - MF
ORGANIZER:Inštitut za farmakologijo in eks IFET
RELATED-TO:mf-AFLABS-URNIK:srecanje:2672
X-WR-TIMEZONE:Europe/Ljubljana
END:VEVENT
BEGIN:VEVENT
SUMMARY:Farmakologija za dentalno medicino (FARMADM)\, Seminar (S)\, [D3-0
 1\, D3-02\, D3-03]
DTSTART;TZID=Europe/Ljubljana:20241023T170000
DTEND;TZID=Europe/Ljubljana:20241023T190000
DTSTAMP:20260420T053033Z
UID:mf-AFLABS-URNIK:premaknjeno-srecanje:15264
ATTENDEE:3. LETNIK (EMŠ DM)
CATEGORIES:Entry,Special
COLOR:forestgreen
DESCRIPTION:Predmet: Farmakologija za dentalno medicino (FARMADM)\, Semina
 r (S)\, [D3-01\, D3-02\, D3-03]\nLetniki: 3. LETNIK (EMŠ DM)\nIzvajalci: 
 Inštitut za farmakologijo in eks IFET\nProstor: Pred - Mala - MF
LOCATION:Korytkova 2\, Pred - Mala - MF
ORGANIZER:Inštitut za farmakologijo in eks IFET
RELATED-TO:mf-AFLABS-URNIK:srecanje:2672
X-WR-TIMEZONE:Europe/Ljubljana
END:VEVENT
BEGIN:VEVENT
SUMMARY:Farmakologija za dentalno medicino (FARMADM)\, Seminar (S)\, [D3-0
 1\, D3-02\, D3-03]
DTSTART;TZID=Europe/Ljubljana:20241030T170000
DTEND;TZID=Europe/Ljubljana:20241030T190000
DTSTAMP:20260420T053033Z
UID:mf-AFLABS-URNIK:premaknjeno-srecanje:15265
ATTENDEE:3. LETNIK (EMŠ DM)
CATEGORIES:Entry,Special
COLOR:forestgreen
DESCRIPTION:Predmet: Farmakologija za dentalno medicino (FARMADM)\, Semina
 r (S)\, [D3-01\, D3-02\, D3-03]\nLetniki: 3. LETNIK (EMŠ DM)\nIzvajalci: 
 Inštitut za farmakologijo in eks IFET\nProstor: Pred - Mala - MF
LOCATION:Korytkova 2\, Pred - Mala - MF
ORGANIZER:Inštitut za farmakologijo in eks IFET
RELATED-TO:mf-AFLABS-URNIK:srecanje:2672
X-WR-TIMEZONE:Europe/Ljubljana
END:VEVENT
BEGIN:VEVENT
SUMMARY:Farmakologija za dentalno medicino (FARMADM)\, Seminar (S)\, [D3-0
 4\, D3-05\, D3-06]
DTSTART;TZID=Europe/Ljubljana:20241002T170000
DTEND;TZID=Europe/Ljubljana:20241002T190000
DTSTAMP:20260420T053033Z
UID:mf-AFLABS-URNIK:premaknjeno-srecanje:15273
ATTENDEE:3. LETNIK (EMŠ DM)
CATEGORIES:Entry,Special
COLOR:forestgreen
DESCRIPTION:Predmet: Farmakologija za dentalno medicino (FARMADM)\, Semina
 r (S)\, [D3-04\, D3-05\, D3-06]\nLetniki: 3. LETNIK (EMŠ DM)\nIzvajalci: 
 Inštitut za farmakologijo in eks IFET\nProstor: Sem - Farma
LOCATION:Korytkova 2\, Sem - Farma
ORGANIZER:Inštitut za farmakologijo in eks IFET
RELATED-TO:mf-AFLABS-URNIK:srecanje:2673
X-WR-TIMEZONE:Europe/Ljubljana
END:VEVENT
BEGIN:VEVENT
SUMMARY:Farmakologija za dentalno medicino (FARMADM)\, Seminar (S)\, [D3-0
 4\, D3-05\, D3-06]
DTSTART;TZID=Europe/Ljubljana:20241009T170000
DTEND;TZID=Europe/Ljubljana:20241009T190000
DTSTAMP:20260420T053033Z
UID:mf-AFLABS-URNIK:premaknjeno-srecanje:15274
ATTENDEE:3. LETNIK (EMŠ DM)
CATEGORIES:Entry,Special
COLOR:forestgreen
DESCRIPTION:Predmet: Farmakologija za dentalno medicino (FARMADM)\, Semina
 r (S)\, [D3-04\, D3-05\, D3-06]\nLetniki: 3. LETNIK (EMŠ DM)\nIzvajalci: 
 Inštitut za farmakologijo in eks IFET\nProstor: Sem - Farma
LOCATION:Korytkova 2\, Sem - Farma
ORGANIZER:Inštitut za farmakologijo in eks IFET
RELATED-TO:mf-AFLABS-URNIK:srecanje:2673
X-WR-TIMEZONE:Europe/Ljubljana
END:VEVENT
BEGIN:VEVENT
SUMMARY:Farmakologija za dentalno medicino (FARMADM)\, Seminar (S)\, [D3-0
 4\, D3-05\, D3-06]
DTSTART;TZID=Europe/Ljubljana:20241016T170000
DTEND;TZID=Europe/Ljubljana:20241016T190000
DTSTAMP:20260420T053033Z
UID:mf-AFLABS-URNIK:premaknjeno-srecanje:15275
ATTENDEE:3. LETNIK (EMŠ DM)
CATEGORIES:Entry,Special
COLOR:forestgreen
DESCRIPTION:Predmet: Farmakologija za dentalno medicino (FARMADM)\, Semina
 r (S)\, [D3-04\, D3-05\, D3-06]\nLetniki: 3. LETNIK (EMŠ DM)\nIzvajalci: 
 Inštitut za farmakologijo in eks IFET\nProstor: Sem - Farma
LOCATION:Korytkova 2\, Sem - Farma
ORGANIZER:Inštitut za farmakologijo in eks IFET
RELATED-TO:mf-AFLABS-URNIK:srecanje:2673
X-WR-TIMEZONE:Europe/Ljubljana
END:VEVENT
BEGIN:VEVENT
SUMMARY:Farmakologija za dentalno medicino (FARMADM)\, Seminar (S)\, [D3-0
 4\, D3-05\, D3-06]
DTSTART;TZID=Europe/Ljubljana:20241023T170000
DTEND;TZID=Europe/Ljubljana:20241023T190000
DTSTAMP:20260420T053033Z
UID:mf-AFLABS-URNIK:premaknjeno-srecanje:15276
ATTENDEE:3. LETNIK (EMŠ DM)
CATEGORIES:Entry,Special
COLOR:forestgreen
DESCRIPTION:Predmet: Farmakologija za dentalno medicino (FARMADM)\, Semina
 r (S)\, [D3-04\, D3-05\, D3-06]\nLetniki: 3. LETNIK (EMŠ DM)\nIzvajalci: 
 Inštitut za farmakologijo in eks IFET\nProstor: Sem - Farma
LOCATION:Korytkova 2\, Sem - Farma
ORGANIZER:Inštitut za farmakologijo in eks IFET
RELATED-TO:mf-AFLABS-URNIK:srecanje:2673
X-WR-TIMEZONE:Europe/Ljubljana
END:VEVENT
BEGIN:VEVENT
SUMMARY:Farmakologija za dentalno medicino (FARMADM)\, Seminar (S)\, [D3-0
 4\, D3-05\, D3-06]
DTSTART;TZID=Europe/Ljubljana:20241030T170000
DTEND;TZID=Europe/Ljubljana:20241030T190000
DTSTAMP:20260420T053033Z
UID:mf-AFLABS-URNIK:premaknjeno-srecanje:15277
ATTENDEE:3. LETNIK (EMŠ DM)
CATEGORIES:Entry,Special
COLOR:forestgreen
DESCRIPTION:Predmet: Farmakologija za dentalno medicino (FARMADM)\, Semina
 r (S)\, [D3-04\, D3-05\, D3-06]\nLetniki: 3. LETNIK (EMŠ DM)\nIzvajalci: 
 Inštitut za farmakologijo in eks IFET\nProstor: Sem - Farma
LOCATION:Korytkova 2\, Sem - Farma
ORGANIZER:Inštitut za farmakologijo in eks IFET
RELATED-TO:mf-AFLABS-URNIK:srecanje:2673
X-WR-TIMEZONE:Europe/Ljubljana
END:VEVENT
BEGIN:VEVENT
SUMMARY:Farmakologija (FARMA)\, Predavanje (P)
DTSTART;TZID=Europe/Ljubljana:20241003T180000
DTEND;TZID=Europe/Ljubljana:20241003T200000
DTSTAMP:20260420T053033Z
UID:mf-AFLABS-URNIK:premaknjeno-srecanje:15787
ATTENDEE:3. LETNIK (EMŠ M)
CATEGORIES:Entry,Special
COLOR:forestgreen
DESCRIPTION:Predmet: Farmakologija (FARMA)\, Predavanje (P)\nLetniki: 3. L
 ETNIK (EMŠ M)\nIzvajalci: Inštitut za farmakologijo in eks IFET\nProstor
 : Pred - Velika - MF
LOCATION:Korytkova 2\, Pred - Velika - MF
ORGANIZER:Inštitut za farmakologijo in eks IFET
RELATED-TO:mf-AFLABS-URNIK:srecanje:2752
X-WR-TIMEZONE:Europe/Ljubljana
END:VEVENT
BEGIN:VEVENT
SUMMARY:Farmakologija (FARMA)\, Predavanje (P)
DTSTART;TZID=Europe/Ljubljana:20241010T180000
DTEND;TZID=Europe/Ljubljana:20241010T200000
DTSTAMP:20260420T053033Z
UID:mf-AFLABS-URNIK:premaknjeno-srecanje:15788
ATTENDEE:3. LETNIK (EMŠ M)
CATEGORIES:Entry,Special
COLOR:forestgreen
DESCRIPTION:Predmet: Farmakologija (FARMA)\, Predavanje (P)\nLetniki: 3. L
 ETNIK (EMŠ M)\nIzvajalci: Inštitut za farmakologijo in eks IFET\nProstor
 : Pred - Velika - MF
LOCATION:Korytkova 2\, Pred - Velika - MF
ORGANIZER:Inštitut za farmakologijo in eks IFET
RELATED-TO:mf-AFLABS-URNIK:srecanje:2752
X-WR-TIMEZONE:Europe/Ljubljana
END:VEVENT
BEGIN:VEVENT
SUMMARY:Farmakologija (FARMA)\, Predavanje (P)
DTSTART;TZID=Europe/Ljubljana:20241017T180000
DTEND;TZID=Europe/Ljubljana:20241017T200000
DTSTAMP:20260420T053033Z
UID:mf-AFLABS-URNIK:premaknjeno-srecanje:15789
ATTENDEE:3. LETNIK (EMŠ M)
CATEGORIES:Entry,Special
COLOR:forestgreen
DESCRIPTION:Predmet: Farmakologija (FARMA)\, Predavanje (P)\nLetniki: 3. L
 ETNIK (EMŠ M)\nIzvajalci: Inštitut za farmakologijo in eks IFET\nProstor
 : Pred - Velika - MF
LOCATION:Korytkova 2\, Pred - Velika - MF
ORGANIZER:Inštitut za farmakologijo in eks IFET
RELATED-TO:mf-AFLABS-URNIK:srecanje:2752
X-WR-TIMEZONE:Europe/Ljubljana
END:VEVENT
BEGIN:VEVENT
SUMMARY:Farmakologija (FARMA)\, Predavanje (P)
DTSTART;TZID=Europe/Ljubljana:20241024T180000
DTEND;TZID=Europe/Ljubljana:20241024T200000
DTSTAMP:20260420T053033Z
UID:mf-AFLABS-URNIK:premaknjeno-srecanje:15790
ATTENDEE:3. LETNIK (EMŠ M)
CATEGORIES:Entry,Special
COLOR:forestgreen
DESCRIPTION:Predmet: Farmakologija (FARMA)\, Predavanje (P)\nLetniki: 3. L
 ETNIK (EMŠ M)\nIzvajalci: Inštitut za farmakologijo in eks IFET\nProstor
 : Pred - Velika - MF
LOCATION:Korytkova 2\, Pred - Velika - MF
ORGANIZER:Inštitut za farmakologijo in eks IFET
RELATED-TO:mf-AFLABS-URNIK:srecanje:2752
X-WR-TIMEZONE:Europe/Ljubljana
END:VEVENT
BEGIN:VEVENT
SUMMARY:Farmakologija (FARMA)\, Predavanje (P)
DTSTART;TZID=Europe/Ljubljana:20241031T180000
DTEND;TZID=Europe/Ljubljana:20241031T200000
DTSTAMP:20260420T053033Z
UID:mf-AFLABS-URNIK:premaknjeno-srecanje:15791
ATTENDEE:3. LETNIK (EMŠ M)
CATEGORIES:Entry,Special
COLOR:forestgreen
DESCRIPTION:Predmet: Farmakologija (FARMA)\, Predavanje (P)\nLetniki: 3. L
 ETNIK (EMŠ M)\nIzvajalci: Inštitut za farmakologijo in eks IFET\nProstor
 : Pred - Velika - MF
LOCATION:Korytkova 2\, Pred - Velika - MF
ORGANIZER:Inštitut za farmakologijo in eks IFET
RELATED-TO:mf-AFLABS-URNIK:srecanje:2752
X-WR-TIMEZONE:Europe/Ljubljana
END:VEVENT
BEGIN:VEVENT
SUMMARY:Farmakologija (FARMA)\, Vaje (V)\, [M3-19\, M3-20]
DTSTART;TZID=Europe/Ljubljana:20241004T080000
DTEND;TZID=Europe/Ljubljana:20241004T110000
DTSTAMP:20260420T053033Z
UID:mf-AFLABS-URNIK:premaknjeno-srecanje:15707
ATTENDEE:3. LETNIK (EMŠ M)
CATEGORIES:Entry,Special
COLOR:forestgreen
DESCRIPTION:Predmet: Farmakologija (FARMA)\, Vaje (V)\, [M3-19\, M3-20]\nL
 etniki: 3. LETNIK (EMŠ M)\nIzvajalci: Inštitut za farmakologijo in eks I
 FET\nProstor: Vajalnice IFET
LOCATION:Vajalnice IFET
ORGANIZER:Inštitut za farmakologijo in eks IFET
RELATED-TO:mf-AFLABS-URNIK:srecanje:2732
X-WR-TIMEZONE:Europe/Ljubljana
END:VEVENT
BEGIN:VEVENT
SUMMARY:Farmakologija (FARMA)\, Vaje (V)\, [M3-19\, M3-20]
DTSTART;TZID=Europe/Ljubljana:20241025T080000
DTEND;TZID=Europe/Ljubljana:20241025T110000
DTSTAMP:20260420T053033Z
UID:mf-AFLABS-URNIK:premaknjeno-srecanje:15708
ATTENDEE:3. LETNIK (EMŠ M)
CATEGORIES:Entry,Special
COLOR:forestgreen
DESCRIPTION:Predmet: Farmakologija (FARMA)\, Vaje (V)\, [M3-19\, M3-20]\nL
 etniki: 3. LETNIK (EMŠ M)\nIzvajalci: Inštitut za farmakologijo in eks I
 FET\nProstor: Vajalnice IFET
LOCATION:Vajalnice IFET
ORGANIZER:Inštitut za farmakologijo in eks IFET
RELATED-TO:mf-AFLABS-URNIK:srecanje:2732
X-WR-TIMEZONE:Europe/Ljubljana
END:VEVENT
BEGIN:VEVENT
SUMMARY:Farmakologija (FARMA)\, Vaje (V)\, [M3-01\, M3-02]
DTSTART;TZID=Europe/Ljubljana:20241004T110000
DTEND;TZID=Europe/Ljubljana:20241004T140000
DTSTAMP:20260420T053033Z
UID:mf-AFLABS-URNIK:premaknjeno-srecanje:15711
ATTENDEE:3. LETNIK (EMŠ M)
CATEGORIES:Entry,Special
COLOR:forestgreen
DESCRIPTION:Predmet: Farmakologija (FARMA)\, Vaje (V)\, [M3-01\, M3-02]\nL
 etniki: 3. LETNIK (EMŠ M)\nIzvajalci: Inštitut za farmakologijo in eks I
 FET\nProstor: Vajalnice IFET
LOCATION:Vajalnice IFET
ORGANIZER:Inštitut za farmakologijo in eks IFET
RELATED-TO:mf-AFLABS-URNIK:srecanje:2733
X-WR-TIMEZONE:Europe/Ljubljana
END:VEVENT
BEGIN:VEVENT
SUMMARY:Farmakologija (FARMA)\, Vaje (V)\, [M3-01\, M3-02]
DTSTART;TZID=Europe/Ljubljana:20241025T110000
DTEND;TZID=Europe/Ljubljana:20241025T140000
DTSTAMP:20260420T053033Z
UID:mf-AFLABS-URNIK:premaknjeno-srecanje:15712
ATTENDEE:3. LETNIK (EMŠ M)
CATEGORIES:Entry,Special
COLOR:forestgreen
DESCRIPTION:Predmet: Farmakologija (FARMA)\, Vaje (V)\, [M3-01\, M3-02]\nL
 etniki: 3. LETNIK (EMŠ M)\nIzvajalci: Inštitut za farmakologijo in eks I
 FET\nProstor: Vajalnice IFET
LOCATION:Vajalnice IFET
ORGANIZER:Inštitut za farmakologijo in eks IFET
RELATED-TO:mf-AFLABS-URNIK:srecanje:2733
X-WR-TIMEZONE:Europe/Ljubljana
END:VEVENT
BEGIN:VEVENT
SUMMARY:Farmakologija (FARMA)\, Vaje (V)\, [M3-03\, M3-04]
DTSTART;TZID=Europe/Ljubljana:20241004T140000
DTEND;TZID=Europe/Ljubljana:20241004T170000
DTSTAMP:20260420T053033Z
UID:mf-AFLABS-URNIK:premaknjeno-srecanje:15715
ATTENDEE:3. LETNIK (EMŠ M)
CATEGORIES:Entry,Special
COLOR:forestgreen
DESCRIPTION:Predmet: Farmakologija (FARMA)\, Vaje (V)\, [M3-03\, M3-04]\nL
 etniki: 3. LETNIK (EMŠ M)\nIzvajalci: Inštitut za farmakologijo in eks I
 FET\nProstor: Vajalnice IFET
LOCATION:Vajalnice IFET
ORGANIZER:Inštitut za farmakologijo in eks IFET
RELATED-TO:mf-AFLABS-URNIK:srecanje:2734
X-WR-TIMEZONE:Europe/Ljubljana
END:VEVENT
BEGIN:VEVENT
SUMMARY:Farmakologija (FARMA)\, Vaje (V)\, [M3-03\, M3-04]
DTSTART;TZID=Europe/Ljubljana:20241025T140000
DTEND;TZID=Europe/Ljubljana:20241025T170000
DTSTAMP:20260420T053033Z
UID:mf-AFLABS-URNIK:premaknjeno-srecanje:15716
ATTENDEE:3. LETNIK (EMŠ M)
CATEGORIES:Entry,Special
COLOR:forestgreen
DESCRIPTION:Predmet: Farmakologija (FARMA)\, Vaje (V)\, [M3-03\, M3-04]\nL
 etniki: 3. LETNIK (EMŠ M)\nIzvajalci: Inštitut za farmakologijo in eks I
 FET\nProstor: Vajalnice IFET
LOCATION:Vajalnice IFET
ORGANIZER:Inštitut za farmakologijo in eks IFET
RELATED-TO:mf-AFLABS-URNIK:srecanje:2734
X-WR-TIMEZONE:Europe/Ljubljana
END:VEVENT
BEGIN:VEVENT
SUMMARY:Farmakologija (FARMA)\, Vaje (V)\, [M3-05\, M3-06]
DTSTART;TZID=Europe/Ljubljana:20241004T170000
DTEND;TZID=Europe/Ljubljana:20241004T200000
DTSTAMP:20260420T053033Z
UID:mf-AFLABS-URNIK:premaknjeno-srecanje:15719
ATTENDEE:3. LETNIK (EMŠ M)
CATEGORIES:Entry,Special
COLOR:forestgreen
DESCRIPTION:Predmet: Farmakologija (FARMA)\, Vaje (V)\, [M3-05\, M3-06]\nL
 etniki: 3. LETNIK (EMŠ M)\nIzvajalci: Inštitut za farmakologijo in eks I
 FET\nProstor: Vajalnice IFET
LOCATION:Vajalnice IFET
ORGANIZER:Inštitut za farmakologijo in eks IFET
RELATED-TO:mf-AFLABS-URNIK:srecanje:2735
X-WR-TIMEZONE:Europe/Ljubljana
END:VEVENT
BEGIN:VEVENT
SUMMARY:Farmakologija (FARMA)\, Vaje (V)\, [M3-05\, M3-06]
DTSTART;TZID=Europe/Ljubljana:20241025T170000
DTEND;TZID=Europe/Ljubljana:20241025T200000
DTSTAMP:20260420T053033Z
UID:mf-AFLABS-URNIK:premaknjeno-srecanje:15720
ATTENDEE:3. LETNIK (EMŠ M)
CATEGORIES:Entry,Special
COLOR:forestgreen
DESCRIPTION:Predmet: Farmakologija (FARMA)\, Vaje (V)\, [M3-05\, M3-06]\nL
 etniki: 3. LETNIK (EMŠ M)\nIzvajalci: Inštitut za farmakologijo in eks I
 FET\nProstor: Vajalnice IFET
LOCATION:Vajalnice IFET
ORGANIZER:Inštitut za farmakologijo in eks IFET
RELATED-TO:mf-AFLABS-URNIK:srecanje:2735
X-WR-TIMEZONE:Europe/Ljubljana
END:VEVENT
BEGIN:VEVENT
SUMMARY:Farmakologija za dentalno medicino (FARMADM)\, Vaje (V)\, [D3-03\,
  D3-04]
DTSTART;TZID=Europe/Ljubljana:20241007T110000
DTEND;TZID=Europe/Ljubljana:20241007T140000
DTSTAMP:20260420T053033Z
UID:mf-AFLABS-URNIK:premaknjeno-srecanje:15375
ATTENDEE:3. LETNIK (EMŠ DM)
CATEGORIES:Entry,Special
COLOR:forestgreen
DESCRIPTION:Predmet: Farmakologija za dentalno medicino (FARMADM)\, Vaje (
 V)\, [D3-03\, D3-04]\nLetniki: 3. LETNIK (EMŠ DM)\nIzvajalci: Inštitut z
 a farmakologijo in eks IFET\nProstor: Vajalnice IFET
LOCATION:Vajalnice IFET
ORGANIZER:Inštitut za farmakologijo in eks IFET
RELATED-TO:mf-AFLABS-URNIK:srecanje:2684
X-WR-TIMEZONE:Europe/Ljubljana
END:VEVENT
BEGIN:VEVENT
SUMMARY:Farmakologija za dentalno medicino (FARMADM)\, Vaje (V)\, [D3-03\,
  D3-04]
DTSTART;TZID=Europe/Ljubljana:20241028T110000
DTEND;TZID=Europe/Ljubljana:20241028T140000
DTSTAMP:20260420T053033Z
UID:mf-AFLABS-URNIK:premaknjeno-srecanje:15376
ATTENDEE:3. LETNIK (EMŠ DM)
CATEGORIES:Entry,Special
COLOR:forestgreen
DESCRIPTION:Predmet: Farmakologija za dentalno medicino (FARMADM)\, Vaje (
 V)\, [D3-03\, D3-04]\nLetniki: 3. LETNIK (EMŠ DM)\nIzvajalci: Inštitut z
 a farmakologijo in eks IFET\nProstor: Vajalnice IFET
LOCATION:Vajalnice IFET
ORGANIZER:Inštitut za farmakologijo in eks IFET
RELATED-TO:mf-AFLABS-URNIK:srecanje:2684
X-WR-TIMEZONE:Europe/Ljubljana
END:VEVENT
BEGIN:VEVENT
SUMMARY:Farmakologija (FARMA)\, Vaje (V)\, [M3-07\, M3-08]
DTSTART;TZID=Europe/Ljubljana:20241011T080000
DTEND;TZID=Europe/Ljubljana:20241011T110000
DTSTAMP:20260420T053033Z
UID:mf-AFLABS-URNIK:premaknjeno-srecanje:15723
ATTENDEE:3. LETNIK (EMŠ M)
CATEGORIES:Entry,Special
COLOR:forestgreen
DESCRIPTION:Predmet: Farmakologija (FARMA)\, Vaje (V)\, [M3-07\, M3-08]\nL
 etniki: 3. LETNIK (EMŠ M)\nIzvajalci: Inštitut za farmakologijo in eks I
 FET\nProstor: Vajalnice IFET
LOCATION:Vajalnice IFET
ORGANIZER:Inštitut za farmakologijo in eks IFET
RELATED-TO:mf-AFLABS-URNIK:srecanje:2736
X-WR-TIMEZONE:Europe/Ljubljana
END:VEVENT
BEGIN:VEVENT
SUMMARY:Farmakologija (FARMA)\, Vaje (V)\, [M3-09\, M3-10]
DTSTART;TZID=Europe/Ljubljana:20241011T110000
DTEND;TZID=Europe/Ljubljana:20241011T140000
DTSTAMP:20260420T053033Z
UID:mf-AFLABS-URNIK:premaknjeno-srecanje:15727
ATTENDEE:3. LETNIK (EMŠ M)
CATEGORIES:Entry,Special
COLOR:forestgreen
DESCRIPTION:Predmet: Farmakologija (FARMA)\, Vaje (V)\, [M3-09\, M3-10]\nL
 etniki: 3. LETNIK (EMŠ M)\nIzvajalci: Inštitut za farmakologijo in eks I
 FET\nProstor: Vajalnice IFET
LOCATION:Vajalnice IFET
ORGANIZER:Inštitut za farmakologijo in eks IFET
RELATED-TO:mf-AFLABS-URNIK:srecanje:2737
X-WR-TIMEZONE:Europe/Ljubljana
END:VEVENT
BEGIN:VEVENT
SUMMARY:Farmakologija (FARMA)\, Vaje (V)\, [M3-11\, M3-12]
DTSTART;TZID=Europe/Ljubljana:20241011T140000
DTEND;TZID=Europe/Ljubljana:20241011T170000
DTSTAMP:20260420T053033Z
UID:mf-AFLABS-URNIK:premaknjeno-srecanje:15731
ATTENDEE:3. LETNIK (EMŠ M)
CATEGORIES:Entry,Special
COLOR:forestgreen
DESCRIPTION:Predmet: Farmakologija (FARMA)\, Vaje (V)\, [M3-11\, M3-12]\nL
 etniki: 3. LETNIK (EMŠ M)\nIzvajalci: Inštitut za farmakologijo in eks I
 FET\nProstor: Vajalnice IFET
LOCATION:Vajalnice IFET
ORGANIZER:Inštitut za farmakologijo in eks IFET
RELATED-TO:mf-AFLABS-URNIK:srecanje:2738
X-WR-TIMEZONE:Europe/Ljubljana
END:VEVENT
BEGIN:VEVENT
SUMMARY:Farmakologija za dentalno medicino (FARMADM)\, Vaje (V)\, [D3-05\,
  D3-06]
DTSTART;TZID=Europe/Ljubljana:20241014T110000
DTEND;TZID=Europe/Ljubljana:20241014T140000
DTSTAMP:20260420T053033Z
UID:mf-AFLABS-URNIK:premaknjeno-srecanje:15378
ATTENDEE:3. LETNIK (EMŠ DM)
CATEGORIES:Entry,Special
COLOR:forestgreen
DESCRIPTION:Predmet: Farmakologija za dentalno medicino (FARMADM)\, Vaje (
 V)\, [D3-05\, D3-06]\nLetniki: 3. LETNIK (EMŠ DM)\nIzvajalci: Inštitut z
 a farmakologijo in eks IFET\nProstor: Vajalnice IFET
LOCATION:Vajalnice IFET
ORGANIZER:Inštitut za farmakologijo in eks IFET
RELATED-TO:mf-AFLABS-URNIK:srecanje:2685
X-WR-TIMEZONE:Europe/Ljubljana
END:VEVENT
BEGIN:VEVENT
SUMMARY:Farmakologija za dentalno medicino (FARMADM)\, Vaje (V)\, [D3-05\,
  D3-06]
DTSTART;TZID=Europe/Ljubljana:20241104T110000
DTEND;TZID=Europe/Ljubljana:20241104T140000
DTSTAMP:20260420T053033Z
UID:mf-AFLABS-URNIK:premaknjeno-srecanje:15379
ATTENDEE:3. LETNIK (EMŠ DM)
CATEGORIES:Entry,Special
COLOR:forestgreen
DESCRIPTION:Predmet: Farmakologija za dentalno medicino (FARMADM)\, Vaje (
 V)\, [D3-05\, D3-06]\nLetniki: 3. LETNIK (EMŠ DM)\nIzvajalci: Inštitut z
 a farmakologijo in eks IFET\nProstor: Vajalnice IFET
LOCATION:Vajalnice IFET
ORGANIZER:Inštitut za farmakologijo in eks IFET
RELATED-TO:mf-AFLABS-URNIK:srecanje:2685
X-WR-TIMEZONE:Europe/Ljubljana
END:VEVENT
BEGIN:VEVENT
SUMMARY:Farmakologija (FARMA)\, Vaje (V)\, [M3-13\, M3-14]
DTSTART;TZID=Europe/Ljubljana:20241018T080000
DTEND;TZID=Europe/Ljubljana:20241018T110000
DTSTAMP:20260420T053033Z
UID:mf-AFLABS-URNIK:premaknjeno-srecanje:15735
ATTENDEE:3. LETNIK (EMŠ M)
CATEGORIES:Entry,Special
COLOR:forestgreen
DESCRIPTION:Predmet: Farmakologija (FARMA)\, Vaje (V)\, [M3-13\, M3-14]\nL
 etniki: 3. LETNIK (EMŠ M)\nIzvajalci: Inštitut za farmakologijo in eks I
 FET\nProstor: Vajalnice IFET
LOCATION:Vajalnice IFET
ORGANIZER:Inštitut za farmakologijo in eks IFET
RELATED-TO:mf-AFLABS-URNIK:srecanje:2739
X-WR-TIMEZONE:Europe/Ljubljana
END:VEVENT
BEGIN:VEVENT
SUMMARY:Farmakologija (FARMA)\, Vaje (V)\, [M3-15\, M3-16]
DTSTART;TZID=Europe/Ljubljana:20241018T110000
DTEND;TZID=Europe/Ljubljana:20241018T140000
DTSTAMP:20260420T053033Z
UID:mf-AFLABS-URNIK:premaknjeno-srecanje:15739
ATTENDEE:3. LETNIK (EMŠ M)
CATEGORIES:Entry,Special
COLOR:forestgreen
DESCRIPTION:Predmet: Farmakologija (FARMA)\, Vaje (V)\, [M3-15\, M3-16]\nL
 etniki: 3. LETNIK (EMŠ M)\nIzvajalci: Inštitut za farmakologijo in eks I
 FET\nProstor: Vajalnice IFET
LOCATION:Vajalnice IFET
ORGANIZER:Inštitut za farmakologijo in eks IFET
RELATED-TO:mf-AFLABS-URNIK:srecanje:2740
X-WR-TIMEZONE:Europe/Ljubljana
END:VEVENT
BEGIN:VEVENT
SUMMARY:Farmakologija (FARMA)\, Vaje (V)\, [M3-17\, M3-18]
DTSTART;TZID=Europe/Ljubljana:20241018T140000
DTEND;TZID=Europe/Ljubljana:20241018T170000
DTSTAMP:20260420T053033Z
UID:mf-AFLABS-URNIK:premaknjeno-srecanje:15743
ATTENDEE:3. LETNIK (EMŠ M)
CATEGORIES:Entry,Special
COLOR:forestgreen
DESCRIPTION:Predmet: Farmakologija (FARMA)\, Vaje (V)\, [M3-17\, M3-18]\nL
 etniki: 3. LETNIK (EMŠ M)\nIzvajalci: Inštitut za farmakologijo in eks I
 FET\nProstor: Vajalnice IFET
LOCATION:Vajalnice IFET
ORGANIZER:Inštitut za farmakologijo in eks IFET
RELATED-TO:mf-AFLABS-URNIK:srecanje:2741
X-WR-TIMEZONE:Europe/Ljubljana
END:VEVENT
BEGIN:VEVENT
SUMMARY:Farmakologija za dentalno medicino (FARMADM)\, Vaje (V)\, [D3-01\,
  D3-02]
DTSTART;TZID=Europe/Ljubljana:20241021T110000
DTEND;TZID=Europe/Ljubljana:20241021T140000
DTSTAMP:20260420T053033Z
UID:mf-AFLABS-URNIK:premaknjeno-srecanje:15372
ATTENDEE:3. LETNIK (EMŠ DM)
CATEGORIES:Entry,Special
COLOR:forestgreen
DESCRIPTION:Predmet: Farmakologija za dentalno medicino (FARMADM)\, Vaje (
 V)\, [D3-01\, D3-02]\nLetniki: 3. LETNIK (EMŠ DM)\nIzvajalci: Inštitut z
 a farmakologijo in eks IFET\nProstor: Vajalnice IFET
LOCATION:Vajalnice IFET
ORGANIZER:Inštitut za farmakologijo in eks IFET
RELATED-TO:mf-AFLABS-URNIK:srecanje:2683
X-WR-TIMEZONE:Europe/Ljubljana
END:VEVENT
END:VCALENDAR
