BEGIN:VCALENDAR
VERSION:2.0
PRODID:-//AFLabs urnik izvoz - mf//aflabs.si//SI
DTSTAMP:20260420T075551Z
NAME:UL MF urnik
REFRESH-INTERVAL:PT1H
SOURCE:https://afurnik-mf.dev.aflabs.org/teacher/6?day=2026-10-05&export=1
URL:https://afurnik-mf.dev.aflabs.org/teacher/6?day=2026-10-05&export=1
X-PUBLISHED-TTL:PT1H
X-WR-CALNAME:UL MF urnik
X-WR-TIMEZONE:Europe/Ljubljana
BEGIN:VTIMEZONE
TZID:Europe/Ljubljana
BEGIN:DAYLIGHT
DTSTART:20260329T020000
RDATE:20260329T020000
RDATE:20270328T020000
TZNAME:CEST
TZOFFSETFROM:+0100
TZOFFSETTO:+0200
END:DAYLIGHT
BEGIN:STANDARD
DTSTART:20261025T030000
RDATE:20261025T030000
RDATE:20271031T030000
TZNAME:CET
TZOFFSETFROM:+0200
TZOFFSETTO:+0100
END:STANDARD
END:VTIMEZONE
BEGIN:VEVENT
SUMMARY:IZPIT:Farmakologija
DTSTART;TZID=Europe/Ljubljana:20260909T093000
DTEND;TZID=Europe/Ljubljana:20260909T113000
DTSTAMP:20260420T075551Z
UID:mf-AFLABS-URNIK:rezervacija:8980
ATTENDEE:3. LETNIK (EMŠ M)
CATEGORIES:Reservation
COLOR:royalblue
DESCRIPTION:Predmeti: Farmakologija (FARMA)\nLetniki: 3. LETNIK (EMŠ M)\n
 Izvajalci: Inštitut za farmakologijo in eks IFET\nProstori: Pred - Velika
  - MF
LOCATION:Korytkova 2\, Pred - Velika - MF
ORGANIZER:Inštitut za farmakologijo in eks IFET
X-WR-TIMEZONE:Europe/Ljubljana
END:VEVENT
BEGIN:VEVENT
SUMMARY:IZPIT:Farmakologija za dentalno medicino
DTSTART;TZID=Europe/Ljubljana:20260909T093000
DTEND;TZID=Europe/Ljubljana:20260909T113000
DTSTAMP:20260420T075551Z
UID:mf-AFLABS-URNIK:rezervacija:9016
ATTENDEE:3. LETNIK (EMŠ DM)
CATEGORIES:Reservation
COLOR:royalblue
DESCRIPTION:Predmeti: Farmakologija za dentalno medicino (FARMADM)\nLetnik
 i: 3. LETNIK (EMŠ DM)\nIzvajalci: Inštitut za farmakologijo in eks IFET\
 nProstori: Pred - Velika - MF
LOCATION:Korytkova 2\, Pred - Velika - MF
ORGANIZER:Inštitut za farmakologijo in eks IFET
X-WR-TIMEZONE:Europe/Ljubljana
END:VEVENT
END:VCALENDAR
