BEGIN:VCALENDAR
VERSION:2.0
PRODID:-//AFLabs urnik izvoz - mf//aflabs.si//SI
DTSTAMP:20260420T064049Z
NAME:UL MF urnik
REFRESH-INTERVAL:PT1H
SOURCE:https://afurnik-mf.dev.aflabs.org/teacher/7?day=2023-09-18&export=1
URL:https://afurnik-mf.dev.aflabs.org/teacher/7?day=2023-09-18&export=1
X-PUBLISHED-TTL:PT1H
X-WR-CALNAME:UL MF urnik
X-WR-TIMEZONE:Europe/Ljubljana
BEGIN:VTIMEZONE
TZID:Europe/Ljubljana
BEGIN:DAYLIGHT
DTSTART:20260329T020000
RDATE:20260329T020000
RDATE:20270328T020000
TZNAME:CEST
TZOFFSETFROM:+0100
TZOFFSETTO:+0200
END:DAYLIGHT
BEGIN:STANDARD
DTSTART:20261025T030000
RDATE:20261025T030000
RDATE:20271031T030000
TZNAME:CET
TZOFFSETFROM:+0200
TZOFFSETTO:+0100
END:STANDARD
END:VTIMEZONE
BEGIN:VEVENT
SUMMARY:Fiziologija človeka (FIZIO)\, Vaje (V)\, [M2-01\, M2-02\, M2-03\,
  M2-04]
DTSTART;TZID=Europe/Ljubljana:20231002T080000
DTEND;TZID=Europe/Ljubljana:20231002T120000
DTSTAMP:20260420T064049Z
UID:mf-AFLABS-URNIK:premaknjeno-srecanje:3595
ATTENDEE:2. LETNIK (EMŠ M)
CATEGORIES:Entry,Standard
COLOR:darkgreen
DESCRIPTION:Predmet: Fiziologija človeka (FIZIO)\, Vaje (V)\, [M2-01\, M2
 -02\, M2-03\, M2-04]\nLetniki: 2. LETNIK (EMŠ M)\nIzvajalci: Inštitut za
  fiziologijo FIZIO\nProstor: Vaj - Fiziologija
LOCATION:Zaloška 4\, Vaj - Fiziologija
ORGANIZER:Inštitut za fiziologijo FIZIO
RELATED-TO:mf-AFLABS-URNIK:srecanje:592
X-WR-TIMEZONE:Europe/Ljubljana
END:VEVENT
BEGIN:VEVENT
SUMMARY:Fiziologija človeka (FIZIO)\, Vaje (V)\, [M2-01\, M2-02\, M2-03\,
  M2-04]
DTSTART;TZID=Europe/Ljubljana:20231009T080000
DTEND;TZID=Europe/Ljubljana:20231009T120000
DTSTAMP:20260420T064049Z
UID:mf-AFLABS-URNIK:premaknjeno-srecanje:3596
ATTENDEE:2. LETNIK (EMŠ M)
CATEGORIES:Entry,Standard
COLOR:darkgreen
DESCRIPTION:Predmet: Fiziologija človeka (FIZIO)\, Vaje (V)\, [M2-01\, M2
 -02\, M2-03\, M2-04]\nLetniki: 2. LETNIK (EMŠ M)\nIzvajalci: Inštitut za
  fiziologijo FIZIO\nProstor: Vaj - Fiziologija
LOCATION:Zaloška 4\, Vaj - Fiziologija
ORGANIZER:Inštitut za fiziologijo FIZIO
RELATED-TO:mf-AFLABS-URNIK:srecanje:592
X-WR-TIMEZONE:Europe/Ljubljana
END:VEVENT
BEGIN:VEVENT
SUMMARY:Fiziologija človeka (FIZIO)\, Vaje (V)\, [M2-01\, M2-02\, M2-03\,
  M2-04]
DTSTART;TZID=Europe/Ljubljana:20231016T080000
DTEND;TZID=Europe/Ljubljana:20231016T120000
DTSTAMP:20260420T064049Z
UID:mf-AFLABS-URNIK:premaknjeno-srecanje:3597
ATTENDEE:2. LETNIK (EMŠ M)
CATEGORIES:Entry,Standard
COLOR:darkgreen
DESCRIPTION:Predmet: Fiziologija človeka (FIZIO)\, Vaje (V)\, [M2-01\, M2
 -02\, M2-03\, M2-04]\nLetniki: 2. LETNIK (EMŠ M)\nIzvajalci: Inštitut za
  fiziologijo FIZIO\nProstor: Vaj - Fiziologija
LOCATION:Zaloška 4\, Vaj - Fiziologija
ORGANIZER:Inštitut za fiziologijo FIZIO
RELATED-TO:mf-AFLABS-URNIK:srecanje:592
X-WR-TIMEZONE:Europe/Ljubljana
END:VEVENT
BEGIN:VEVENT
SUMMARY:Fiziologija človeka (FIZIO)\, Vaje (V)\, [M2-01\, M2-02\, M2-03\,
  M2-04]
DTSTART;TZID=Europe/Ljubljana:20231023T080000
DTEND;TZID=Europe/Ljubljana:20231023T120000
DTSTAMP:20260420T064049Z
UID:mf-AFLABS-URNIK:premaknjeno-srecanje:3598
ATTENDEE:2. LETNIK (EMŠ M)
CATEGORIES:Entry,Standard
COLOR:darkgreen
DESCRIPTION:Predmet: Fiziologija človeka (FIZIO)\, Vaje (V)\, [M2-01\, M2
 -02\, M2-03\, M2-04]\nLetniki: 2. LETNIK (EMŠ M)\nIzvajalci: Inštitut za
  fiziologijo FIZIO\nProstor: Vaj - Fiziologija
LOCATION:Zaloška 4\, Vaj - Fiziologija
ORGANIZER:Inštitut za fiziologijo FIZIO
RELATED-TO:mf-AFLABS-URNIK:srecanje:592
X-WR-TIMEZONE:Europe/Ljubljana
END:VEVENT
BEGIN:VEVENT
SUMMARY:Fiziologija človeka (FIZIO)\, Vaje (V)\, [M2-05\, M2-06\, M2-07\,
  M2-08]
DTSTART;TZID=Europe/Ljubljana:20231002T120000
DTEND;TZID=Europe/Ljubljana:20231002T160000
DTSTAMP:20260420T064049Z
UID:mf-AFLABS-URNIK:premaknjeno-srecanje:3607
ATTENDEE:2. LETNIK (EMŠ M)
CATEGORIES:Entry,Standard
COLOR:darkgreen
DESCRIPTION:Predmet: Fiziologija človeka (FIZIO)\, Vaje (V)\, [M2-05\, M2
 -06\, M2-07\, M2-08]\nLetniki: 2. LETNIK (EMŠ M)\nIzvajalci: Inštitut za
  fiziologijo FIZIO\nProstor: Vaj - Fiziologija
LOCATION:Zaloška 4\, Vaj - Fiziologija
ORGANIZER:Inštitut za fiziologijo FIZIO
RELATED-TO:mf-AFLABS-URNIK:srecanje:593
X-WR-TIMEZONE:Europe/Ljubljana
END:VEVENT
BEGIN:VEVENT
SUMMARY:Fiziologija človeka (FIZIO)\, Vaje (V)\, [M2-05\, M2-06\, M2-07\,
  M2-08]
DTSTART;TZID=Europe/Ljubljana:20231009T120000
DTEND;TZID=Europe/Ljubljana:20231009T160000
DTSTAMP:20260420T064049Z
UID:mf-AFLABS-URNIK:premaknjeno-srecanje:3608
ATTENDEE:2. LETNIK (EMŠ M)
CATEGORIES:Entry,Standard
COLOR:darkgreen
DESCRIPTION:Predmet: Fiziologija človeka (FIZIO)\, Vaje (V)\, [M2-05\, M2
 -06\, M2-07\, M2-08]\nLetniki: 2. LETNIK (EMŠ M)\nIzvajalci: Inštitut za
  fiziologijo FIZIO\nProstor: Vaj - Fiziologija
LOCATION:Zaloška 4\, Vaj - Fiziologija
ORGANIZER:Inštitut za fiziologijo FIZIO
RELATED-TO:mf-AFLABS-URNIK:srecanje:593
X-WR-TIMEZONE:Europe/Ljubljana
END:VEVENT
BEGIN:VEVENT
SUMMARY:Fiziologija človeka (FIZIO)\, Vaje (V)\, [M2-05\, M2-06\, M2-07\,
  M2-08]
DTSTART;TZID=Europe/Ljubljana:20231016T120000
DTEND;TZID=Europe/Ljubljana:20231016T160000
DTSTAMP:20260420T064049Z
UID:mf-AFLABS-URNIK:premaknjeno-srecanje:3609
ATTENDEE:2. LETNIK (EMŠ M)
CATEGORIES:Entry,Standard
COLOR:darkgreen
DESCRIPTION:Predmet: Fiziologija človeka (FIZIO)\, Vaje (V)\, [M2-05\, M2
 -06\, M2-07\, M2-08]\nLetniki: 2. LETNIK (EMŠ M)\nIzvajalci: Inštitut za
  fiziologijo FIZIO\nProstor: Vaj - Fiziologija
LOCATION:Zaloška 4\, Vaj - Fiziologija
ORGANIZER:Inštitut za fiziologijo FIZIO
RELATED-TO:mf-AFLABS-URNIK:srecanje:593
X-WR-TIMEZONE:Europe/Ljubljana
END:VEVENT
BEGIN:VEVENT
SUMMARY:Fiziologija človeka (FIZIO)\, Vaje (V)\, [M2-05\, M2-06\, M2-07\,
  M2-08]
DTSTART;TZID=Europe/Ljubljana:20231023T120000
DTEND;TZID=Europe/Ljubljana:20231023T160000
DTSTAMP:20260420T064049Z
UID:mf-AFLABS-URNIK:premaknjeno-srecanje:3610
ATTENDEE:2. LETNIK (EMŠ M)
CATEGORIES:Entry,Standard
COLOR:darkgreen
DESCRIPTION:Predmet: Fiziologija človeka (FIZIO)\, Vaje (V)\, [M2-05\, M2
 -06\, M2-07\, M2-08]\nLetniki: 2. LETNIK (EMŠ M)\nIzvajalci: Inštitut za
  fiziologijo FIZIO\nProstor: Vaj - Fiziologija
LOCATION:Zaloška 4\, Vaj - Fiziologija
ORGANIZER:Inštitut za fiziologijo FIZIO
RELATED-TO:mf-AFLABS-URNIK:srecanje:593
X-WR-TIMEZONE:Europe/Ljubljana
END:VEVENT
BEGIN:VEVENT
SUMMARY:Fiziologija človeka (FIZIO)\, Vaje (V)\, [M2-09\, M2-10\, M2-11\,
  M2-12]
DTSTART;TZID=Europe/Ljubljana:20231002T160000
DTEND;TZID=Europe/Ljubljana:20231002T200000
DTSTAMP:20260420T064049Z
UID:mf-AFLABS-URNIK:premaknjeno-srecanje:3619
ATTENDEE:2. LETNIK (EMŠ M)
CATEGORIES:Entry,Standard
COLOR:darkgreen
DESCRIPTION:Predmet: Fiziologija človeka (FIZIO)\, Vaje (V)\, [M2-09\, M2
 -10\, M2-11\, M2-12]\nLetniki: 2. LETNIK (EMŠ M)\nIzvajalci: Inštitut za
  fiziologijo FIZIO\nProstor: Vaj - Fiziologija
LOCATION:Zaloška 4\, Vaj - Fiziologija
ORGANIZER:Inštitut za fiziologijo FIZIO
RELATED-TO:mf-AFLABS-URNIK:srecanje:594
X-WR-TIMEZONE:Europe/Ljubljana
END:VEVENT
BEGIN:VEVENT
SUMMARY:Fiziologija človeka (FIZIO)\, Vaje (V)\, [M2-09\, M2-10\, M2-11\,
  M2-12]
DTSTART;TZID=Europe/Ljubljana:20231009T160000
DTEND;TZID=Europe/Ljubljana:20231009T200000
DTSTAMP:20260420T064049Z
UID:mf-AFLABS-URNIK:premaknjeno-srecanje:3620
ATTENDEE:2. LETNIK (EMŠ M)
CATEGORIES:Entry,Standard
COLOR:darkgreen
DESCRIPTION:Predmet: Fiziologija človeka (FIZIO)\, Vaje (V)\, [M2-09\, M2
 -10\, M2-11\, M2-12]\nLetniki: 2. LETNIK (EMŠ M)\nIzvajalci: Inštitut za
  fiziologijo FIZIO\nProstor: Vaj - Fiziologija
LOCATION:Zaloška 4\, Vaj - Fiziologija
ORGANIZER:Inštitut za fiziologijo FIZIO
RELATED-TO:mf-AFLABS-URNIK:srecanje:594
X-WR-TIMEZONE:Europe/Ljubljana
END:VEVENT
BEGIN:VEVENT
SUMMARY:Fiziologija človeka (FIZIO)\, Vaje (V)\, [M2-09\, M2-10\, M2-11\,
  M2-12]
DTSTART;TZID=Europe/Ljubljana:20231016T160000
DTEND;TZID=Europe/Ljubljana:20231016T200000
DTSTAMP:20260420T064049Z
UID:mf-AFLABS-URNIK:premaknjeno-srecanje:3621
ATTENDEE:2. LETNIK (EMŠ M)
CATEGORIES:Entry,Standard
COLOR:darkgreen
DESCRIPTION:Predmet: Fiziologija človeka (FIZIO)\, Vaje (V)\, [M2-09\, M2
 -10\, M2-11\, M2-12]\nLetniki: 2. LETNIK (EMŠ M)\nIzvajalci: Inštitut za
  fiziologijo FIZIO\nProstor: Vaj - Fiziologija
LOCATION:Zaloška 4\, Vaj - Fiziologija
ORGANIZER:Inštitut za fiziologijo FIZIO
RELATED-TO:mf-AFLABS-URNIK:srecanje:594
X-WR-TIMEZONE:Europe/Ljubljana
END:VEVENT
BEGIN:VEVENT
SUMMARY:Fiziologija človeka (FIZIO)\, Vaje (V)\, [M2-09\, M2-10\, M2-11\,
  M2-12]
DTSTART;TZID=Europe/Ljubljana:20231023T160000
DTEND;TZID=Europe/Ljubljana:20231023T200000
DTSTAMP:20260420T064049Z
UID:mf-AFLABS-URNIK:premaknjeno-srecanje:3622
ATTENDEE:2. LETNIK (EMŠ M)
CATEGORIES:Entry,Standard
COLOR:darkgreen
DESCRIPTION:Predmet: Fiziologija človeka (FIZIO)\, Vaje (V)\, [M2-09\, M2
 -10\, M2-11\, M2-12]\nLetniki: 2. LETNIK (EMŠ M)\nIzvajalci: Inštitut za
  fiziologijo FIZIO\nProstor: Vaj - Fiziologija
LOCATION:Zaloška 4\, Vaj - Fiziologija
ORGANIZER:Inštitut za fiziologijo FIZIO
RELATED-TO:mf-AFLABS-URNIK:srecanje:594
X-WR-TIMEZONE:Europe/Ljubljana
END:VEVENT
BEGIN:VEVENT
SUMMARY:Struktura in funkcija živčevja (SFŽ)\, Predavanje (P)\, [M2-01\
 , M2-02\, M2-03\, M2-04\, M2-05\, M2-06\, M2-07\, M2-08\, M2-09\, M2-10\, 
 M2-11\, M2-12\, M2-13\, M2-14\, M2-15\, M2-16\, M2-17\, M2-18\, M2-19\, M2
 -20]
DTSTART;TZID=Europe/Ljubljana:20231003T080000
DTEND;TZID=Europe/Ljubljana:20231003T113000
DTSTAMP:20260420T064049Z
UID:mf-AFLABS-URNIK:premaknjeno-srecanje:2813
ATTENDEE:2. LETNIK (EMŠ M)
CATEGORIES:Entry,Standard
COLOR:darkgreen
DESCRIPTION:Predmet: Struktura in funkcija živčevja (SFŽ)\, Predavanje 
 (P)\, [M2-01\, M2-02\, M2-03\, M2-04\, M2-05\, M2-06\, M2-07\, M2-08\, M2-
 09\, M2-10\, M2-11\, M2-12\, M2-13\, M2-14\, M2-15\, M2-16\, M2-17\, M2-18
 \, M2-19\, M2-20]\nLetniki: 2. LETNIK (EMŠ M)\nIzvajalci: Inštitut za fi
 ziologijo FIZIO\, Inštitut za anatomijo IAN\, Inštitut za histologijo z 
 embrio IHE\nProstor: Pred - Velika - MF
LOCATION:Korytkova 2\, Pred - Velika - MF
ORGANIZER:Inštitut za fiziologijo FIZIO, Inštitut za anatomijo IAN, Inš
 titut za histologijo z embrio IHE
RELATED-TO:mf-AFLABS-URNIK:srecanje:465
X-WR-TIMEZONE:Europe/Ljubljana
END:VEVENT
BEGIN:VEVENT
SUMMARY:Struktura in funkcija živčevja (SFŽ)\, Predavanje (P)\, [M2-01\
 , M2-02\, M2-03\, M2-04\, M2-05\, M2-06\, M2-07\, M2-08\, M2-09\, M2-10\, 
 M2-11\, M2-12\, M2-13\, M2-14\, M2-15\, M2-16\, M2-17\, M2-18\, M2-19\, M2
 -20]
DTSTART;TZID=Europe/Ljubljana:20231010T080000
DTEND;TZID=Europe/Ljubljana:20231010T113000
DTSTAMP:20260420T064049Z
UID:mf-AFLABS-URNIK:premaknjeno-srecanje:2814
ATTENDEE:2. LETNIK (EMŠ M)
CATEGORIES:Entry,Standard
COLOR:darkgreen
DESCRIPTION:Predmet: Struktura in funkcija živčevja (SFŽ)\, Predavanje 
 (P)\, [M2-01\, M2-02\, M2-03\, M2-04\, M2-05\, M2-06\, M2-07\, M2-08\, M2-
 09\, M2-10\, M2-11\, M2-12\, M2-13\, M2-14\, M2-15\, M2-16\, M2-17\, M2-18
 \, M2-19\, M2-20]\nLetniki: 2. LETNIK (EMŠ M)\nIzvajalci: Inštitut za fi
 ziologijo FIZIO\, Inštitut za anatomijo IAN\, Inštitut za histologijo z 
 embrio IHE\nProstor: Pred - Velika - MF
LOCATION:Korytkova 2\, Pred - Velika - MF
ORGANIZER:Inštitut za fiziologijo FIZIO, Inštitut za anatomijo IAN, Inš
 titut za histologijo z embrio IHE
RELATED-TO:mf-AFLABS-URNIK:srecanje:465
X-WR-TIMEZONE:Europe/Ljubljana
END:VEVENT
BEGIN:VEVENT
SUMMARY:Struktura in funkcija živčevja (SFŽ)\, Predavanje (P)\, [M2-01\
 , M2-02\, M2-03\, M2-04\, M2-05\, M2-06\, M2-07\, M2-08\, M2-09\, M2-10\, 
 M2-11\, M2-12\, M2-13\, M2-14\, M2-15\, M2-16\, M2-17\, M2-18\, M2-19\, M2
 -20]
DTSTART;TZID=Europe/Ljubljana:20231017T080000
DTEND;TZID=Europe/Ljubljana:20231017T113000
DTSTAMP:20260420T064049Z
UID:mf-AFLABS-URNIK:premaknjeno-srecanje:2815
ATTENDEE:2. LETNIK (EMŠ M)
CATEGORIES:Entry,Standard
COLOR:darkgreen
DESCRIPTION:Predmet: Struktura in funkcija živčevja (SFŽ)\, Predavanje 
 (P)\, [M2-01\, M2-02\, M2-03\, M2-04\, M2-05\, M2-06\, M2-07\, M2-08\, M2-
 09\, M2-10\, M2-11\, M2-12\, M2-13\, M2-14\, M2-15\, M2-16\, M2-17\, M2-18
 \, M2-19\, M2-20]\nLetniki: 2. LETNIK (EMŠ M)\nIzvajalci: Inštitut za fi
 ziologijo FIZIO\, Inštitut za anatomijo IAN\, Inštitut za histologijo z 
 embrio IHE\nProstor: Pred - Velika - MF
LOCATION:Korytkova 2\, Pred - Velika - MF
ORGANIZER:Inštitut za fiziologijo FIZIO, Inštitut za anatomijo IAN, Inš
 titut za histologijo z embrio IHE
RELATED-TO:mf-AFLABS-URNIK:srecanje:465
X-WR-TIMEZONE:Europe/Ljubljana
END:VEVENT
BEGIN:VEVENT
SUMMARY:Fiziologija človeka (FIZIO)\, Predavanje (P)\, [M2-01\, M2-02\, M
 2-03\, M2-04\, M2-05\, M2-06\, M2-07\, M2-08\, M2-09\, M2-10\, M2-11\, M2-
 12\, M2-13\, M2-14\, M2-15\, M2-16\, M2-17\, M2-18\, M2-19\, M2-20]
DTSTART;TZID=Europe/Ljubljana:20231003T123000
DTEND;TZID=Europe/Ljubljana:20231003T140000
DTSTAMP:20260420T064049Z
UID:mf-AFLABS-URNIK:premaknjeno-srecanje:3570
ATTENDEE:2. LETNIK (EMŠ M)
CATEGORIES:Entry,Standard
COLOR:darkgreen
DESCRIPTION:Predmet: Fiziologija človeka (FIZIO)\, Predavanje (P)\, [M2-0
 1\, M2-02\, M2-03\, M2-04\, M2-05\, M2-06\, M2-07\, M2-08\, M2-09\, M2-10\
 , M2-11\, M2-12\, M2-13\, M2-14\, M2-15\, M2-16\, M2-17\, M2-18\, M2-19\, 
 M2-20]\nLetniki: 2. LETNIK (EMŠ M)\nIzvajalci: Inštitut za fiziologijo F
 IZIO\nProstor: Pred - Velika - MF
LOCATION:Korytkova 2\, Pred - Velika - MF
ORGANIZER:Inštitut za fiziologijo FIZIO
RELATED-TO:mf-AFLABS-URNIK:srecanje:590
X-WR-TIMEZONE:Europe/Ljubljana
END:VEVENT
BEGIN:VEVENT
SUMMARY:Fiziologija človeka (FIZIO)\, Predavanje (P)\, [M2-01\, M2-02\, M
 2-03\, M2-04\, M2-05\, M2-06\, M2-07\, M2-08\, M2-09\, M2-10\, M2-11\, M2-
 12\, M2-13\, M2-14\, M2-15\, M2-16\, M2-17\, M2-18\, M2-19\, M2-20]
DTSTART;TZID=Europe/Ljubljana:20231010T123000
DTEND;TZID=Europe/Ljubljana:20231010T140000
DTSTAMP:20260420T064049Z
UID:mf-AFLABS-URNIK:premaknjeno-srecanje:3571
ATTENDEE:2. LETNIK (EMŠ M)
CATEGORIES:Entry,Standard
COLOR:darkgreen
DESCRIPTION:Predmet: Fiziologija človeka (FIZIO)\, Predavanje (P)\, [M2-0
 1\, M2-02\, M2-03\, M2-04\, M2-05\, M2-06\, M2-07\, M2-08\, M2-09\, M2-10\
 , M2-11\, M2-12\, M2-13\, M2-14\, M2-15\, M2-16\, M2-17\, M2-18\, M2-19\, 
 M2-20]\nLetniki: 2. LETNIK (EMŠ M)\nIzvajalci: Inštitut za fiziologijo F
 IZIO\nProstor: Pred - Velika - MF
LOCATION:Korytkova 2\, Pred - Velika - MF
ORGANIZER:Inštitut za fiziologijo FIZIO
RELATED-TO:mf-AFLABS-URNIK:srecanje:590
X-WR-TIMEZONE:Europe/Ljubljana
END:VEVENT
BEGIN:VEVENT
SUMMARY:Fiziologija človeka (FIZIO)\, Predavanje (P)\, [M2-01\, M2-02\, M
 2-03\, M2-04\, M2-05\, M2-06\, M2-07\, M2-08\, M2-09\, M2-10\, M2-11\, M2-
 12\, M2-13\, M2-14\, M2-15\, M2-16\, M2-17\, M2-18\, M2-19\, M2-20]
DTSTART;TZID=Europe/Ljubljana:20231017T123000
DTEND;TZID=Europe/Ljubljana:20231017T140000
DTSTAMP:20260420T064049Z
UID:mf-AFLABS-URNIK:premaknjeno-srecanje:3572
ATTENDEE:2. LETNIK (EMŠ M)
CATEGORIES:Entry,Standard
COLOR:darkgreen
DESCRIPTION:Predmet: Fiziologija človeka (FIZIO)\, Predavanje (P)\, [M2-0
 1\, M2-02\, M2-03\, M2-04\, M2-05\, M2-06\, M2-07\, M2-08\, M2-09\, M2-10\
 , M2-11\, M2-12\, M2-13\, M2-14\, M2-15\, M2-16\, M2-17\, M2-18\, M2-19\, 
 M2-20]\nLetniki: 2. LETNIK (EMŠ M)\nIzvajalci: Inštitut za fiziologijo F
 IZIO\nProstor: Pred - Velika - MF
LOCATION:Korytkova 2\, Pred - Velika - MF
ORGANIZER:Inštitut za fiziologijo FIZIO
RELATED-TO:mf-AFLABS-URNIK:srecanje:590
X-WR-TIMEZONE:Europe/Ljubljana
END:VEVENT
BEGIN:VEVENT
SUMMARY:Fiziologija človeka (FIZIO)\, Vaje (V)\, [M2-13\, M2-14\, M2-15\,
  M2-16]
DTSTART;TZID=Europe/Ljubljana:20231004T143000
DTEND;TZID=Europe/Ljubljana:20231004T183000
DTSTAMP:20260420T064049Z
UID:mf-AFLABS-URNIK:premaknjeno-srecanje:3631
ATTENDEE:2. LETNIK (EMŠ M)
CATEGORIES:Entry,Standard
COLOR:darkgreen
DESCRIPTION:Predmet: Fiziologija človeka (FIZIO)\, Vaje (V)\, [M2-13\, M2
 -14\, M2-15\, M2-16]\nLetniki: 2. LETNIK (EMŠ M)\nIzvajalci: Inštitut za
  fiziologijo FIZIO\nProstor: Vaj - Fiziologija
LOCATION:Zaloška 4\, Vaj - Fiziologija
ORGANIZER:Inštitut za fiziologijo FIZIO
RELATED-TO:mf-AFLABS-URNIK:srecanje:595
X-WR-TIMEZONE:Europe/Ljubljana
END:VEVENT
BEGIN:VEVENT
SUMMARY:Fiziologija človeka (FIZIO)\, Vaje (V)\, [M2-13\, M2-14\, M2-15\,
  M2-16]
DTSTART;TZID=Europe/Ljubljana:20231011T143000
DTEND;TZID=Europe/Ljubljana:20231011T183000
DTSTAMP:20260420T064049Z
UID:mf-AFLABS-URNIK:premaknjeno-srecanje:3632
ATTENDEE:2. LETNIK (EMŠ M)
CATEGORIES:Entry,Standard
COLOR:darkgreen
DESCRIPTION:Predmet: Fiziologija človeka (FIZIO)\, Vaje (V)\, [M2-13\, M2
 -14\, M2-15\, M2-16]\nLetniki: 2. LETNIK (EMŠ M)\nIzvajalci: Inštitut za
  fiziologijo FIZIO\nProstor: Vaj - Fiziologija
LOCATION:Zaloška 4\, Vaj - Fiziologija
ORGANIZER:Inštitut za fiziologijo FIZIO
RELATED-TO:mf-AFLABS-URNIK:srecanje:595
X-WR-TIMEZONE:Europe/Ljubljana
END:VEVENT
BEGIN:VEVENT
SUMMARY:Fiziologija človeka (FIZIO)\, Vaje (V)\, [M2-13\, M2-14\, M2-15\,
  M2-16]
DTSTART;TZID=Europe/Ljubljana:20231018T143000
DTEND;TZID=Europe/Ljubljana:20231018T183000
DTSTAMP:20260420T064049Z
UID:mf-AFLABS-URNIK:premaknjeno-srecanje:3633
ATTENDEE:2. LETNIK (EMŠ M)
CATEGORIES:Entry,Standard
COLOR:darkgreen
DESCRIPTION:Predmet: Fiziologija človeka (FIZIO)\, Vaje (V)\, [M2-13\, M2
 -14\, M2-15\, M2-16]\nLetniki: 2. LETNIK (EMŠ M)\nIzvajalci: Inštitut za
  fiziologijo FIZIO\nProstor: Vaj - Fiziologija
LOCATION:Zaloška 4\, Vaj - Fiziologija
ORGANIZER:Inštitut za fiziologijo FIZIO
RELATED-TO:mf-AFLABS-URNIK:srecanje:595
X-WR-TIMEZONE:Europe/Ljubljana
END:VEVENT
BEGIN:VEVENT
SUMMARY:Fiziologija za dentalno medicino (FIZIODM)\, Predavanje (P)\, [D2-
 01\, D2-02\, D2-03\, D2-04\, D2-05\, D2-06]
DTSTART;TZID=Europe/Ljubljana:20231004T130000
DTEND;TZID=Europe/Ljubljana:20231004T163000
DTSTAMP:20260420T064049Z
UID:mf-AFLABS-URNIK:premaknjeno-srecanje:4202
ATTENDEE:2. LETNIK (EMŠ DM)
CATEGORIES:Entry,Standard
COLOR:darkgreen
DESCRIPTION:Predmet: Fiziologija za dentalno medicino (FIZIODM)\, Predavan
 je (P)\, [D2-01\, D2-02\, D2-03\, D2-04\, D2-05\, D2-06]\nLetniki: 2. LETN
 IK (EMŠ DM)\nIzvajalci: Inštitut za fiziologijo FIZIO\nProstor: Pred - F
 iziologija
LOCATION:Zaloška 4\, Pred - Fiziologija
ORGANIZER:Inštitut za fiziologijo FIZIO
RELATED-TO:mf-AFLABS-URNIK:srecanje:673
X-WR-TIMEZONE:Europe/Ljubljana
END:VEVENT
BEGIN:VEVENT
SUMMARY:Fiziologija za dentalno medicino (FIZIODM)\, Vaje (V)\, [D2-01\, D
 2-02]
DTSTART;TZID=Europe/Ljubljana:20231005T140000
DTEND;TZID=Europe/Ljubljana:20231005T190000
DTSTAMP:20260420T064049Z
UID:mf-AFLABS-URNIK:premaknjeno-srecanje:4203
ATTENDEE:2. LETNIK (EMŠ DM)
CATEGORIES:Entry,Standard
COLOR:darkgreen
DESCRIPTION:Predmet: Fiziologija za dentalno medicino (FIZIODM)\, Vaje (V)
 \, [D2-01\, D2-02]\nLetniki: 2. LETNIK (EMŠ DM)\nIzvajalci: Inštitut za 
 fiziologijo FIZIO\nProstor: Vaj - Fiziologija
LOCATION:Zaloška 4\, Vaj - Fiziologija
ORGANIZER:Inštitut za fiziologijo FIZIO
RELATED-TO:mf-AFLABS-URNIK:srecanje:674
X-WR-TIMEZONE:Europe/Ljubljana
END:VEVENT
BEGIN:VEVENT
SUMMARY:Fiziologija človeka (FIZIO)\, Vaje (V)\, [M2-17\, M2-18\, M2-19\,
  M2-20]
DTSTART;TZID=Europe/Ljubljana:20231006T080000
DTEND;TZID=Europe/Ljubljana:20231006T120000
DTSTAMP:20260420T064049Z
UID:mf-AFLABS-URNIK:premaknjeno-srecanje:3643
ATTENDEE:2. LETNIK (EMŠ M)
CATEGORIES:Entry,Standard
COLOR:darkgreen
DESCRIPTION:Predmet: Fiziologija človeka (FIZIO)\, Vaje (V)\, [M2-17\, M2
 -18\, M2-19\, M2-20]\nLetniki: 2. LETNIK (EMŠ M)\nIzvajalci: Inštitut za
  fiziologijo FIZIO\nProstor: Vaj - Fiziologija
LOCATION:Zaloška 4\, Vaj - Fiziologija
ORGANIZER:Inštitut za fiziologijo FIZIO
RELATED-TO:mf-AFLABS-URNIK:srecanje:596
X-WR-TIMEZONE:Europe/Ljubljana
END:VEVENT
BEGIN:VEVENT
SUMMARY:Fiziologija človeka (FIZIO)\, Vaje (V)\, [M2-17\, M2-18\, M2-19\,
  M2-20]
DTSTART;TZID=Europe/Ljubljana:20231013T080000
DTEND;TZID=Europe/Ljubljana:20231013T120000
DTSTAMP:20260420T064049Z
UID:mf-AFLABS-URNIK:premaknjeno-srecanje:3644
ATTENDEE:2. LETNIK (EMŠ M)
CATEGORIES:Entry,Standard
COLOR:darkgreen
DESCRIPTION:Predmet: Fiziologija človeka (FIZIO)\, Vaje (V)\, [M2-17\, M2
 -18\, M2-19\, M2-20]\nLetniki: 2. LETNIK (EMŠ M)\nIzvajalci: Inštitut za
  fiziologijo FIZIO\nProstor: Vaj - Fiziologija
LOCATION:Zaloška 4\, Vaj - Fiziologija
ORGANIZER:Inštitut za fiziologijo FIZIO
RELATED-TO:mf-AFLABS-URNIK:srecanje:596
X-WR-TIMEZONE:Europe/Ljubljana
END:VEVENT
BEGIN:VEVENT
SUMMARY:Fiziologija človeka (FIZIO)\, Vaje (V)\, [M2-17\, M2-18\, M2-19\,
  M2-20]
DTSTART;TZID=Europe/Ljubljana:20231020T080000
DTEND;TZID=Europe/Ljubljana:20231020T120000
DTSTAMP:20260420T064049Z
UID:mf-AFLABS-URNIK:premaknjeno-srecanje:3645
ATTENDEE:2. LETNIK (EMŠ M)
CATEGORIES:Entry,Standard
COLOR:darkgreen
DESCRIPTION:Predmet: Fiziologija človeka (FIZIO)\, Vaje (V)\, [M2-17\, M2
 -18\, M2-19\, M2-20]\nLetniki: 2. LETNIK (EMŠ M)\nIzvajalci: Inštitut za
  fiziologijo FIZIO\nProstor: Vaj - Fiziologija
LOCATION:Zaloška 4\, Vaj - Fiziologija
ORGANIZER:Inštitut za fiziologijo FIZIO
RELATED-TO:mf-AFLABS-URNIK:srecanje:596
X-WR-TIMEZONE:Europe/Ljubljana
END:VEVENT
BEGIN:VEVENT
SUMMARY:Fiziologija za dentalno medicino (FIZIODM)\, Predavanje (P)\, [D2-
 01\, D2-02\, D2-03\, D2-04\, D2-05\, D2-06]
DTSTART;TZID=Europe/Ljubljana:20231011T123000
DTEND;TZID=Europe/Ljubljana:20231011T160000
DTSTAMP:20260420T064049Z
UID:mf-AFLABS-URNIK:premaknjeno-srecanje:4191
ATTENDEE:2. LETNIK (EMŠ DM)
CATEGORIES:Entry,Standard
COLOR:darkgreen
DESCRIPTION:Predmet: Fiziologija za dentalno medicino (FIZIODM)\, Predavan
 je (P)\, [D2-01\, D2-02\, D2-03\, D2-04\, D2-05\, D2-06]\nLetniki: 2. LETN
 IK (EMŠ DM)\nIzvajalci: Inštitut za fiziologijo FIZIO\nProstor: Pred - F
 iziologija
LOCATION:Zaloška 4\, Pred - Fiziologija
ORGANIZER:Inštitut za fiziologijo FIZIO
RELATED-TO:mf-AFLABS-URNIK:srecanje:672
X-WR-TIMEZONE:Europe/Ljubljana
END:VEVENT
BEGIN:VEVENT
SUMMARY:Fiziologija za dentalno medicino (FIZIODM)\, Predavanje (P)\, [D2-
 01\, D2-02\, D2-03\, D2-04\, D2-05\, D2-06]
DTSTART;TZID=Europe/Ljubljana:20231018T123000
DTEND;TZID=Europe/Ljubljana:20231018T160000
DTSTAMP:20260420T064049Z
UID:mf-AFLABS-URNIK:premaknjeno-srecanje:4192
ATTENDEE:2. LETNIK (EMŠ DM)
CATEGORIES:Entry,Standard
COLOR:darkgreen
DESCRIPTION:Predmet: Fiziologija za dentalno medicino (FIZIODM)\, Predavan
 je (P)\, [D2-01\, D2-02\, D2-03\, D2-04\, D2-05\, D2-06]\nLetniki: 2. LETN
 IK (EMŠ DM)\nIzvajalci: Inštitut za fiziologijo FIZIO\nProstor: Pred - F
 iziologija
LOCATION:Zaloška 4\, Pred - Fiziologija
ORGANIZER:Inštitut za fiziologijo FIZIO
RELATED-TO:mf-AFLABS-URNIK:srecanje:672
X-WR-TIMEZONE:Europe/Ljubljana
END:VEVENT
BEGIN:VEVENT
SUMMARY:Fiziologija za dentalno medicino (FIZIODM)\, Vaje (V)\, [D2-05\, D
 2-06]
DTSTART;TZID=Europe/Ljubljana:20231012T140000
DTEND;TZID=Europe/Ljubljana:20231012T190000
DTSTAMP:20260420T064049Z
UID:mf-AFLABS-URNIK:premaknjeno-srecanje:4210
ATTENDEE:2. LETNIK (EMŠ DM)
CATEGORIES:Entry,Standard
COLOR:darkgreen
DESCRIPTION:Predmet: Fiziologija za dentalno medicino (FIZIODM)\, Vaje (V)
 \, [D2-05\, D2-06]\nLetniki: 2. LETNIK (EMŠ DM)\nIzvajalci: Inštitut za 
 fiziologijo FIZIO\nProstor: Vaj - Fiziologija
LOCATION:Zaloška 4\, Vaj - Fiziologija
ORGANIZER:Inštitut za fiziologijo FIZIO
RELATED-TO:mf-AFLABS-URNIK:srecanje:676
X-WR-TIMEZONE:Europe/Ljubljana
END:VEVENT
BEGIN:VEVENT
SUMMARY:Fiziologija za dentalno medicino (FIZIODM)\, Vaje (V)\, [D2-03\, D
 2-04]
DTSTART;TZID=Europe/Ljubljana:20231019T140000
DTEND;TZID=Europe/Ljubljana:20231019T190000
DTSTAMP:20260420T064049Z
UID:mf-AFLABS-URNIK:premaknjeno-srecanje:4209
ATTENDEE:2. LETNIK (EMŠ DM)
CATEGORIES:Entry,Standard
COLOR:darkgreen
DESCRIPTION:Predmet: Fiziologija za dentalno medicino (FIZIODM)\, Vaje (V)
 \, [D2-03\, D2-04]\nLetniki: 2. LETNIK (EMŠ DM)\nIzvajalci: Inštitut za 
 fiziologijo FIZIO\nProstor: Vaj - Fiziologija
LOCATION:Zaloška 4\, Vaj - Fiziologija
ORGANIZER:Inštitut za fiziologijo FIZIO
RELATED-TO:mf-AFLABS-URNIK:srecanje:675
X-WR-TIMEZONE:Europe/Ljubljana
END:VEVENT
END:VCALENDAR
