BEGIN:VCALENDAR
VERSION:2.0
PRODID:-//AFLabs urnik izvoz - mf//aflabs.si//SI
DTSTAMP:20260420T075040Z
NAME:UL MF urnik
REFRESH-INTERVAL:PT1H
SOURCE:https://afurnik-mf.dev.aflabs.org/teacher/8?day=2023-08-28&export=1
URL:https://afurnik-mf.dev.aflabs.org/teacher/8?day=2023-08-28&export=1
X-PUBLISHED-TTL:PT1H
X-WR-CALNAME:UL MF urnik
X-WR-TIMEZONE:Europe/Ljubljana
BEGIN:VTIMEZONE
TZID:Europe/Ljubljana
BEGIN:DAYLIGHT
DTSTART:20260329T020000
RDATE:20260329T020000
RDATE:20270328T020000
TZNAME:CEST
TZOFFSETFROM:+0100
TZOFFSETTO:+0200
END:DAYLIGHT
BEGIN:STANDARD
DTSTART:20261025T030000
RDATE:20261025T030000
RDATE:20271031T030000
TZNAME:CET
TZOFFSETFROM:+0200
TZOFFSETTO:+0100
END:STANDARD
END:VTIMEZONE
BEGIN:VEVENT
SUMMARY:Struktura in funkcija živčevja (SFŽ)\, Vaje (V)\, [M2-05\, M2-0
 6]
DTSTART;TZID=Europe/Ljubljana:20231002T080000
DTEND;TZID=Europe/Ljubljana:20231002T100000
DTSTAMP:20260420T075040Z
UID:mf-AFLABS-URNIK:premaknjeno-srecanje:2879
ATTENDEE:2. LETNIK (EMŠ M)
CATEGORIES:Entry,Standard
COLOR:darkgreen
DESCRIPTION:Predmet: Struktura in funkcija živčevja (SFŽ)\, Vaje (V)\, 
 [M2-05\, M2-06]\nLetniki: 2. LETNIK (EMŠ M)\nIzvajalci: Inštitut za hist
 ologijo z embrio IHE\nProstor: Vaj - Histologija - pritličje - nova
LOCATION:Korytkova 2\, Vaj - Histologija - pritličje - nova
ORGANIZER:Inštitut za histologijo z embrio IHE
RELATED-TO:mf-AFLABS-URNIK:srecanje:482
X-WR-TIMEZONE:Europe/Ljubljana
END:VEVENT
BEGIN:VEVENT
SUMMARY:Struktura in funkcija živčevja (SFŽ)\, Vaje (V)\, [M2-07\, M2-0
 8]
DTSTART;TZID=Europe/Ljubljana:20231002T100000
DTEND;TZID=Europe/Ljubljana:20231002T120000
DTSTAMP:20260420T075040Z
UID:mf-AFLABS-URNIK:premaknjeno-srecanje:2883
ATTENDEE:2. LETNIK (EMŠ M)
CATEGORIES:Entry,Standard
COLOR:darkgreen
DESCRIPTION:Predmet: Struktura in funkcija živčevja (SFŽ)\, Vaje (V)\, 
 [M2-07\, M2-08]\nLetniki: 2. LETNIK (EMŠ M)\nIzvajalci: Inštitut za hist
 ologijo z embrio IHE\nProstor: Vaj - Histologija - pritličje - nova
LOCATION:Korytkova 2\, Vaj - Histologija - pritličje - nova
ORGANIZER:Inštitut za histologijo z embrio IHE
RELATED-TO:mf-AFLABS-URNIK:srecanje:483
X-WR-TIMEZONE:Europe/Ljubljana
END:VEVENT
BEGIN:VEVENT
SUMMARY:Struktura in funkcija živčevja (SFŽ)\, Vaje (V)\, [M2-09\, M2-1
 0]
DTSTART;TZID=Europe/Ljubljana:20231002T120000
DTEND;TZID=Europe/Ljubljana:20231002T140000
DTSTAMP:20260420T075040Z
UID:mf-AFLABS-URNIK:premaknjeno-srecanje:2887
ATTENDEE:2. LETNIK (EMŠ M)
CATEGORIES:Entry,Standard
COLOR:darkgreen
DESCRIPTION:Predmet: Struktura in funkcija živčevja (SFŽ)\, Vaje (V)\, 
 [M2-09\, M2-10]\nLetniki: 2. LETNIK (EMŠ M)\nIzvajalci: Inštitut za hist
 ologijo z embrio IHE\nProstor: Vaj - Histologija - pritličje - nova
LOCATION:Korytkova 2\, Vaj - Histologija - pritličje - nova
ORGANIZER:Inštitut za histologijo z embrio IHE
RELATED-TO:mf-AFLABS-URNIK:srecanje:484
X-WR-TIMEZONE:Europe/Ljubljana
END:VEVENT
BEGIN:VEVENT
SUMMARY:Struktura in funkcija živčevja (SFŽ)\, Vaje (V)\, [M2-11\, M2-1
 2]
DTSTART;TZID=Europe/Ljubljana:20231002T140000
DTEND;TZID=Europe/Ljubljana:20231002T160000
DTSTAMP:20260420T075040Z
UID:mf-AFLABS-URNIK:premaknjeno-srecanje:2891
ATTENDEE:2. LETNIK (EMŠ M)
CATEGORIES:Entry,Standard
COLOR:darkgreen
DESCRIPTION:Predmet: Struktura in funkcija živčevja (SFŽ)\, Vaje (V)\, 
 [M2-11\, M2-12]\nLetniki: 2. LETNIK (EMŠ M)\nIzvajalci: Inštitut za hist
 ologijo z embrio IHE\nProstor: Vaj - Histologija - pritličje - nova
LOCATION:Korytkova 2\, Vaj - Histologija - pritličje - nova
ORGANIZER:Inštitut za histologijo z embrio IHE
RELATED-TO:mf-AFLABS-URNIK:srecanje:485
X-WR-TIMEZONE:Europe/Ljubljana
END:VEVENT
END:VCALENDAR
