BEGIN:VCALENDAR
VERSION:2.0
PRODID:-//AFLabs urnik izvoz - mf//aflabs.si//SI
DTSTAMP:20260420T075630Z
NAME:UL MF urnik
REFRESH-INTERVAL:PT1H
SOURCE:https://afurnik-mf.dev.aflabs.org/teacher/9?day=2023-09-17&export=1
URL:https://afurnik-mf.dev.aflabs.org/teacher/9?day=2023-09-17&export=1
X-PUBLISHED-TTL:PT1H
X-WR-CALNAME:UL MF urnik
X-WR-TIMEZONE:Europe/Ljubljana
BEGIN:VTIMEZONE
TZID:Europe/Ljubljana
BEGIN:DAYLIGHT
DTSTART:20260329T020000
RDATE:20260329T020000
RDATE:20270328T020000
TZNAME:CEST
TZOFFSETFROM:+0100
TZOFFSETTO:+0200
END:DAYLIGHT
BEGIN:STANDARD
DTSTART:20261025T030000
RDATE:20261025T030000
RDATE:20271031T030000
TZNAME:CET
TZOFFSETFROM:+0200
TZOFFSETTO:+0100
END:STANDARD
END:VTIMEZONE
BEGIN:VEVENT
SUMMARY:Patofiziologija (PAFI)\, Seminar/vaje (S/V)\, [M3-05\, M3-06\, M3-
 07\, M3-08]
DTSTART;TZID=Europe/Ljubljana:20231002T080000
DTEND;TZID=Europe/Ljubljana:20231002T110000
DTSTAMP:20260420T075630Z
UID:mf-AFLABS-URNIK:premaknjeno-srecanje:5589
ATTENDEE:3. LETNIK (EMŠ M)
CATEGORIES:Entry,Standard
COLOR:darkgreen
DESCRIPTION:Predmet: Patofiziologija (PAFI)\, Seminar/vaje (S/V)\, [M3-05\
 , M3-06\, M3-07\, M3-08]\nLetniki: 3. LETNIK (EMŠ M)\nIzvajalci: Inštitu
 t za patološko fiziologij PAFI\nProstor: Vajalnice PAFI
LOCATION:Vajalnice PAFI
ORGANIZER:Inštitut za patološko fiziologij PAFI
RELATED-TO:mf-AFLABS-URNIK:srecanje:969
X-WR-TIMEZONE:Europe/Ljubljana
END:VEVENT
BEGIN:VEVENT
SUMMARY:Patofiziologija (PAFI)\, Seminar/vaje (S/V)\, [M3-05\, M3-06\, M3-
 07\, M3-08]
DTSTART;TZID=Europe/Ljubljana:20231009T080000
DTEND;TZID=Europe/Ljubljana:20231009T110000
DTSTAMP:20260420T075630Z
UID:mf-AFLABS-URNIK:premaknjeno-srecanje:5590
ATTENDEE:3. LETNIK (EMŠ M)
CATEGORIES:Entry,Standard
COLOR:darkgreen
DESCRIPTION:Predmet: Patofiziologija (PAFI)\, Seminar/vaje (S/V)\, [M3-05\
 , M3-06\, M3-07\, M3-08]\nLetniki: 3. LETNIK (EMŠ M)\nIzvajalci: Inštitu
 t za patološko fiziologij PAFI\nProstor: Vajalnice PAFI
LOCATION:Vajalnice PAFI
ORGANIZER:Inštitut za patološko fiziologij PAFI
RELATED-TO:mf-AFLABS-URNIK:srecanje:969
X-WR-TIMEZONE:Europe/Ljubljana
END:VEVENT
BEGIN:VEVENT
SUMMARY:Patofiziologija (PAFI)\, Seminar/vaje (S/V)\, [M3-05\, M3-06\, M3-
 07\, M3-08]
DTSTART;TZID=Europe/Ljubljana:20231016T080000
DTEND;TZID=Europe/Ljubljana:20231016T110000
DTSTAMP:20260420T075630Z
UID:mf-AFLABS-URNIK:premaknjeno-srecanje:5591
ATTENDEE:3. LETNIK (EMŠ M)
CATEGORIES:Entry,Standard
COLOR:darkgreen
DESCRIPTION:Predmet: Patofiziologija (PAFI)\, Seminar/vaje (S/V)\, [M3-05\
 , M3-06\, M3-07\, M3-08]\nLetniki: 3. LETNIK (EMŠ M)\nIzvajalci: Inštitu
 t za patološko fiziologij PAFI\nProstor: Vajalnice PAFI
LOCATION:Vajalnice PAFI
ORGANIZER:Inštitut za patološko fiziologij PAFI
RELATED-TO:mf-AFLABS-URNIK:srecanje:969
X-WR-TIMEZONE:Europe/Ljubljana
END:VEVENT
BEGIN:VEVENT
SUMMARY:Patofiziologija (PAFI)\, Seminar/vaje (S/V)\, [M3-01\, M3-02\, M3-
 03\, M3-04]
DTSTART;TZID=Europe/Ljubljana:20231002T110000
DTEND;TZID=Europe/Ljubljana:20231002T140000
DTSTAMP:20260420T075630Z
UID:mf-AFLABS-URNIK:premaknjeno-srecanje:5601
ATTENDEE:3. LETNIK (EMŠ M)
CATEGORIES:Entry,Standard
COLOR:darkgreen
DESCRIPTION:Predmet: Patofiziologija (PAFI)\, Seminar/vaje (S/V)\, [M3-01\
 , M3-02\, M3-03\, M3-04]\nLetniki: 3. LETNIK (EMŠ M)\nIzvajalci: Inštitu
 t za patološko fiziologij PAFI\nProstor: Vajalnice PAFI
LOCATION:Vajalnice PAFI
ORGANIZER:Inštitut za patološko fiziologij PAFI
RELATED-TO:mf-AFLABS-URNIK:srecanje:970
X-WR-TIMEZONE:Europe/Ljubljana
END:VEVENT
BEGIN:VEVENT
SUMMARY:Patofiziologija (PAFI)\, Seminar/vaje (S/V)\, [M3-01\, M3-02\, M3-
 03\, M3-04]
DTSTART;TZID=Europe/Ljubljana:20231009T110000
DTEND;TZID=Europe/Ljubljana:20231009T140000
DTSTAMP:20260420T075630Z
UID:mf-AFLABS-URNIK:premaknjeno-srecanje:5602
ATTENDEE:3. LETNIK (EMŠ M)
CATEGORIES:Entry,Standard
COLOR:darkgreen
DESCRIPTION:Predmet: Patofiziologija (PAFI)\, Seminar/vaje (S/V)\, [M3-01\
 , M3-02\, M3-03\, M3-04]\nLetniki: 3. LETNIK (EMŠ M)\nIzvajalci: Inštitu
 t za patološko fiziologij PAFI\nProstor: Vajalnice PAFI
LOCATION:Vajalnice PAFI
ORGANIZER:Inštitut za patološko fiziologij PAFI
RELATED-TO:mf-AFLABS-URNIK:srecanje:970
X-WR-TIMEZONE:Europe/Ljubljana
END:VEVENT
BEGIN:VEVENT
SUMMARY:Patofiziologija (PAFI)\, Seminar/vaje (S/V)\, [M3-01\, M3-02\, M3-
 03\, M3-04]
DTSTART;TZID=Europe/Ljubljana:20231016T110000
DTEND;TZID=Europe/Ljubljana:20231016T140000
DTSTAMP:20260420T075630Z
UID:mf-AFLABS-URNIK:premaknjeno-srecanje:5603
ATTENDEE:3. LETNIK (EMŠ M)
CATEGORIES:Entry,Standard
COLOR:darkgreen
DESCRIPTION:Predmet: Patofiziologija (PAFI)\, Seminar/vaje (S/V)\, [M3-01\
 , M3-02\, M3-03\, M3-04]\nLetniki: 3. LETNIK (EMŠ M)\nIzvajalci: Inštitu
 t za patološko fiziologij PAFI\nProstor: Vajalnice PAFI
LOCATION:Vajalnice PAFI
ORGANIZER:Inštitut za patološko fiziologij PAFI
RELATED-TO:mf-AFLABS-URNIK:srecanje:970
X-WR-TIMEZONE:Europe/Ljubljana
END:VEVENT
BEGIN:VEVENT
SUMMARY:Patofiziologija (PAFI)\, Seminar/vaje (S/V)\, [M3-17\, M3-18\, M3-
 19\, M3-20]
DTSTART;TZID=Europe/Ljubljana:20231003T080000
DTEND;TZID=Europe/Ljubljana:20231003T110000
DTSTAMP:20260420T075630Z
UID:mf-AFLABS-URNIK:premaknjeno-srecanje:5613
ATTENDEE:3. LETNIK (EMŠ M)
CATEGORIES:Entry,Standard
COLOR:darkgreen
DESCRIPTION:Predmet: Patofiziologija (PAFI)\, Seminar/vaje (S/V)\, [M3-17\
 , M3-18\, M3-19\, M3-20]\nLetniki: 3. LETNIK (EMŠ M)\nIzvajalci: Inštitu
 t za patološko fiziologij PAFI\nProstor: Vajalnice PAFI
LOCATION:Vajalnice PAFI
ORGANIZER:Inštitut za patološko fiziologij PAFI
RELATED-TO:mf-AFLABS-URNIK:srecanje:971
X-WR-TIMEZONE:Europe/Ljubljana
END:VEVENT
BEGIN:VEVENT
SUMMARY:Patofiziologija (PAFI)\, Seminar/vaje (S/V)\, [M3-17\, M3-18\, M3-
 19\, M3-20]
DTSTART;TZID=Europe/Ljubljana:20231010T080000
DTEND;TZID=Europe/Ljubljana:20231010T110000
DTSTAMP:20260420T075630Z
UID:mf-AFLABS-URNIK:premaknjeno-srecanje:5614
ATTENDEE:3. LETNIK (EMŠ M)
CATEGORIES:Entry,Standard
COLOR:darkgreen
DESCRIPTION:Predmet: Patofiziologija (PAFI)\, Seminar/vaje (S/V)\, [M3-17\
 , M3-18\, M3-19\, M3-20]\nLetniki: 3. LETNIK (EMŠ M)\nIzvajalci: Inštitu
 t za patološko fiziologij PAFI\nProstor: Vajalnice PAFI
LOCATION:Vajalnice PAFI
ORGANIZER:Inštitut za patološko fiziologij PAFI
RELATED-TO:mf-AFLABS-URNIK:srecanje:971
X-WR-TIMEZONE:Europe/Ljubljana
END:VEVENT
BEGIN:VEVENT
SUMMARY:Patofiziologija (PAFI)\, Seminar/vaje (S/V)\, [M3-17\, M3-18\, M3-
 19\, M3-20]
DTSTART;TZID=Europe/Ljubljana:20231017T080000
DTEND;TZID=Europe/Ljubljana:20231017T110000
DTSTAMP:20260420T075630Z
UID:mf-AFLABS-URNIK:premaknjeno-srecanje:5615
ATTENDEE:3. LETNIK (EMŠ M)
CATEGORIES:Entry,Standard
COLOR:darkgreen
DESCRIPTION:Predmet: Patofiziologija (PAFI)\, Seminar/vaje (S/V)\, [M3-17\
 , M3-18\, M3-19\, M3-20]\nLetniki: 3. LETNIK (EMŠ M)\nIzvajalci: Inštitu
 t za patološko fiziologij PAFI\nProstor: Vajalnice PAFI
LOCATION:Vajalnice PAFI
ORGANIZER:Inštitut za patološko fiziologij PAFI
RELATED-TO:mf-AFLABS-URNIK:srecanje:971
X-WR-TIMEZONE:Europe/Ljubljana
END:VEVENT
BEGIN:VEVENT
SUMMARY:Patofiziologija (PAFI)\, Seminar/vaje (S/V)\, [M3-09\, M3-10\, M3-
 11\, M3-12]
DTSTART;TZID=Europe/Ljubljana:20231003T120000
DTEND;TZID=Europe/Ljubljana:20231003T150000
DTSTAMP:20260420T075630Z
UID:mf-AFLABS-URNIK:premaknjeno-srecanje:5625
ATTENDEE:3. LETNIK (EMŠ M)
CATEGORIES:Entry,Standard
COLOR:darkgreen
DESCRIPTION:Predmet: Patofiziologija (PAFI)\, Seminar/vaje (S/V)\, [M3-09\
 , M3-10\, M3-11\, M3-12]\nLetniki: 3. LETNIK (EMŠ M)\nIzvajalci: Inštitu
 t za patološko fiziologij PAFI\nProstor: Vajalnice PAFI
LOCATION:Vajalnice PAFI
ORGANIZER:Inštitut za patološko fiziologij PAFI
RELATED-TO:mf-AFLABS-URNIK:srecanje:972
X-WR-TIMEZONE:Europe/Ljubljana
END:VEVENT
BEGIN:VEVENT
SUMMARY:Patofiziologija (PAFI)\, Seminar/vaje (S/V)\, [M3-09\, M3-10\, M3-
 11\, M3-12]
DTSTART;TZID=Europe/Ljubljana:20231010T120000
DTEND;TZID=Europe/Ljubljana:20231010T150000
DTSTAMP:20260420T075630Z
UID:mf-AFLABS-URNIK:premaknjeno-srecanje:5626
ATTENDEE:3. LETNIK (EMŠ M)
CATEGORIES:Entry,Standard
COLOR:darkgreen
DESCRIPTION:Predmet: Patofiziologija (PAFI)\, Seminar/vaje (S/V)\, [M3-09\
 , M3-10\, M3-11\, M3-12]\nLetniki: 3. LETNIK (EMŠ M)\nIzvajalci: Inštitu
 t za patološko fiziologij PAFI\nProstor: Vajalnice PAFI
LOCATION:Vajalnice PAFI
ORGANIZER:Inštitut za patološko fiziologij PAFI
RELATED-TO:mf-AFLABS-URNIK:srecanje:972
X-WR-TIMEZONE:Europe/Ljubljana
END:VEVENT
BEGIN:VEVENT
SUMMARY:Patofiziologija (PAFI)\, Seminar/vaje (S/V)\, [M3-09\, M3-10\, M3-
 11\, M3-12]
DTSTART;TZID=Europe/Ljubljana:20231017T120000
DTEND;TZID=Europe/Ljubljana:20231017T150000
DTSTAMP:20260420T075630Z
UID:mf-AFLABS-URNIK:premaknjeno-srecanje:5627
ATTENDEE:3. LETNIK (EMŠ M)
CATEGORIES:Entry,Standard
COLOR:darkgreen
DESCRIPTION:Predmet: Patofiziologija (PAFI)\, Seminar/vaje (S/V)\, [M3-09\
 , M3-10\, M3-11\, M3-12]\nLetniki: 3. LETNIK (EMŠ M)\nIzvajalci: Inštitu
 t za patološko fiziologij PAFI\nProstor: Vajalnice PAFI
LOCATION:Vajalnice PAFI
ORGANIZER:Inštitut za patološko fiziologij PAFI
RELATED-TO:mf-AFLABS-URNIK:srecanje:972
X-WR-TIMEZONE:Europe/Ljubljana
END:VEVENT
BEGIN:VEVENT
SUMMARY:Patofiziologija (PAFI)\, Seminar/vaje (S/V)\, [M3-13\, M3-14\, M3-
 15\, M3-16]
DTSTART;TZID=Europe/Ljubljana:20231003T160000
DTEND;TZID=Europe/Ljubljana:20231003T190000
DTSTAMP:20260420T075630Z
UID:mf-AFLABS-URNIK:premaknjeno-srecanje:5637
ATTENDEE:3. LETNIK (EMŠ M)
CATEGORIES:Entry,Standard
COLOR:darkgreen
DESCRIPTION:Predmet: Patofiziologija (PAFI)\, Seminar/vaje (S/V)\, [M3-13\
 , M3-14\, M3-15\, M3-16]\nLetniki: 3. LETNIK (EMŠ M)\nIzvajalci: Inštitu
 t za patološko fiziologij PAFI\nProstor: Vajalnice PAFI
LOCATION:Vajalnice PAFI
ORGANIZER:Inštitut za patološko fiziologij PAFI
RELATED-TO:mf-AFLABS-URNIK:srecanje:973
X-WR-TIMEZONE:Europe/Ljubljana
END:VEVENT
BEGIN:VEVENT
SUMMARY:Patofiziologija (PAFI)\, Seminar/vaje (S/V)\, [M3-13\, M3-14\, M3-
 15\, M3-16]
DTSTART;TZID=Europe/Ljubljana:20231010T160000
DTEND;TZID=Europe/Ljubljana:20231010T190000
DTSTAMP:20260420T075630Z
UID:mf-AFLABS-URNIK:premaknjeno-srecanje:5638
ATTENDEE:3. LETNIK (EMŠ M)
CATEGORIES:Entry,Standard
COLOR:darkgreen
DESCRIPTION:Predmet: Patofiziologija (PAFI)\, Seminar/vaje (S/V)\, [M3-13\
 , M3-14\, M3-15\, M3-16]\nLetniki: 3. LETNIK (EMŠ M)\nIzvajalci: Inštitu
 t za patološko fiziologij PAFI\nProstor: Vajalnice PAFI
LOCATION:Vajalnice PAFI
ORGANIZER:Inštitut za patološko fiziologij PAFI
RELATED-TO:mf-AFLABS-URNIK:srecanje:973
X-WR-TIMEZONE:Europe/Ljubljana
END:VEVENT
BEGIN:VEVENT
SUMMARY:Patofiziologija (PAFI)\, Seminar/vaje (S/V)\, [M3-13\, M3-14\, M3-
 15\, M3-16]
DTSTART;TZID=Europe/Ljubljana:20231017T160000
DTEND;TZID=Europe/Ljubljana:20231017T190000
DTSTAMP:20260420T075630Z
UID:mf-AFLABS-URNIK:premaknjeno-srecanje:5639
ATTENDEE:3. LETNIK (EMŠ M)
CATEGORIES:Entry,Standard
COLOR:darkgreen
DESCRIPTION:Predmet: Patofiziologija (PAFI)\, Seminar/vaje (S/V)\, [M3-13\
 , M3-14\, M3-15\, M3-16]\nLetniki: 3. LETNIK (EMŠ M)\nIzvajalci: Inštitu
 t za patološko fiziologij PAFI\nProstor: Vajalnice PAFI
LOCATION:Vajalnice PAFI
ORGANIZER:Inštitut za patološko fiziologij PAFI
RELATED-TO:mf-AFLABS-URNIK:srecanje:973
X-WR-TIMEZONE:Europe/Ljubljana
END:VEVENT
BEGIN:VEVENT
SUMMARY:Patofiziologija (PAFI)\, Predavanje (P)
DTSTART;TZID=Europe/Ljubljana:20231004T180000
DTEND;TZID=Europe/Ljubljana:20231004T200000
DTSTAMP:20260420T075630Z
UID:mf-AFLABS-URNIK:premaknjeno-srecanje:5567
ATTENDEE:3. LETNIK (EMŠ M)
CATEGORIES:Entry,Standard
COLOR:darkgreen
DESCRIPTION:Predmet: Patofiziologija (PAFI)\, Predavanje (P)\nLetniki: 3. 
 LETNIK (EMŠ M)\nIzvajalci: Inštitut za patološko fiziologij PAFI\nProst
 or: Pred - Velika - MF
LOCATION:Korytkova 2\, Pred - Velika - MF
ORGANIZER:Inštitut za patološko fiziologij PAFI
RELATED-TO:mf-AFLABS-URNIK:srecanje:967
X-WR-TIMEZONE:Europe/Ljubljana
END:VEVENT
BEGIN:VEVENT
SUMMARY:Patofiziologija (PAFI)\, Predavanje (P)
DTSTART;TZID=Europe/Ljubljana:20231011T180000
DTEND;TZID=Europe/Ljubljana:20231011T200000
DTSTAMP:20260420T075630Z
UID:mf-AFLABS-URNIK:premaknjeno-srecanje:5568
ATTENDEE:3. LETNIK (EMŠ M)
CATEGORIES:Entry,Standard
COLOR:darkgreen
DESCRIPTION:Predmet: Patofiziologija (PAFI)\, Predavanje (P)\nLetniki: 3. 
 LETNIK (EMŠ M)\nIzvajalci: Inštitut za patološko fiziologij PAFI\nProst
 or: Pred - Velika - MF
LOCATION:Korytkova 2\, Pred - Velika - MF
ORGANIZER:Inštitut za patološko fiziologij PAFI
RELATED-TO:mf-AFLABS-URNIK:srecanje:967
X-WR-TIMEZONE:Europe/Ljubljana
END:VEVENT
BEGIN:VEVENT
SUMMARY:Patofiziologija (PAFI)\, Predavanje (P)
DTSTART;TZID=Europe/Ljubljana:20231018T180000
DTEND;TZID=Europe/Ljubljana:20231018T200000
DTSTAMP:20260420T075630Z
UID:mf-AFLABS-URNIK:premaknjeno-srecanje:5569
ATTENDEE:3. LETNIK (EMŠ M)
CATEGORIES:Entry,Standard
COLOR:darkgreen
DESCRIPTION:Predmet: Patofiziologija (PAFI)\, Predavanje (P)\nLetniki: 3. 
 LETNIK (EMŠ M)\nIzvajalci: Inštitut za patološko fiziologij PAFI\nProst
 or: Pred - Velika - MF
LOCATION:Korytkova 2\, Pred - Velika - MF
ORGANIZER:Inštitut za patološko fiziologij PAFI
RELATED-TO:mf-AFLABS-URNIK:srecanje:967
X-WR-TIMEZONE:Europe/Ljubljana
END:VEVENT
BEGIN:VEVENT
SUMMARY:Patofiziologija za dentalno medicino (PAFIDM)\, Seminar/vaje (S/V)
 \, [D3-01\, D3-02\, D3-04]
DTSTART;TZID=Europe/Ljubljana:20231006T110000
DTEND;TZID=Europe/Ljubljana:20231006T140000
DTSTAMP:20260420T075630Z
UID:mf-AFLABS-URNIK:premaknjeno-srecanje:10381
ATTENDEE:3. LETNIK (EMŠ DM)
CATEGORIES:Entry,Standard
COLOR:darkgreen
DESCRIPTION:Predmet: Patofiziologija za dentalno medicino (PAFIDM)\, Semin
 ar/vaje (S/V)\, [D3-01\, D3-02\, D3-04]\nLetniki: 3. LETNIK (EMŠ DM)\nIzv
 ajalci: Inštitut za patološko fiziologij PAFI\nProstor: Vajalnice PAFI
LOCATION:Vajalnice PAFI
ORGANIZER:Inštitut za patološko fiziologij PAFI
RELATED-TO:mf-AFLABS-URNIK:srecanje:1883
X-WR-TIMEZONE:Europe/Ljubljana
END:VEVENT
BEGIN:VEVENT
SUMMARY:Patofiziologija za dentalno medicino (PAFIDM)\, Seminar/vaje (S/V)
 \, [D3-01\, D3-02\, D3-04]
DTSTART;TZID=Europe/Ljubljana:20231013T110000
DTEND;TZID=Europe/Ljubljana:20231013T140000
DTSTAMP:20260420T075630Z
UID:mf-AFLABS-URNIK:premaknjeno-srecanje:10382
ATTENDEE:3. LETNIK (EMŠ DM)
CATEGORIES:Entry,Standard
COLOR:darkgreen
DESCRIPTION:Predmet: Patofiziologija za dentalno medicino (PAFIDM)\, Semin
 ar/vaje (S/V)\, [D3-01\, D3-02\, D3-04]\nLetniki: 3. LETNIK (EMŠ DM)\nIzv
 ajalci: Inštitut za patološko fiziologij PAFI\nProstor: Vajalnice PAFI
LOCATION:Vajalnice PAFI
ORGANIZER:Inštitut za patološko fiziologij PAFI
RELATED-TO:mf-AFLABS-URNIK:srecanje:1883
X-WR-TIMEZONE:Europe/Ljubljana
END:VEVENT
BEGIN:VEVENT
SUMMARY:Patofiziologija za dentalno medicino (PAFIDM)\, Seminar/vaje (S/V)
 \, [D3-01\, D3-02\, D3-04]
DTSTART;TZID=Europe/Ljubljana:20231020T110000
DTEND;TZID=Europe/Ljubljana:20231020T140000
DTSTAMP:20260420T075630Z
UID:mf-AFLABS-URNIK:premaknjeno-srecanje:10383
ATTENDEE:3. LETNIK (EMŠ DM)
CATEGORIES:Entry,Standard
COLOR:darkgreen
DESCRIPTION:Predmet: Patofiziologija za dentalno medicino (PAFIDM)\, Semin
 ar/vaje (S/V)\, [D3-01\, D3-02\, D3-04]\nLetniki: 3. LETNIK (EMŠ DM)\nIzv
 ajalci: Inštitut za patološko fiziologij PAFI\nProstor: Vajalnice PAFI
LOCATION:Vajalnice PAFI
ORGANIZER:Inštitut za patološko fiziologij PAFI
RELATED-TO:mf-AFLABS-URNIK:srecanje:1883
X-WR-TIMEZONE:Europe/Ljubljana
END:VEVENT
BEGIN:VEVENT
SUMMARY:Patofiziologija za dentalno medicino (PAFIDM)\, Seminar/vaje (S/V)
 \, [D3-04\, D3-05\, D3-06]
DTSTART;TZID=Europe/Ljubljana:20231006T140000
DTEND;TZID=Europe/Ljubljana:20231006T170000
DTSTAMP:20260420T075630Z
UID:mf-AFLABS-URNIK:premaknjeno-srecanje:10393
ATTENDEE:3. LETNIK (EMŠ DM)
CATEGORIES:Entry,Standard
COLOR:darkgreen
DESCRIPTION:Predmet: Patofiziologija za dentalno medicino (PAFIDM)\, Semin
 ar/vaje (S/V)\, [D3-04\, D3-05\, D3-06]\nLetniki: 3. LETNIK (EMŠ DM)\nIzv
 ajalci: Inštitut za patološko fiziologij PAFI\nProstor: Vajalnice PAFI
LOCATION:Vajalnice PAFI
ORGANIZER:Inštitut za patološko fiziologij PAFI
RELATED-TO:mf-AFLABS-URNIK:srecanje:1884
X-WR-TIMEZONE:Europe/Ljubljana
END:VEVENT
BEGIN:VEVENT
SUMMARY:Patofiziologija za dentalno medicino (PAFIDM)\, Seminar/vaje (S/V)
 \, [D3-04\, D3-05\, D3-06]
DTSTART;TZID=Europe/Ljubljana:20231013T140000
DTEND;TZID=Europe/Ljubljana:20231013T170000
DTSTAMP:20260420T075630Z
UID:mf-AFLABS-URNIK:premaknjeno-srecanje:10394
ATTENDEE:3. LETNIK (EMŠ DM)
CATEGORIES:Entry,Standard
COLOR:darkgreen
DESCRIPTION:Predmet: Patofiziologija za dentalno medicino (PAFIDM)\, Semin
 ar/vaje (S/V)\, [D3-04\, D3-05\, D3-06]\nLetniki: 3. LETNIK (EMŠ DM)\nIzv
 ajalci: Inštitut za patološko fiziologij PAFI\nProstor: Vajalnice PAFI
LOCATION:Vajalnice PAFI
ORGANIZER:Inštitut za patološko fiziologij PAFI
RELATED-TO:mf-AFLABS-URNIK:srecanje:1884
X-WR-TIMEZONE:Europe/Ljubljana
END:VEVENT
BEGIN:VEVENT
SUMMARY:Patofiziologija za dentalno medicino (PAFIDM)\, Seminar/vaje (S/V)
 \, [D3-04\, D3-05\, D3-06]
DTSTART;TZID=Europe/Ljubljana:20231020T140000
DTEND;TZID=Europe/Ljubljana:20231020T170000
DTSTAMP:20260420T075630Z
UID:mf-AFLABS-URNIK:premaknjeno-srecanje:10395
ATTENDEE:3. LETNIK (EMŠ DM)
CATEGORIES:Entry,Standard
COLOR:darkgreen
DESCRIPTION:Predmet: Patofiziologija za dentalno medicino (PAFIDM)\, Semin
 ar/vaje (S/V)\, [D3-04\, D3-05\, D3-06]\nLetniki: 3. LETNIK (EMŠ DM)\nIzv
 ajalci: Inštitut za patološko fiziologij PAFI\nProstor: Vajalnice PAFI
LOCATION:Vajalnice PAFI
ORGANIZER:Inštitut za patološko fiziologij PAFI
RELATED-TO:mf-AFLABS-URNIK:srecanje:1884
X-WR-TIMEZONE:Europe/Ljubljana
END:VEVENT
END:VCALENDAR
