BEGIN:VCALENDAR
VERSION:2.0
PRODID:-//AFLabs urnik izvoz - mf//aflabs.si//SI
DTSTAMP:20260420T063855Z
NAME:UL MF urnik
REFRESH-INTERVAL:PT1H
SOURCE:https://afurnik-mf.dev.aflabs.org/teacher/9?day=2024-07-01&export=1
URL:https://afurnik-mf.dev.aflabs.org/teacher/9?day=2024-07-01&export=1
X-PUBLISHED-TTL:PT1H
X-WR-CALNAME:UL MF urnik
X-WR-TIMEZONE:Europe/Ljubljana
BEGIN:VTIMEZONE
TZID:Europe/Ljubljana
BEGIN:DAYLIGHT
DTSTART:20260329T020000
RDATE:20260329T020000
RDATE:20270328T020000
TZNAME:CEST
TZOFFSETFROM:+0100
TZOFFSETTO:+0200
END:DAYLIGHT
BEGIN:STANDARD
DTSTART:20261025T030000
RDATE:20261025T030000
RDATE:20271031T030000
TZNAME:CET
TZOFFSETFROM:+0200
TZOFFSETTO:+0100
END:STANDARD
END:VTIMEZONE
BEGIN:VEVENT
SUMMARY:Patofiziologija (PAFI)\, Seminar/vaje (S/V)\, [M3-17\, M3-18\, M3-
 19\, M3-20]
DTSTART;TZID=Europe/Ljubljana:20241001T080000
DTEND;TZID=Europe/Ljubljana:20241001T110000
DTSTAMP:20260420T063855Z
UID:mf-AFLABS-URNIK:premaknjeno-srecanje:16182
ATTENDEE:3. LETNIK (EMŠ M)
CATEGORIES:Entry,Special
COLOR:forestgreen
DESCRIPTION:Predmet: Patofiziologija (PAFI)\, Seminar/vaje (S/V)\, [M3-17\
 , M3-18\, M3-19\, M3-20]\nLetniki: 3. LETNIK (EMŠ M)\nIzvajalci: Inštitu
 t za patološko fiziologij PAFI\nProstor: Vajalnice PAFI
LOCATION:Vajalnice PAFI
ORGANIZER:Inštitut za patološko fiziologij PAFI
RELATED-TO:mf-AFLABS-URNIK:srecanje:2869
X-WR-TIMEZONE:Europe/Ljubljana
END:VEVENT
BEGIN:VEVENT
SUMMARY:Patofiziologija (PAFI)\, Seminar/vaje (S/V)\, [M3-09\, M3-10\, M3-
 11\, M3-12]
DTSTART;TZID=Europe/Ljubljana:20241001T120000
DTEND;TZID=Europe/Ljubljana:20241001T150000
DTSTAMP:20260420T063855Z
UID:mf-AFLABS-URNIK:premaknjeno-srecanje:16194
ATTENDEE:3. LETNIK (EMŠ M)
CATEGORIES:Entry,Special
COLOR:forestgreen
DESCRIPTION:Predmet: Patofiziologija (PAFI)\, Seminar/vaje (S/V)\, [M3-09\
 , M3-10\, M3-11\, M3-12]\nLetniki: 3. LETNIK (EMŠ M)\nIzvajalci: Inštitu
 t za patološko fiziologij PAFI\nProstor: Vajalnice PAFI
LOCATION:Vajalnice PAFI
ORGANIZER:Inštitut za patološko fiziologij PAFI
RELATED-TO:mf-AFLABS-URNIK:srecanje:2870
X-WR-TIMEZONE:Europe/Ljubljana
END:VEVENT
BEGIN:VEVENT
SUMMARY:Patofiziologija (PAFI)\, Seminar/vaje (S/V)\, [M3-13\, M3-14\, M3-
 15\, M3-16]
DTSTART;TZID=Europe/Ljubljana:20241001T160000
DTEND;TZID=Europe/Ljubljana:20241001T190000
DTSTAMP:20260420T063855Z
UID:mf-AFLABS-URNIK:premaknjeno-srecanje:16206
ATTENDEE:3. LETNIK (EMŠ M)
CATEGORIES:Entry,Special
COLOR:forestgreen
DESCRIPTION:Predmet: Patofiziologija (PAFI)\, Seminar/vaje (S/V)\, [M3-13\
 , M3-14\, M3-15\, M3-16]\nLetniki: 3. LETNIK (EMŠ M)\nIzvajalci: Inštitu
 t za patološko fiziologij PAFI\nProstor: Vajalnice PAFI
LOCATION:Vajalnice PAFI
ORGANIZER:Inštitut za patološko fiziologij PAFI
RELATED-TO:mf-AFLABS-URNIK:srecanje:2871
X-WR-TIMEZONE:Europe/Ljubljana
END:VEVENT
END:VCALENDAR
