BEGIN:VCALENDAR
VERSION:2.0
PRODID:-//AFLabs urnik izvoz - mf//aflabs.si//SI
DTSTAMP:20260420T075655Z
NAME:UL MF urnik
REFRESH-INTERVAL:PT1H
SOURCE:https://afurnik-mf.dev.aflabs.org/teacher/9?day=2024-09-09&export=1
URL:https://afurnik-mf.dev.aflabs.org/teacher/9?day=2024-09-09&export=1
X-PUBLISHED-TTL:PT1H
X-WR-CALNAME:UL MF urnik
X-WR-TIMEZONE:Europe/Ljubljana
BEGIN:VTIMEZONE
TZID:Europe/Ljubljana
BEGIN:DAYLIGHT
DTSTART:20260329T020000
RDATE:20260329T020000
RDATE:20270328T020000
TZNAME:CEST
TZOFFSETFROM:+0100
TZOFFSETTO:+0200
END:DAYLIGHT
BEGIN:STANDARD
DTSTART:20261025T030000
RDATE:20261025T030000
RDATE:20271031T030000
TZNAME:CET
TZOFFSETFROM:+0200
TZOFFSETTO:+0100
END:STANDARD
END:VTIMEZONE
BEGIN:VEVENT
SUMMARY:Patofiziologija (PAFI)\, Seminar/vaje (S/V)\, [M3-17\, M3-18\, M3-
 19\, M3-20]
DTSTART;TZID=Europe/Ljubljana:20241001T080000
DTEND;TZID=Europe/Ljubljana:20241001T110000
DTSTAMP:20260420T075655Z
UID:mf-AFLABS-URNIK:premaknjeno-srecanje:16182
ATTENDEE:3. LETNIK (EMŠ M)
CATEGORIES:Entry,Special
COLOR:forestgreen
DESCRIPTION:Predmet: Patofiziologija (PAFI)\, Seminar/vaje (S/V)\, [M3-17\
 , M3-18\, M3-19\, M3-20]\nLetniki: 3. LETNIK (EMŠ M)\nIzvajalci: Inštitu
 t za patološko fiziologij PAFI\nProstor: Vajalnice PAFI
LOCATION:Vajalnice PAFI
ORGANIZER:Inštitut za patološko fiziologij PAFI
RELATED-TO:mf-AFLABS-URNIK:srecanje:2869
X-WR-TIMEZONE:Europe/Ljubljana
END:VEVENT
BEGIN:VEVENT
SUMMARY:Patofiziologija (PAFI)\, Seminar/vaje (S/V)\, [M3-17\, M3-18\, M3-
 19\, M3-20]
DTSTART;TZID=Europe/Ljubljana:20241008T080000
DTEND;TZID=Europe/Ljubljana:20241008T110000
DTSTAMP:20260420T075655Z
UID:mf-AFLABS-URNIK:premaknjeno-srecanje:16183
ATTENDEE:3. LETNIK (EMŠ M)
CATEGORIES:Entry,Special
COLOR:forestgreen
DESCRIPTION:Predmet: Patofiziologija (PAFI)\, Seminar/vaje (S/V)\, [M3-17\
 , M3-18\, M3-19\, M3-20]\nLetniki: 3. LETNIK (EMŠ M)\nIzvajalci: Inštitu
 t za patološko fiziologij PAFI\nProstor: Vajalnice PAFI
LOCATION:Vajalnice PAFI
ORGANIZER:Inštitut za patološko fiziologij PAFI
RELATED-TO:mf-AFLABS-URNIK:srecanje:2869
X-WR-TIMEZONE:Europe/Ljubljana
END:VEVENT
BEGIN:VEVENT
SUMMARY:Patofiziologija (PAFI)\, Seminar/vaje (S/V)\, [M3-09\, M3-10\, M3-
 11\, M3-12]
DTSTART;TZID=Europe/Ljubljana:20241001T120000
DTEND;TZID=Europe/Ljubljana:20241001T150000
DTSTAMP:20260420T075655Z
UID:mf-AFLABS-URNIK:premaknjeno-srecanje:16194
ATTENDEE:3. LETNIK (EMŠ M)
CATEGORIES:Entry,Special
COLOR:forestgreen
DESCRIPTION:Predmet: Patofiziologija (PAFI)\, Seminar/vaje (S/V)\, [M3-09\
 , M3-10\, M3-11\, M3-12]\nLetniki: 3. LETNIK (EMŠ M)\nIzvajalci: Inštitu
 t za patološko fiziologij PAFI\nProstor: Vajalnice PAFI
LOCATION:Vajalnice PAFI
ORGANIZER:Inštitut za patološko fiziologij PAFI
RELATED-TO:mf-AFLABS-URNIK:srecanje:2870
X-WR-TIMEZONE:Europe/Ljubljana
END:VEVENT
BEGIN:VEVENT
SUMMARY:Patofiziologija (PAFI)\, Seminar/vaje (S/V)\, [M3-09\, M3-10\, M3-
 11\, M3-12]
DTSTART;TZID=Europe/Ljubljana:20241008T120000
DTEND;TZID=Europe/Ljubljana:20241008T150000
DTSTAMP:20260420T075655Z
UID:mf-AFLABS-URNIK:premaknjeno-srecanje:16195
ATTENDEE:3. LETNIK (EMŠ M)
CATEGORIES:Entry,Special
COLOR:forestgreen
DESCRIPTION:Predmet: Patofiziologija (PAFI)\, Seminar/vaje (S/V)\, [M3-09\
 , M3-10\, M3-11\, M3-12]\nLetniki: 3. LETNIK (EMŠ M)\nIzvajalci: Inštitu
 t za patološko fiziologij PAFI\nProstor: Vajalnice PAFI
LOCATION:Vajalnice PAFI
ORGANIZER:Inštitut za patološko fiziologij PAFI
RELATED-TO:mf-AFLABS-URNIK:srecanje:2870
X-WR-TIMEZONE:Europe/Ljubljana
END:VEVENT
BEGIN:VEVENT
SUMMARY:Patofiziologija (PAFI)\, Seminar/vaje (S/V)\, [M3-13\, M3-14\, M3-
 15\, M3-16]
DTSTART;TZID=Europe/Ljubljana:20241001T160000
DTEND;TZID=Europe/Ljubljana:20241001T190000
DTSTAMP:20260420T075655Z
UID:mf-AFLABS-URNIK:premaknjeno-srecanje:16206
ATTENDEE:3. LETNIK (EMŠ M)
CATEGORIES:Entry,Special
COLOR:forestgreen
DESCRIPTION:Predmet: Patofiziologija (PAFI)\, Seminar/vaje (S/V)\, [M3-13\
 , M3-14\, M3-15\, M3-16]\nLetniki: 3. LETNIK (EMŠ M)\nIzvajalci: Inštitu
 t za patološko fiziologij PAFI\nProstor: Vajalnice PAFI
LOCATION:Vajalnice PAFI
ORGANIZER:Inštitut za patološko fiziologij PAFI
RELATED-TO:mf-AFLABS-URNIK:srecanje:2871
X-WR-TIMEZONE:Europe/Ljubljana
END:VEVENT
BEGIN:VEVENT
SUMMARY:Patofiziologija (PAFI)\, Seminar/vaje (S/V)\, [M3-13\, M3-14\, M3-
 15\, M3-16]
DTSTART;TZID=Europe/Ljubljana:20241008T160000
DTEND;TZID=Europe/Ljubljana:20241008T190000
DTSTAMP:20260420T075655Z
UID:mf-AFLABS-URNIK:premaknjeno-srecanje:16207
ATTENDEE:3. LETNIK (EMŠ M)
CATEGORIES:Entry,Special
COLOR:forestgreen
DESCRIPTION:Predmet: Patofiziologija (PAFI)\, Seminar/vaje (S/V)\, [M3-13\
 , M3-14\, M3-15\, M3-16]\nLetniki: 3. LETNIK (EMŠ M)\nIzvajalci: Inštitu
 t za patološko fiziologij PAFI\nProstor: Vajalnice PAFI
LOCATION:Vajalnice PAFI
ORGANIZER:Inštitut za patološko fiziologij PAFI
RELATED-TO:mf-AFLABS-URNIK:srecanje:2871
X-WR-TIMEZONE:Europe/Ljubljana
END:VEVENT
BEGIN:VEVENT
SUMMARY:Patofiziologija (PAFI)\, Predavanje (P)
DTSTART;TZID=Europe/Ljubljana:20241002T180000
DTEND;TZID=Europe/Ljubljana:20241002T200000
DTSTAMP:20260420T075655Z
UID:mf-AFLABS-URNIK:premaknjeno-srecanje:16254
ATTENDEE:3. LETNIK (EMŠ M)
CATEGORIES:Entry,Special
COLOR:forestgreen
DESCRIPTION:Predmet: Patofiziologija (PAFI)\, Predavanje (P)\nLetniki: 3. 
 LETNIK (EMŠ M)\nIzvajalci: Inštitut za patološko fiziologij PAFI\nProst
 or: Pred - Velika - MF
LOCATION:Korytkova 2\, Pred - Velika - MF
ORGANIZER:Inštitut za patološko fiziologij PAFI
RELATED-TO:mf-AFLABS-URNIK:srecanje:2874
X-WR-TIMEZONE:Europe/Ljubljana
END:VEVENT
BEGIN:VEVENT
SUMMARY:Patofiziologija (PAFI)\, Predavanje (P)
DTSTART;TZID=Europe/Ljubljana:20241009T180000
DTEND;TZID=Europe/Ljubljana:20241009T200000
DTSTAMP:20260420T075655Z
UID:mf-AFLABS-URNIK:premaknjeno-srecanje:16255
ATTENDEE:3. LETNIK (EMŠ M)
CATEGORIES:Entry,Special
COLOR:forestgreen
DESCRIPTION:Predmet: Patofiziologija (PAFI)\, Predavanje (P)\nLetniki: 3. 
 LETNIK (EMŠ M)\nIzvajalci: Inštitut za patološko fiziologij PAFI\nProst
 or: Pred - Velika - MF
LOCATION:Korytkova 2\, Pred - Velika - MF
ORGANIZER:Inštitut za patološko fiziologij PAFI
RELATED-TO:mf-AFLABS-URNIK:srecanje:2874
X-WR-TIMEZONE:Europe/Ljubljana
END:VEVENT
BEGIN:VEVENT
SUMMARY:Patofiziologija za dentalno medicino (PAFIDM)\, Predavanje (P)
DTSTART;TZID=Europe/Ljubljana:20241003T180000
DTEND;TZID=Europe/Ljubljana:20241003T190000
DTSTAMP:20260420T075655Z
UID:mf-AFLABS-URNIK:premaknjeno-srecanje:15453
ATTENDEE:3. LETNIK (EMŠ DM)
CATEGORIES:Entry,Special
COLOR:forestgreen
DESCRIPTION:Predmet: Patofiziologija za dentalno medicino (PAFIDM)\, Preda
 vanje (P)\nLetniki: 3. LETNIK (EMŠ DM)\nIzvajalci: Inštitut za patološk
 o fiziologij PAFI\nProstor: Pred - Mala - MF
LOCATION:Korytkova 2\, Pred - Mala - MF
ORGANIZER:Inštitut za patološko fiziologij PAFI
RELATED-TO:mf-AFLABS-URNIK:srecanje:2705
X-WR-TIMEZONE:Europe/Ljubljana
END:VEVENT
BEGIN:VEVENT
SUMMARY:Patofiziologija za dentalno medicino (PAFIDM)\, Predavanje (P)
DTSTART;TZID=Europe/Ljubljana:20241010T180000
DTEND;TZID=Europe/Ljubljana:20241010T190000
DTSTAMP:20260420T075655Z
UID:mf-AFLABS-URNIK:premaknjeno-srecanje:15454
ATTENDEE:3. LETNIK (EMŠ DM)
CATEGORIES:Entry,Special
COLOR:forestgreen
DESCRIPTION:Predmet: Patofiziologija za dentalno medicino (PAFIDM)\, Preda
 vanje (P)\nLetniki: 3. LETNIK (EMŠ DM)\nIzvajalci: Inštitut za patološk
 o fiziologij PAFI\nProstor: Pred - Mala - MF
LOCATION:Korytkova 2\, Pred - Mala - MF
ORGANIZER:Inštitut za patološko fiziologij PAFI
RELATED-TO:mf-AFLABS-URNIK:srecanje:2705
X-WR-TIMEZONE:Europe/Ljubljana
END:VEVENT
BEGIN:VEVENT
SUMMARY:Patofiziologija za dentalno medicino (PAFIDM)\, Seminar/vaje (S/V)
 \, [D3-04\, D3-05\, D3-06]
DTSTART;TZID=Europe/Ljubljana:20241004T110000
DTEND;TZID=Europe/Ljubljana:20241004T140000
DTSTAMP:20260420T075655Z
UID:mf-AFLABS-URNIK:premaknjeno-srecanje:23651
ATTENDEE:3. LETNIK (EMŠ DM)
CATEGORIES:Entry,Standard
COLOR:darkgreen
DESCRIPTION:Predmet: Patofiziologija za dentalno medicino (PAFIDM)\, Semin
 ar/vaje (S/V)\, [D3-04\, D3-05\, D3-06]\nLetniki: 3. LETNIK (EMŠ DM)\nIzv
 ajalci: Inštitut za patološko fiziologij PAFI\nProstor: Vajalnice PAFI
LOCATION:Vajalnice PAFI
ORGANIZER:Inštitut za patološko fiziologij PAFI
RELATED-TO:mf-AFLABS-URNIK:srecanje:2706
X-WR-TIMEZONE:Europe/Ljubljana
END:VEVENT
BEGIN:VEVENT
SUMMARY:Patofiziologija za dentalno medicino (PAFIDM)\, Seminar/vaje (S/V)
 \, [D3-04\, D3-05\, D3-06]
DTSTART;TZID=Europe/Ljubljana:20241011T110000
DTEND;TZID=Europe/Ljubljana:20241011T140000
DTSTAMP:20260420T075655Z
UID:mf-AFLABS-URNIK:premaknjeno-srecanje:23652
ATTENDEE:3. LETNIK (EMŠ DM)
CATEGORIES:Entry,Standard
COLOR:darkgreen
DESCRIPTION:Predmet: Patofiziologija za dentalno medicino (PAFIDM)\, Semin
 ar/vaje (S/V)\, [D3-04\, D3-05\, D3-06]\nLetniki: 3. LETNIK (EMŠ DM)\nIzv
 ajalci: Inštitut za patološko fiziologij PAFI\nProstor: Vajalnice PAFI
LOCATION:Vajalnice PAFI
ORGANIZER:Inštitut za patološko fiziologij PAFI
RELATED-TO:mf-AFLABS-URNIK:srecanje:2706
X-WR-TIMEZONE:Europe/Ljubljana
END:VEVENT
BEGIN:VEVENT
SUMMARY:Patofiziologija za dentalno medicino (PAFIDM)\, Seminar/vaje (S/V)
 \, [D3-01\, D3-02\, D3-03]
DTSTART;TZID=Europe/Ljubljana:20241004T140000
DTEND;TZID=Europe/Ljubljana:20241004T170000
DTSTAMP:20260420T075655Z
UID:mf-AFLABS-URNIK:premaknjeno-srecanje:23694
ATTENDEE:3. LETNIK (EMŠ DM)
CATEGORIES:Entry,Standard
COLOR:darkgreen
DESCRIPTION:Predmet: Patofiziologija za dentalno medicino (PAFIDM)\, Semin
 ar/vaje (S/V)\, [D3-01\, D3-02\, D3-03]\nLetniki: 3. LETNIK (EMŠ DM)\nIzv
 ajalci: Inštitut za patološko fiziologij PAFI\nProstor: Vajalnice PAFI
LOCATION:Vajalnice PAFI
ORGANIZER:Inštitut za patološko fiziologij PAFI
RELATED-TO:mf-AFLABS-URNIK:srecanje:2707
X-WR-TIMEZONE:Europe/Ljubljana
END:VEVENT
BEGIN:VEVENT
SUMMARY:Patofiziologija za dentalno medicino (PAFIDM)\, Seminar/vaje (S/V)
 \, [D3-01\, D3-02\, D3-03]
DTSTART;TZID=Europe/Ljubljana:20241011T140000
DTEND;TZID=Europe/Ljubljana:20241011T170000
DTSTAMP:20260420T075655Z
UID:mf-AFLABS-URNIK:premaknjeno-srecanje:23695
ATTENDEE:3. LETNIK (EMŠ DM)
CATEGORIES:Entry,Standard
COLOR:darkgreen
DESCRIPTION:Predmet: Patofiziologija za dentalno medicino (PAFIDM)\, Semin
 ar/vaje (S/V)\, [D3-01\, D3-02\, D3-03]\nLetniki: 3. LETNIK (EMŠ DM)\nIzv
 ajalci: Inštitut za patološko fiziologij PAFI\nProstor: Vajalnice PAFI
LOCATION:Vajalnice PAFI
ORGANIZER:Inštitut za patološko fiziologij PAFI
RELATED-TO:mf-AFLABS-URNIK:srecanje:2707
X-WR-TIMEZONE:Europe/Ljubljana
END:VEVENT
BEGIN:VEVENT
SUMMARY:Patofiziologija (PAFI)\, Seminar/vaje (S/V)\, [M3-05\, M3-06\, M3-
 07\, M3-08]
DTSTART;TZID=Europe/Ljubljana:20241007T080000
DTEND;TZID=Europe/Ljubljana:20241007T110000
DTSTAMP:20260420T075655Z
UID:mf-AFLABS-URNIK:premaknjeno-srecanje:16278
ATTENDEE:3. LETNIK (EMŠ M)
CATEGORIES:Entry,Special
COLOR:forestgreen
DESCRIPTION:Predmet: Patofiziologija (PAFI)\, Seminar/vaje (S/V)\, [M3-05\
 , M3-06\, M3-07\, M3-08]\nLetniki: 3. LETNIK (EMŠ M)\nIzvajalci: Inštitu
 t za patološko fiziologij PAFI\nProstor: Vajalnice PAFI
LOCATION:Vajalnice PAFI
ORGANIZER:Inštitut za patološko fiziologij PAFI
RELATED-TO:mf-AFLABS-URNIK:srecanje:2876
X-WR-TIMEZONE:Europe/Ljubljana
END:VEVENT
BEGIN:VEVENT
SUMMARY:Patofiziologija (PAFI)\, Seminar/vaje (S/V)\, [M3-05\, M3-06\, M3-
 07\, M3-08]
DTSTART;TZID=Europe/Ljubljana:20241014T080000
DTEND;TZID=Europe/Ljubljana:20241014T110000
DTSTAMP:20260420T075655Z
UID:mf-AFLABS-URNIK:premaknjeno-srecanje:16279
ATTENDEE:3. LETNIK (EMŠ M)
CATEGORIES:Entry,Special
COLOR:forestgreen
DESCRIPTION:Predmet: Patofiziologija (PAFI)\, Seminar/vaje (S/V)\, [M3-05\
 , M3-06\, M3-07\, M3-08]\nLetniki: 3. LETNIK (EMŠ M)\nIzvajalci: Inštitu
 t za patološko fiziologij PAFI\nProstor: Vajalnice PAFI
LOCATION:Vajalnice PAFI
ORGANIZER:Inštitut za patološko fiziologij PAFI
RELATED-TO:mf-AFLABS-URNIK:srecanje:2876
X-WR-TIMEZONE:Europe/Ljubljana
END:VEVENT
BEGIN:VEVENT
SUMMARY:Patofiziologija (PAFI)\, Seminar/vaje (S/V)\, [M3-01\, M3-02\, M3-
 03\, M3-04]
DTSTART;TZID=Europe/Ljubljana:20241007T110000
DTEND;TZID=Europe/Ljubljana:20241007T140000
DTSTAMP:20260420T075655Z
UID:mf-AFLABS-URNIK:premaknjeno-srecanje:16290
ATTENDEE:3. LETNIK (EMŠ M)
CATEGORIES:Entry,Special
COLOR:forestgreen
DESCRIPTION:Predmet: Patofiziologija (PAFI)\, Seminar/vaje (S/V)\, [M3-01\
 , M3-02\, M3-03\, M3-04]\nLetniki: 3. LETNIK (EMŠ M)\nIzvajalci: Inštitu
 t za patološko fiziologij PAFI\nProstor: Vajalnice PAFI
LOCATION:Vajalnice PAFI
ORGANIZER:Inštitut za patološko fiziologij PAFI
RELATED-TO:mf-AFLABS-URNIK:srecanje:2877
X-WR-TIMEZONE:Europe/Ljubljana
END:VEVENT
BEGIN:VEVENT
SUMMARY:Patofiziologija (PAFI)\, Seminar/vaje (S/V)\, [M3-01\, M3-02\, M3-
 03\, M3-04]
DTSTART;TZID=Europe/Ljubljana:20241014T110000
DTEND;TZID=Europe/Ljubljana:20241014T140000
DTSTAMP:20260420T075655Z
UID:mf-AFLABS-URNIK:premaknjeno-srecanje:16291
ATTENDEE:3. LETNIK (EMŠ M)
CATEGORIES:Entry,Special
COLOR:forestgreen
DESCRIPTION:Predmet: Patofiziologija (PAFI)\, Seminar/vaje (S/V)\, [M3-01\
 , M3-02\, M3-03\, M3-04]\nLetniki: 3. LETNIK (EMŠ M)\nIzvajalci: Inštitu
 t za patološko fiziologij PAFI\nProstor: Vajalnice PAFI
LOCATION:Vajalnice PAFI
ORGANIZER:Inštitut za patološko fiziologij PAFI
RELATED-TO:mf-AFLABS-URNIK:srecanje:2877
X-WR-TIMEZONE:Europe/Ljubljana
END:VEVENT
END:VCALENDAR
